BEGIN:VCALENDAR
VERSION:2.0
PRODID:-//Yosemite Lakes Park - ECPv6.15.20//NONSGML v1.0//EN
CALSCALE:GREGORIAN
METHOD:PUBLISH
X-WR-CALNAME:Yosemite Lakes Park
X-ORIGINAL-URL:https://www.yosemitelakespark.org
X-WR-CALDESC:Events for Yosemite Lakes Park
REFRESH-INTERVAL;VALUE=DURATION:PT1H
X-Robots-Tag:noindex
X-PUBLISHED-TTL:PT1H
BEGIN:VTIMEZONE
TZID:America/Los_Angeles
BEGIN:DAYLIGHT
TZOFFSETFROM:-0800
TZOFFSETTO:-0700
TZNAME:PDT
DTSTART:20250309T100000
END:DAYLIGHT
BEGIN:STANDARD
TZOFFSETFROM:-0700
TZOFFSETTO:-0800
TZNAME:PST
DTSTART:20251102T090000
END:STANDARD
BEGIN:DAYLIGHT
TZOFFSETFROM:-0800
TZOFFSETTO:-0700
TZNAME:PDT
DTSTART:20260308T100000
END:DAYLIGHT
BEGIN:STANDARD
TZOFFSETFROM:-0700
TZOFFSETTO:-0800
TZNAME:PST
DTSTART:20261101T090000
END:STANDARD
BEGIN:DAYLIGHT
TZOFFSETFROM:-0800
TZOFFSETTO:-0700
TZNAME:PDT
DTSTART:20270314T100000
END:DAYLIGHT
BEGIN:STANDARD
TZOFFSETFROM:-0700
TZOFFSETTO:-0800
TZNAME:PST
DTSTART:20271107T090000
END:STANDARD
BEGIN:DAYLIGHT
TZOFFSETFROM:-0800
TZOFFSETTO:-0700
TZNAME:PDT
DTSTART:20280312T100000
END:DAYLIGHT
BEGIN:STANDARD
TZOFFSETFROM:-0700
TZOFFSETTO:-0800
TZNAME:PST
DTSTART:20281105T090000
END:STANDARD
END:VTIMEZONE
BEGIN:VEVENT
DTSTART;TZID=America/Los_Angeles:20261208T100000
DTEND;TZID=America/Los_Angeles:20261208T120000
DTSTAMP:20260422T223145
CREATED:20240813T185850Z
LAST-MODIFIED:20250711T233443Z
UID:10010823-1796724000-1796731200@www.yosemitelakespark.org
SUMMARY:Ladies Of The Lakes Librarian Work Hours
DESCRIPTION:10am – 12pm \nTuesday And Fridays In the Library
URL:https://www.yosemitelakespark.org/ylpevent/ladies-of-the-lakes-librarian-work-hours-2-2/2026-12-08/
LOCATION:Clubhouse\, 30250 Yosemite Springs Parkway\, Coarsegold\, CA\, 93614\, United States
CATEGORIES:Activity
GEO:37.18568;-119.76989
X-APPLE-STRUCTURED-LOCATION;VALUE=URI;X-ADDRESS=Clubhouse 30250 Yosemite Springs Parkway Coarsegold CA 93614 United States;X-APPLE-RADIUS=500;X-TITLE=30250 Yosemite Springs Parkway:geo:-119.76989,37.18568
END:VEVENT
BEGIN:VEVENT
DTSTART;TZID=America/Los_Angeles:20261211T100000
DTEND;TZID=America/Los_Angeles:20261211T120000
DTSTAMP:20260422T223145
CREATED:20240813T185850Z
LAST-MODIFIED:20250711T233443Z
UID:10009361-1796983200-1796990400@www.yosemitelakespark.org
SUMMARY:Ladies Of The Lakes Librarian Work Hours
DESCRIPTION:10am – 12pm \nTuesday And Fridays In the Library
URL:https://www.yosemitelakespark.org/ylpevent/ladies-of-the-lakes-librarian-work-hours-2-2/2026-12-11/
LOCATION:Clubhouse\, 30250 Yosemite Springs Parkway\, Coarsegold\, CA\, 93614\, United States
CATEGORIES:Activity
GEO:37.18568;-119.76989
X-APPLE-STRUCTURED-LOCATION;VALUE=URI;X-ADDRESS=Clubhouse 30250 Yosemite Springs Parkway Coarsegold CA 93614 United States;X-APPLE-RADIUS=500;X-TITLE=30250 Yosemite Springs Parkway:geo:-119.76989,37.18568
END:VEVENT
BEGIN:VEVENT
DTSTART;TZID=America/Los_Angeles:20261215T100000
DTEND;TZID=America/Los_Angeles:20261215T120000
DTSTAMP:20260422T223145
CREATED:20240813T185850Z
LAST-MODIFIED:20250711T233443Z
UID:10010824-1797328800-1797336000@www.yosemitelakespark.org
SUMMARY:Ladies Of The Lakes Librarian Work Hours
DESCRIPTION:10am – 12pm \nTuesday And Fridays In the Library
URL:https://www.yosemitelakespark.org/ylpevent/ladies-of-the-lakes-librarian-work-hours-2-2/2026-12-15/
LOCATION:Clubhouse\, 30250 Yosemite Springs Parkway\, Coarsegold\, CA\, 93614\, United States
CATEGORIES:Activity
GEO:37.18568;-119.76989
X-APPLE-STRUCTURED-LOCATION;VALUE=URI;X-ADDRESS=Clubhouse 30250 Yosemite Springs Parkway Coarsegold CA 93614 United States;X-APPLE-RADIUS=500;X-TITLE=30250 Yosemite Springs Parkway:geo:-119.76989,37.18568
END:VEVENT
BEGIN:VEVENT
DTSTART;TZID=America/Los_Angeles:20261218T100000
DTEND;TZID=America/Los_Angeles:20261218T120000
DTSTAMP:20260422T223145
CREATED:20240813T185850Z
LAST-MODIFIED:20250711T233443Z
UID:10009362-1797588000-1797595200@www.yosemitelakespark.org
SUMMARY:Ladies Of The Lakes Librarian Work Hours
DESCRIPTION:10am – 12pm \nTuesday And Fridays In the Library
URL:https://www.yosemitelakespark.org/ylpevent/ladies-of-the-lakes-librarian-work-hours-2-2/2026-12-18/
LOCATION:Clubhouse\, 30250 Yosemite Springs Parkway\, Coarsegold\, CA\, 93614\, United States
CATEGORIES:Activity
GEO:37.18568;-119.76989
X-APPLE-STRUCTURED-LOCATION;VALUE=URI;X-ADDRESS=Clubhouse 30250 Yosemite Springs Parkway Coarsegold CA 93614 United States;X-APPLE-RADIUS=500;X-TITLE=30250 Yosemite Springs Parkway:geo:-119.76989,37.18568
END:VEVENT
BEGIN:VEVENT
DTSTART;TZID=America/Los_Angeles:20261222T100000
DTEND;TZID=America/Los_Angeles:20261222T120000
DTSTAMP:20260422T223145
CREATED:20240813T185850Z
LAST-MODIFIED:20250711T233443Z
UID:10010825-1797933600-1797940800@www.yosemitelakespark.org
SUMMARY:Ladies Of The Lakes Librarian Work Hours
DESCRIPTION:10am – 12pm \nTuesday And Fridays In the Library
URL:https://www.yosemitelakespark.org/ylpevent/ladies-of-the-lakes-librarian-work-hours-2-2/2026-12-22/
LOCATION:Clubhouse\, 30250 Yosemite Springs Parkway\, Coarsegold\, CA\, 93614\, United States
CATEGORIES:Activity
GEO:37.18568;-119.76989
X-APPLE-STRUCTURED-LOCATION;VALUE=URI;X-ADDRESS=Clubhouse 30250 Yosemite Springs Parkway Coarsegold CA 93614 United States;X-APPLE-RADIUS=500;X-TITLE=30250 Yosemite Springs Parkway:geo:-119.76989,37.18568
END:VEVENT
BEGIN:VEVENT
DTSTART;TZID=America/Los_Angeles:20261225T100000
DTEND;TZID=America/Los_Angeles:20261225T120000
DTSTAMP:20260422T223145
CREATED:20240813T185850Z
LAST-MODIFIED:20250711T233443Z
UID:10009363-1798192800-1798200000@www.yosemitelakespark.org
SUMMARY:Ladies Of The Lakes Librarian Work Hours
DESCRIPTION:10am – 12pm \nTuesday And Fridays In the Library
URL:https://www.yosemitelakespark.org/ylpevent/ladies-of-the-lakes-librarian-work-hours-2-2/2026-12-25/
LOCATION:Clubhouse\, 30250 Yosemite Springs Parkway\, Coarsegold\, CA\, 93614\, United States
CATEGORIES:Activity
GEO:37.18568;-119.76989
X-APPLE-STRUCTURED-LOCATION;VALUE=URI;X-ADDRESS=Clubhouse 30250 Yosemite Springs Parkway Coarsegold CA 93614 United States;X-APPLE-RADIUS=500;X-TITLE=30250 Yosemite Springs Parkway:geo:-119.76989,37.18568
END:VEVENT
BEGIN:VEVENT
DTSTART;TZID=America/Los_Angeles:20261229T100000
DTEND;TZID=America/Los_Angeles:20261229T120000
DTSTAMP:20260422T223145
CREATED:20240813T185850Z
LAST-MODIFIED:20250711T233443Z
UID:10010826-1798538400-1798545600@www.yosemitelakespark.org
SUMMARY:Ladies Of The Lakes Librarian Work Hours
DESCRIPTION:10am – 12pm \nTuesday And Fridays In the Library
URL:https://www.yosemitelakespark.org/ylpevent/ladies-of-the-lakes-librarian-work-hours-2-2/2026-12-29/
LOCATION:Clubhouse\, 30250 Yosemite Springs Parkway\, Coarsegold\, CA\, 93614\, United States
CATEGORIES:Activity
GEO:37.18568;-119.76989
X-APPLE-STRUCTURED-LOCATION;VALUE=URI;X-ADDRESS=Clubhouse 30250 Yosemite Springs Parkway Coarsegold CA 93614 United States;X-APPLE-RADIUS=500;X-TITLE=30250 Yosemite Springs Parkway:geo:-119.76989,37.18568
END:VEVENT
BEGIN:VEVENT
DTSTART;TZID=America/Los_Angeles:20270101T100000
DTEND;TZID=America/Los_Angeles:20270101T120000
DTSTAMP:20260422T223145
CREATED:20240813T185850Z
LAST-MODIFIED:20250711T233443Z
UID:10009364-1798797600-1798804800@www.yosemitelakespark.org
SUMMARY:Ladies Of The Lakes Librarian Work Hours
DESCRIPTION:10am – 12pm \nTuesday And Fridays In the Library
URL:https://www.yosemitelakespark.org/ylpevent/ladies-of-the-lakes-librarian-work-hours-2-2/2027-01-01/
LOCATION:Clubhouse\, 30250 Yosemite Springs Parkway\, Coarsegold\, CA\, 93614\, United States
CATEGORIES:Activity
GEO:37.18568;-119.76989
X-APPLE-STRUCTURED-LOCATION;VALUE=URI;X-ADDRESS=Clubhouse 30250 Yosemite Springs Parkway Coarsegold CA 93614 United States;X-APPLE-RADIUS=500;X-TITLE=30250 Yosemite Springs Parkway:geo:-119.76989,37.18568
END:VEVENT
BEGIN:VEVENT
DTSTART;TZID=America/Los_Angeles:20270105T100000
DTEND;TZID=America/Los_Angeles:20270105T120000
DTSTAMP:20260422T223145
CREATED:20240813T185850Z
LAST-MODIFIED:20250711T233443Z
UID:10010827-1799143200-1799150400@www.yosemitelakespark.org
SUMMARY:Ladies Of The Lakes Librarian Work Hours
DESCRIPTION:10am – 12pm \nTuesday And Fridays In the Library
URL:https://www.yosemitelakespark.org/ylpevent/ladies-of-the-lakes-librarian-work-hours-2-2/2027-01-05/
LOCATION:Clubhouse\, 30250 Yosemite Springs Parkway\, Coarsegold\, CA\, 93614\, United States
CATEGORIES:Activity
GEO:37.18568;-119.76989
X-APPLE-STRUCTURED-LOCATION;VALUE=URI;X-ADDRESS=Clubhouse 30250 Yosemite Springs Parkway Coarsegold CA 93614 United States;X-APPLE-RADIUS=500;X-TITLE=30250 Yosemite Springs Parkway:geo:-119.76989,37.18568
END:VEVENT
BEGIN:VEVENT
DTSTART;TZID=America/Los_Angeles:20270108T100000
DTEND;TZID=America/Los_Angeles:20270108T120000
DTSTAMP:20260422T223145
CREATED:20240813T185850Z
LAST-MODIFIED:20250711T233443Z
UID:10009365-1799402400-1799409600@www.yosemitelakespark.org
SUMMARY:Ladies Of The Lakes Librarian Work Hours
DESCRIPTION:10am – 12pm \nTuesday And Fridays In the Library
URL:https://www.yosemitelakespark.org/ylpevent/ladies-of-the-lakes-librarian-work-hours-2-2/2027-01-08/
LOCATION:Clubhouse\, 30250 Yosemite Springs Parkway\, Coarsegold\, CA\, 93614\, United States
CATEGORIES:Activity
GEO:37.18568;-119.76989
X-APPLE-STRUCTURED-LOCATION;VALUE=URI;X-ADDRESS=Clubhouse 30250 Yosemite Springs Parkway Coarsegold CA 93614 United States;X-APPLE-RADIUS=500;X-TITLE=30250 Yosemite Springs Parkway:geo:-119.76989,37.18568
END:VEVENT
BEGIN:VEVENT
DTSTART;TZID=America/Los_Angeles:20270112T100000
DTEND;TZID=America/Los_Angeles:20270112T120000
DTSTAMP:20260422T223145
CREATED:20240813T185850Z
LAST-MODIFIED:20250711T233443Z
UID:10010828-1799748000-1799755200@www.yosemitelakespark.org
SUMMARY:Ladies Of The Lakes Librarian Work Hours
DESCRIPTION:10am – 12pm \nTuesday And Fridays In the Library
URL:https://www.yosemitelakespark.org/ylpevent/ladies-of-the-lakes-librarian-work-hours-2-2/2027-01-12/
LOCATION:Clubhouse\, 30250 Yosemite Springs Parkway\, Coarsegold\, CA\, 93614\, United States
CATEGORIES:Activity
GEO:37.18568;-119.76989
X-APPLE-STRUCTURED-LOCATION;VALUE=URI;X-ADDRESS=Clubhouse 30250 Yosemite Springs Parkway Coarsegold CA 93614 United States;X-APPLE-RADIUS=500;X-TITLE=30250 Yosemite Springs Parkway:geo:-119.76989,37.18568
END:VEVENT
BEGIN:VEVENT
DTSTART;TZID=America/Los_Angeles:20270115T100000
DTEND;TZID=America/Los_Angeles:20270115T120000
DTSTAMP:20260422T223145
CREATED:20240813T185850Z
LAST-MODIFIED:20250711T233443Z
UID:10009366-1800007200-1800014400@www.yosemitelakespark.org
SUMMARY:Ladies Of The Lakes Librarian Work Hours
DESCRIPTION:10am – 12pm \nTuesday And Fridays In the Library
URL:https://www.yosemitelakespark.org/ylpevent/ladies-of-the-lakes-librarian-work-hours-2-2/2027-01-15/
LOCATION:Clubhouse\, 30250 Yosemite Springs Parkway\, Coarsegold\, CA\, 93614\, United States
CATEGORIES:Activity
GEO:37.18568;-119.76989
X-APPLE-STRUCTURED-LOCATION;VALUE=URI;X-ADDRESS=Clubhouse 30250 Yosemite Springs Parkway Coarsegold CA 93614 United States;X-APPLE-RADIUS=500;X-TITLE=30250 Yosemite Springs Parkway:geo:-119.76989,37.18568
END:VEVENT
BEGIN:VEVENT
DTSTART;TZID=America/Los_Angeles:20270119T100000
DTEND;TZID=America/Los_Angeles:20270119T120000
DTSTAMP:20260422T223145
CREATED:20240813T185850Z
LAST-MODIFIED:20250711T233443Z
UID:10010829-1800352800-1800360000@www.yosemitelakespark.org
SUMMARY:Ladies Of The Lakes Librarian Work Hours
DESCRIPTION:10am – 12pm \nTuesday And Fridays In the Library
URL:https://www.yosemitelakespark.org/ylpevent/ladies-of-the-lakes-librarian-work-hours-2-2/2027-01-19/
LOCATION:Clubhouse\, 30250 Yosemite Springs Parkway\, Coarsegold\, CA\, 93614\, United States
CATEGORIES:Activity
GEO:37.18568;-119.76989
X-APPLE-STRUCTURED-LOCATION;VALUE=URI;X-ADDRESS=Clubhouse 30250 Yosemite Springs Parkway Coarsegold CA 93614 United States;X-APPLE-RADIUS=500;X-TITLE=30250 Yosemite Springs Parkway:geo:-119.76989,37.18568
END:VEVENT
BEGIN:VEVENT
DTSTART;TZID=America/Los_Angeles:20270122T100000
DTEND;TZID=America/Los_Angeles:20270122T120000
DTSTAMP:20260422T223145
CREATED:20240813T185850Z
LAST-MODIFIED:20250711T233443Z
UID:10009367-1800612000-1800619200@www.yosemitelakespark.org
SUMMARY:Ladies Of The Lakes Librarian Work Hours
DESCRIPTION:10am – 12pm \nTuesday And Fridays In the Library
URL:https://www.yosemitelakespark.org/ylpevent/ladies-of-the-lakes-librarian-work-hours-2-2/2027-01-22/
LOCATION:Clubhouse\, 30250 Yosemite Springs Parkway\, Coarsegold\, CA\, 93614\, United States
CATEGORIES:Activity
GEO:37.18568;-119.76989
X-APPLE-STRUCTURED-LOCATION;VALUE=URI;X-ADDRESS=Clubhouse 30250 Yosemite Springs Parkway Coarsegold CA 93614 United States;X-APPLE-RADIUS=500;X-TITLE=30250 Yosemite Springs Parkway:geo:-119.76989,37.18568
END:VEVENT
BEGIN:VEVENT
DTSTART;TZID=America/Los_Angeles:20270126T100000
DTEND;TZID=America/Los_Angeles:20270126T120000
DTSTAMP:20260422T223145
CREATED:20240813T185850Z
LAST-MODIFIED:20250711T233443Z
UID:10010830-1800957600-1800964800@www.yosemitelakespark.org
SUMMARY:Ladies Of The Lakes Librarian Work Hours
DESCRIPTION:10am – 12pm \nTuesday And Fridays In the Library
URL:https://www.yosemitelakespark.org/ylpevent/ladies-of-the-lakes-librarian-work-hours-2-2/2027-01-26/
LOCATION:Clubhouse\, 30250 Yosemite Springs Parkway\, Coarsegold\, CA\, 93614\, United States
CATEGORIES:Activity
GEO:37.18568;-119.76989
X-APPLE-STRUCTURED-LOCATION;VALUE=URI;X-ADDRESS=Clubhouse 30250 Yosemite Springs Parkway Coarsegold CA 93614 United States;X-APPLE-RADIUS=500;X-TITLE=30250 Yosemite Springs Parkway:geo:-119.76989,37.18568
END:VEVENT
BEGIN:VEVENT
DTSTART;TZID=America/Los_Angeles:20270129T100000
DTEND;TZID=America/Los_Angeles:20270129T120000
DTSTAMP:20260422T223145
CREATED:20240813T185850Z
LAST-MODIFIED:20250711T233443Z
UID:10009368-1801216800-1801224000@www.yosemitelakespark.org
SUMMARY:Ladies Of The Lakes Librarian Work Hours
DESCRIPTION:10am – 12pm \nTuesday And Fridays In the Library
URL:https://www.yosemitelakespark.org/ylpevent/ladies-of-the-lakes-librarian-work-hours-2-2/2027-01-29/
LOCATION:Clubhouse\, 30250 Yosemite Springs Parkway\, Coarsegold\, CA\, 93614\, United States
CATEGORIES:Activity
GEO:37.18568;-119.76989
X-APPLE-STRUCTURED-LOCATION;VALUE=URI;X-ADDRESS=Clubhouse 30250 Yosemite Springs Parkway Coarsegold CA 93614 United States;X-APPLE-RADIUS=500;X-TITLE=30250 Yosemite Springs Parkway:geo:-119.76989,37.18568
END:VEVENT
BEGIN:VEVENT
DTSTART;TZID=America/Los_Angeles:20270202T100000
DTEND;TZID=America/Los_Angeles:20270202T120000
DTSTAMP:20260422T223145
CREATED:20240813T185850Z
LAST-MODIFIED:20250711T233443Z
UID:10010831-1801562400-1801569600@www.yosemitelakespark.org
SUMMARY:Ladies Of The Lakes Librarian Work Hours
DESCRIPTION:10am – 12pm \nTuesday And Fridays In the Library
URL:https://www.yosemitelakespark.org/ylpevent/ladies-of-the-lakes-librarian-work-hours-2-2/2027-02-02/
LOCATION:Clubhouse\, 30250 Yosemite Springs Parkway\, Coarsegold\, CA\, 93614\, United States
CATEGORIES:Activity
GEO:37.18568;-119.76989
X-APPLE-STRUCTURED-LOCATION;VALUE=URI;X-ADDRESS=Clubhouse 30250 Yosemite Springs Parkway Coarsegold CA 93614 United States;X-APPLE-RADIUS=500;X-TITLE=30250 Yosemite Springs Parkway:geo:-119.76989,37.18568
END:VEVENT
BEGIN:VEVENT
DTSTART;TZID=America/Los_Angeles:20270205T100000
DTEND;TZID=America/Los_Angeles:20270205T120000
DTSTAMP:20260422T223145
CREATED:20240813T185850Z
LAST-MODIFIED:20250711T233443Z
UID:10009369-1801821600-1801828800@www.yosemitelakespark.org
SUMMARY:Ladies Of The Lakes Librarian Work Hours
DESCRIPTION:10am – 12pm \nTuesday And Fridays In the Library
URL:https://www.yosemitelakespark.org/ylpevent/ladies-of-the-lakes-librarian-work-hours-2-2/2027-02-05/
LOCATION:Clubhouse\, 30250 Yosemite Springs Parkway\, Coarsegold\, CA\, 93614\, United States
CATEGORIES:Activity
GEO:37.18568;-119.76989
X-APPLE-STRUCTURED-LOCATION;VALUE=URI;X-ADDRESS=Clubhouse 30250 Yosemite Springs Parkway Coarsegold CA 93614 United States;X-APPLE-RADIUS=500;X-TITLE=30250 Yosemite Springs Parkway:geo:-119.76989,37.18568
END:VEVENT
BEGIN:VEVENT
DTSTART;TZID=America/Los_Angeles:20270209T100000
DTEND;TZID=America/Los_Angeles:20270209T120000
DTSTAMP:20260422T223145
CREATED:20240813T185850Z
LAST-MODIFIED:20250711T233443Z
UID:10010832-1802167200-1802174400@www.yosemitelakespark.org
SUMMARY:Ladies Of The Lakes Librarian Work Hours
DESCRIPTION:10am – 12pm \nTuesday And Fridays In the Library
URL:https://www.yosemitelakespark.org/ylpevent/ladies-of-the-lakes-librarian-work-hours-2-2/2027-02-09/
LOCATION:Clubhouse\, 30250 Yosemite Springs Parkway\, Coarsegold\, CA\, 93614\, United States
CATEGORIES:Activity
GEO:37.18568;-119.76989
X-APPLE-STRUCTURED-LOCATION;VALUE=URI;X-ADDRESS=Clubhouse 30250 Yosemite Springs Parkway Coarsegold CA 93614 United States;X-APPLE-RADIUS=500;X-TITLE=30250 Yosemite Springs Parkway:geo:-119.76989,37.18568
END:VEVENT
BEGIN:VEVENT
DTSTART;TZID=America/Los_Angeles:20270212T100000
DTEND;TZID=America/Los_Angeles:20270212T120000
DTSTAMP:20260422T223145
CREATED:20240813T185850Z
LAST-MODIFIED:20250711T233443Z
UID:10009370-1802426400-1802433600@www.yosemitelakespark.org
SUMMARY:Ladies Of The Lakes Librarian Work Hours
DESCRIPTION:10am – 12pm \nTuesday And Fridays In the Library
URL:https://www.yosemitelakespark.org/ylpevent/ladies-of-the-lakes-librarian-work-hours-2-2/2027-02-12/
LOCATION:Clubhouse\, 30250 Yosemite Springs Parkway\, Coarsegold\, CA\, 93614\, United States
CATEGORIES:Activity
GEO:37.18568;-119.76989
X-APPLE-STRUCTURED-LOCATION;VALUE=URI;X-ADDRESS=Clubhouse 30250 Yosemite Springs Parkway Coarsegold CA 93614 United States;X-APPLE-RADIUS=500;X-TITLE=30250 Yosemite Springs Parkway:geo:-119.76989,37.18568
END:VEVENT
BEGIN:VEVENT
DTSTART;TZID=America/Los_Angeles:20270216T100000
DTEND;TZID=America/Los_Angeles:20270216T120000
DTSTAMP:20260422T223145
CREATED:20240813T185850Z
LAST-MODIFIED:20250711T233443Z
UID:10010833-1802772000-1802779200@www.yosemitelakespark.org
SUMMARY:Ladies Of The Lakes Librarian Work Hours
DESCRIPTION:10am – 12pm \nTuesday And Fridays In the Library
URL:https://www.yosemitelakespark.org/ylpevent/ladies-of-the-lakes-librarian-work-hours-2-2/2027-02-16/
LOCATION:Clubhouse\, 30250 Yosemite Springs Parkway\, Coarsegold\, CA\, 93614\, United States
CATEGORIES:Activity
GEO:37.18568;-119.76989
X-APPLE-STRUCTURED-LOCATION;VALUE=URI;X-ADDRESS=Clubhouse 30250 Yosemite Springs Parkway Coarsegold CA 93614 United States;X-APPLE-RADIUS=500;X-TITLE=30250 Yosemite Springs Parkway:geo:-119.76989,37.18568
END:VEVENT
BEGIN:VEVENT
DTSTART;TZID=America/Los_Angeles:20270219T100000
DTEND;TZID=America/Los_Angeles:20270219T120000
DTSTAMP:20260422T223145
CREATED:20240813T185850Z
LAST-MODIFIED:20250711T233443Z
UID:10009371-1803031200-1803038400@www.yosemitelakespark.org
SUMMARY:Ladies Of The Lakes Librarian Work Hours
DESCRIPTION:10am – 12pm \nTuesday And Fridays In the Library
URL:https://www.yosemitelakespark.org/ylpevent/ladies-of-the-lakes-librarian-work-hours-2-2/2027-02-19/
LOCATION:Clubhouse\, 30250 Yosemite Springs Parkway\, Coarsegold\, CA\, 93614\, United States
CATEGORIES:Activity
GEO:37.18568;-119.76989
X-APPLE-STRUCTURED-LOCATION;VALUE=URI;X-ADDRESS=Clubhouse 30250 Yosemite Springs Parkway Coarsegold CA 93614 United States;X-APPLE-RADIUS=500;X-TITLE=30250 Yosemite Springs Parkway:geo:-119.76989,37.18568
END:VEVENT
BEGIN:VEVENT
DTSTART;TZID=America/Los_Angeles:20270223T100000
DTEND;TZID=America/Los_Angeles:20270223T120000
DTSTAMP:20260422T223145
CREATED:20240813T185850Z
LAST-MODIFIED:20250711T233443Z
UID:10010834-1803376800-1803384000@www.yosemitelakespark.org
SUMMARY:Ladies Of The Lakes Librarian Work Hours
DESCRIPTION:10am – 12pm \nTuesday And Fridays In the Library
URL:https://www.yosemitelakespark.org/ylpevent/ladies-of-the-lakes-librarian-work-hours-2-2/2027-02-23/
LOCATION:Clubhouse\, 30250 Yosemite Springs Parkway\, Coarsegold\, CA\, 93614\, United States
CATEGORIES:Activity
GEO:37.18568;-119.76989
X-APPLE-STRUCTURED-LOCATION;VALUE=URI;X-ADDRESS=Clubhouse 30250 Yosemite Springs Parkway Coarsegold CA 93614 United States;X-APPLE-RADIUS=500;X-TITLE=30250 Yosemite Springs Parkway:geo:-119.76989,37.18568
END:VEVENT
BEGIN:VEVENT
DTSTART;TZID=America/Los_Angeles:20270226T100000
DTEND;TZID=America/Los_Angeles:20270226T120000
DTSTAMP:20260422T223145
CREATED:20240813T185850Z
LAST-MODIFIED:20250711T233443Z
UID:10009372-1803636000-1803643200@www.yosemitelakespark.org
SUMMARY:Ladies Of The Lakes Librarian Work Hours
DESCRIPTION:10am – 12pm \nTuesday And Fridays In the Library
URL:https://www.yosemitelakespark.org/ylpevent/ladies-of-the-lakes-librarian-work-hours-2-2/2027-02-26/
LOCATION:Clubhouse\, 30250 Yosemite Springs Parkway\, Coarsegold\, CA\, 93614\, United States
CATEGORIES:Activity
GEO:37.18568;-119.76989
X-APPLE-STRUCTURED-LOCATION;VALUE=URI;X-ADDRESS=Clubhouse 30250 Yosemite Springs Parkway Coarsegold CA 93614 United States;X-APPLE-RADIUS=500;X-TITLE=30250 Yosemite Springs Parkway:geo:-119.76989,37.18568
END:VEVENT
BEGIN:VEVENT
DTSTART;TZID=America/Los_Angeles:20270302T100000
DTEND;TZID=America/Los_Angeles:20270302T120000
DTSTAMP:20260422T223145
CREATED:20240813T185850Z
LAST-MODIFIED:20250711T233443Z
UID:10010835-1803981600-1803988800@www.yosemitelakespark.org
SUMMARY:Ladies Of The Lakes Librarian Work Hours
DESCRIPTION:10am – 12pm \nTuesday And Fridays In the Library
URL:https://www.yosemitelakespark.org/ylpevent/ladies-of-the-lakes-librarian-work-hours-2-2/2027-03-02/
LOCATION:Clubhouse\, 30250 Yosemite Springs Parkway\, Coarsegold\, CA\, 93614\, United States
CATEGORIES:Activity
GEO:37.18568;-119.76989
X-APPLE-STRUCTURED-LOCATION;VALUE=URI;X-ADDRESS=Clubhouse 30250 Yosemite Springs Parkway Coarsegold CA 93614 United States;X-APPLE-RADIUS=500;X-TITLE=30250 Yosemite Springs Parkway:geo:-119.76989,37.18568
END:VEVENT
BEGIN:VEVENT
DTSTART;TZID=America/Los_Angeles:20270305T100000
DTEND;TZID=America/Los_Angeles:20270305T120000
DTSTAMP:20260422T223145
CREATED:20240813T185850Z
LAST-MODIFIED:20250711T233443Z
UID:10009373-1804240800-1804248000@www.yosemitelakespark.org
SUMMARY:Ladies Of The Lakes Librarian Work Hours
DESCRIPTION:10am – 12pm \nTuesday And Fridays In the Library
URL:https://www.yosemitelakespark.org/ylpevent/ladies-of-the-lakes-librarian-work-hours-2-2/2027-03-05/
LOCATION:Clubhouse\, 30250 Yosemite Springs Parkway\, Coarsegold\, CA\, 93614\, United States
CATEGORIES:Activity
GEO:37.18568;-119.76989
X-APPLE-STRUCTURED-LOCATION;VALUE=URI;X-ADDRESS=Clubhouse 30250 Yosemite Springs Parkway Coarsegold CA 93614 United States;X-APPLE-RADIUS=500;X-TITLE=30250 Yosemite Springs Parkway:geo:-119.76989,37.18568
END:VEVENT
BEGIN:VEVENT
DTSTART;TZID=America/Los_Angeles:20270309T100000
DTEND;TZID=America/Los_Angeles:20270309T120000
DTSTAMP:20260422T223145
CREATED:20240813T185850Z
LAST-MODIFIED:20250711T233443Z
UID:10010836-1804586400-1804593600@www.yosemitelakespark.org
SUMMARY:Ladies Of The Lakes Librarian Work Hours
DESCRIPTION:10am – 12pm \nTuesday And Fridays In the Library
URL:https://www.yosemitelakespark.org/ylpevent/ladies-of-the-lakes-librarian-work-hours-2-2/2027-03-09/
LOCATION:Clubhouse\, 30250 Yosemite Springs Parkway\, Coarsegold\, CA\, 93614\, United States
CATEGORIES:Activity
GEO:37.18568;-119.76989
X-APPLE-STRUCTURED-LOCATION;VALUE=URI;X-ADDRESS=Clubhouse 30250 Yosemite Springs Parkway Coarsegold CA 93614 United States;X-APPLE-RADIUS=500;X-TITLE=30250 Yosemite Springs Parkway:geo:-119.76989,37.18568
END:VEVENT
BEGIN:VEVENT
DTSTART;TZID=America/Los_Angeles:20270312T100000
DTEND;TZID=America/Los_Angeles:20270312T120000
DTSTAMP:20260422T223145
CREATED:20240813T185850Z
LAST-MODIFIED:20250711T233443Z
UID:10009374-1804845600-1804852800@www.yosemitelakespark.org
SUMMARY:Ladies Of The Lakes Librarian Work Hours
DESCRIPTION:10am – 12pm \nTuesday And Fridays In the Library
URL:https://www.yosemitelakespark.org/ylpevent/ladies-of-the-lakes-librarian-work-hours-2-2/2027-03-12/
LOCATION:Clubhouse\, 30250 Yosemite Springs Parkway\, Coarsegold\, CA\, 93614\, United States
CATEGORIES:Activity
GEO:37.18568;-119.76989
X-APPLE-STRUCTURED-LOCATION;VALUE=URI;X-ADDRESS=Clubhouse 30250 Yosemite Springs Parkway Coarsegold CA 93614 United States;X-APPLE-RADIUS=500;X-TITLE=30250 Yosemite Springs Parkway:geo:-119.76989,37.18568
END:VEVENT
BEGIN:VEVENT
DTSTART;TZID=America/Los_Angeles:20270316T100000
DTEND;TZID=America/Los_Angeles:20270316T120000
DTSTAMP:20260422T223145
CREATED:20240813T185850Z
LAST-MODIFIED:20250711T233443Z
UID:10010837-1805191200-1805198400@www.yosemitelakespark.org
SUMMARY:Ladies Of The Lakes Librarian Work Hours
DESCRIPTION:10am – 12pm \nTuesday And Fridays In the Library
URL:https://www.yosemitelakespark.org/ylpevent/ladies-of-the-lakes-librarian-work-hours-2-2/2027-03-16/
LOCATION:Clubhouse\, 30250 Yosemite Springs Parkway\, Coarsegold\, CA\, 93614\, United States
CATEGORIES:Activity
GEO:37.18568;-119.76989
X-APPLE-STRUCTURED-LOCATION;VALUE=URI;X-ADDRESS=Clubhouse 30250 Yosemite Springs Parkway Coarsegold CA 93614 United States;X-APPLE-RADIUS=500;X-TITLE=30250 Yosemite Springs Parkway:geo:-119.76989,37.18568
END:VEVENT
BEGIN:VEVENT
DTSTART;TZID=America/Los_Angeles:20270319T100000
DTEND;TZID=America/Los_Angeles:20270319T120000
DTSTAMP:20260422T223145
CREATED:20240813T185850Z
LAST-MODIFIED:20250711T233443Z
UID:10009375-1805450400-1805457600@www.yosemitelakespark.org
SUMMARY:Ladies Of The Lakes Librarian Work Hours
DESCRIPTION:10am – 12pm \nTuesday And Fridays In the Library
URL:https://www.yosemitelakespark.org/ylpevent/ladies-of-the-lakes-librarian-work-hours-2-2/2027-03-19/
LOCATION:Clubhouse\, 30250 Yosemite Springs Parkway\, Coarsegold\, CA\, 93614\, United States
CATEGORIES:Activity
GEO:37.18568;-119.76989
X-APPLE-STRUCTURED-LOCATION;VALUE=URI;X-ADDRESS=Clubhouse 30250 Yosemite Springs Parkway Coarsegold CA 93614 United States;X-APPLE-RADIUS=500;X-TITLE=30250 Yosemite Springs Parkway:geo:-119.76989,37.18568
END:VEVENT
END:VCALENDAR