BEGIN:VCALENDAR
VERSION:2.0
PRODID:-//Yosemite Lakes Park - ECPv6.15.20//NONSGML v1.0//EN
CALSCALE:GREGORIAN
METHOD:PUBLISH
X-WR-CALNAME:Yosemite Lakes Park
X-ORIGINAL-URL:https://www.yosemitelakespark.org
X-WR-CALDESC:Events for Yosemite Lakes Park
REFRESH-INTERVAL;VALUE=DURATION:PT1H
X-Robots-Tag:noindex
X-PUBLISHED-TTL:PT1H
BEGIN:VTIMEZONE
TZID:America/Los_Angeles
BEGIN:DAYLIGHT
TZOFFSETFROM:-0800
TZOFFSETTO:-0700
TZNAME:PDT
DTSTART:20250309T100000
END:DAYLIGHT
BEGIN:STANDARD
TZOFFSETFROM:-0700
TZOFFSETTO:-0800
TZNAME:PST
DTSTART:20251102T090000
END:STANDARD
BEGIN:DAYLIGHT
TZOFFSETFROM:-0800
TZOFFSETTO:-0700
TZNAME:PDT
DTSTART:20260308T100000
END:DAYLIGHT
BEGIN:STANDARD
TZOFFSETFROM:-0700
TZOFFSETTO:-0800
TZNAME:PST
DTSTART:20261101T090000
END:STANDARD
BEGIN:DAYLIGHT
TZOFFSETFROM:-0800
TZOFFSETTO:-0700
TZNAME:PDT
DTSTART:20270314T100000
END:DAYLIGHT
BEGIN:STANDARD
TZOFFSETFROM:-0700
TZOFFSETTO:-0800
TZNAME:PST
DTSTART:20271107T090000
END:STANDARD
BEGIN:DAYLIGHT
TZOFFSETFROM:-0800
TZOFFSETTO:-0700
TZNAME:PDT
DTSTART:20280312T100000
END:DAYLIGHT
BEGIN:STANDARD
TZOFFSETFROM:-0700
TZOFFSETTO:-0800
TZNAME:PST
DTSTART:20281105T090000
END:STANDARD
END:VTIMEZONE
BEGIN:VEVENT
DTSTART;TZID=America/Los_Angeles:20260925T100000
DTEND;TZID=America/Los_Angeles:20260925T120000
DTSTAMP:20260420T044301
CREATED:20240813T185850Z
LAST-MODIFIED:20250711T233443Z
UID:10009350-1790330400-1790337600@www.yosemitelakespark.org
SUMMARY:Ladies Of The Lakes Librarian Work Hours
DESCRIPTION:10am – 12pm \nTuesday And Fridays In the Library
URL:https://www.yosemitelakespark.org/ylpevent/ladies-of-the-lakes-librarian-work-hours-2-2/2026-09-25/
LOCATION:Clubhouse\, 30250 Yosemite Springs Parkway\, Coarsegold\, CA\, 93614\, United States
CATEGORIES:Activity
GEO:37.18568;-119.76989
X-APPLE-STRUCTURED-LOCATION;VALUE=URI;X-ADDRESS=Clubhouse 30250 Yosemite Springs Parkway Coarsegold CA 93614 United States;X-APPLE-RADIUS=500;X-TITLE=30250 Yosemite Springs Parkway:geo:-119.76989,37.18568
END:VEVENT
BEGIN:VEVENT
DTSTART;TZID=America/Los_Angeles:20260929T100000
DTEND;TZID=America/Los_Angeles:20260929T120000
DTSTAMP:20260420T044302
CREATED:20240813T185850Z
LAST-MODIFIED:20250711T233443Z
UID:10010813-1790676000-1790683200@www.yosemitelakespark.org
SUMMARY:Ladies Of The Lakes Librarian Work Hours
DESCRIPTION:10am – 12pm \nTuesday And Fridays In the Library
URL:https://www.yosemitelakespark.org/ylpevent/ladies-of-the-lakes-librarian-work-hours-2-2/2026-09-29/
LOCATION:Clubhouse\, 30250 Yosemite Springs Parkway\, Coarsegold\, CA\, 93614\, United States
CATEGORIES:Activity
GEO:37.18568;-119.76989
X-APPLE-STRUCTURED-LOCATION;VALUE=URI;X-ADDRESS=Clubhouse 30250 Yosemite Springs Parkway Coarsegold CA 93614 United States;X-APPLE-RADIUS=500;X-TITLE=30250 Yosemite Springs Parkway:geo:-119.76989,37.18568
END:VEVENT
BEGIN:VEVENT
DTSTART;TZID=America/Los_Angeles:20261002T100000
DTEND;TZID=America/Los_Angeles:20261002T120000
DTSTAMP:20260420T044302
CREATED:20240813T185850Z
LAST-MODIFIED:20250711T233443Z
UID:10009351-1790935200-1790942400@www.yosemitelakespark.org
SUMMARY:Ladies Of The Lakes Librarian Work Hours
DESCRIPTION:10am – 12pm \nTuesday And Fridays In the Library
URL:https://www.yosemitelakespark.org/ylpevent/ladies-of-the-lakes-librarian-work-hours-2-2/2026-10-02/
LOCATION:Clubhouse\, 30250 Yosemite Springs Parkway\, Coarsegold\, CA\, 93614\, United States
CATEGORIES:Activity
GEO:37.18568;-119.76989
X-APPLE-STRUCTURED-LOCATION;VALUE=URI;X-ADDRESS=Clubhouse 30250 Yosemite Springs Parkway Coarsegold CA 93614 United States;X-APPLE-RADIUS=500;X-TITLE=30250 Yosemite Springs Parkway:geo:-119.76989,37.18568
END:VEVENT
BEGIN:VEVENT
DTSTART;TZID=America/Los_Angeles:20261006T100000
DTEND;TZID=America/Los_Angeles:20261006T120000
DTSTAMP:20260420T044302
CREATED:20240813T185850Z
LAST-MODIFIED:20250711T233443Z
UID:10010814-1791280800-1791288000@www.yosemitelakespark.org
SUMMARY:Ladies Of The Lakes Librarian Work Hours
DESCRIPTION:10am – 12pm \nTuesday And Fridays In the Library
URL:https://www.yosemitelakespark.org/ylpevent/ladies-of-the-lakes-librarian-work-hours-2-2/2026-10-06/
LOCATION:Clubhouse\, 30250 Yosemite Springs Parkway\, Coarsegold\, CA\, 93614\, United States
CATEGORIES:Activity
GEO:37.18568;-119.76989
X-APPLE-STRUCTURED-LOCATION;VALUE=URI;X-ADDRESS=Clubhouse 30250 Yosemite Springs Parkway Coarsegold CA 93614 United States;X-APPLE-RADIUS=500;X-TITLE=30250 Yosemite Springs Parkway:geo:-119.76989,37.18568
END:VEVENT
BEGIN:VEVENT
DTSTART;TZID=America/Los_Angeles:20261009T100000
DTEND;TZID=America/Los_Angeles:20261009T120000
DTSTAMP:20260420T044302
CREATED:20240813T185850Z
LAST-MODIFIED:20250711T233443Z
UID:10009352-1791540000-1791547200@www.yosemitelakespark.org
SUMMARY:Ladies Of The Lakes Librarian Work Hours
DESCRIPTION:10am – 12pm \nTuesday And Fridays In the Library
URL:https://www.yosemitelakespark.org/ylpevent/ladies-of-the-lakes-librarian-work-hours-2-2/2026-10-09/
LOCATION:Clubhouse\, 30250 Yosemite Springs Parkway\, Coarsegold\, CA\, 93614\, United States
CATEGORIES:Activity
GEO:37.18568;-119.76989
X-APPLE-STRUCTURED-LOCATION;VALUE=URI;X-ADDRESS=Clubhouse 30250 Yosemite Springs Parkway Coarsegold CA 93614 United States;X-APPLE-RADIUS=500;X-TITLE=30250 Yosemite Springs Parkway:geo:-119.76989,37.18568
END:VEVENT
BEGIN:VEVENT
DTSTART;TZID=America/Los_Angeles:20261013T100000
DTEND;TZID=America/Los_Angeles:20261013T120000
DTSTAMP:20260420T044302
CREATED:20240813T185850Z
LAST-MODIFIED:20250711T233443Z
UID:10010815-1791885600-1791892800@www.yosemitelakespark.org
SUMMARY:Ladies Of The Lakes Librarian Work Hours
DESCRIPTION:10am – 12pm \nTuesday And Fridays In the Library
URL:https://www.yosemitelakespark.org/ylpevent/ladies-of-the-lakes-librarian-work-hours-2-2/2026-10-13/
LOCATION:Clubhouse\, 30250 Yosemite Springs Parkway\, Coarsegold\, CA\, 93614\, United States
CATEGORIES:Activity
GEO:37.18568;-119.76989
X-APPLE-STRUCTURED-LOCATION;VALUE=URI;X-ADDRESS=Clubhouse 30250 Yosemite Springs Parkway Coarsegold CA 93614 United States;X-APPLE-RADIUS=500;X-TITLE=30250 Yosemite Springs Parkway:geo:-119.76989,37.18568
END:VEVENT
BEGIN:VEVENT
DTSTART;TZID=America/Los_Angeles:20261016T100000
DTEND;TZID=America/Los_Angeles:20261016T120000
DTSTAMP:20260420T044302
CREATED:20240813T185850Z
LAST-MODIFIED:20250711T233443Z
UID:10009353-1792144800-1792152000@www.yosemitelakespark.org
SUMMARY:Ladies Of The Lakes Librarian Work Hours
DESCRIPTION:10am – 12pm \nTuesday And Fridays In the Library
URL:https://www.yosemitelakespark.org/ylpevent/ladies-of-the-lakes-librarian-work-hours-2-2/2026-10-16/
LOCATION:Clubhouse\, 30250 Yosemite Springs Parkway\, Coarsegold\, CA\, 93614\, United States
CATEGORIES:Activity
GEO:37.18568;-119.76989
X-APPLE-STRUCTURED-LOCATION;VALUE=URI;X-ADDRESS=Clubhouse 30250 Yosemite Springs Parkway Coarsegold CA 93614 United States;X-APPLE-RADIUS=500;X-TITLE=30250 Yosemite Springs Parkway:geo:-119.76989,37.18568
END:VEVENT
BEGIN:VEVENT
DTSTART;TZID=America/Los_Angeles:20261020T100000
DTEND;TZID=America/Los_Angeles:20261020T120000
DTSTAMP:20260420T044302
CREATED:20240813T185850Z
LAST-MODIFIED:20250711T233443Z
UID:10010816-1792490400-1792497600@www.yosemitelakespark.org
SUMMARY:Ladies Of The Lakes Librarian Work Hours
DESCRIPTION:10am – 12pm \nTuesday And Fridays In the Library
URL:https://www.yosemitelakespark.org/ylpevent/ladies-of-the-lakes-librarian-work-hours-2-2/2026-10-20/
LOCATION:Clubhouse\, 30250 Yosemite Springs Parkway\, Coarsegold\, CA\, 93614\, United States
CATEGORIES:Activity
GEO:37.18568;-119.76989
X-APPLE-STRUCTURED-LOCATION;VALUE=URI;X-ADDRESS=Clubhouse 30250 Yosemite Springs Parkway Coarsegold CA 93614 United States;X-APPLE-RADIUS=500;X-TITLE=30250 Yosemite Springs Parkway:geo:-119.76989,37.18568
END:VEVENT
BEGIN:VEVENT
DTSTART;TZID=America/Los_Angeles:20261023T100000
DTEND;TZID=America/Los_Angeles:20261023T120000
DTSTAMP:20260420T044302
CREATED:20240813T185850Z
LAST-MODIFIED:20250711T233443Z
UID:10009354-1792749600-1792756800@www.yosemitelakespark.org
SUMMARY:Ladies Of The Lakes Librarian Work Hours
DESCRIPTION:10am – 12pm \nTuesday And Fridays In the Library
URL:https://www.yosemitelakespark.org/ylpevent/ladies-of-the-lakes-librarian-work-hours-2-2/2026-10-23/
LOCATION:Clubhouse\, 30250 Yosemite Springs Parkway\, Coarsegold\, CA\, 93614\, United States
CATEGORIES:Activity
GEO:37.18568;-119.76989
X-APPLE-STRUCTURED-LOCATION;VALUE=URI;X-ADDRESS=Clubhouse 30250 Yosemite Springs Parkway Coarsegold CA 93614 United States;X-APPLE-RADIUS=500;X-TITLE=30250 Yosemite Springs Parkway:geo:-119.76989,37.18568
END:VEVENT
BEGIN:VEVENT
DTSTART;TZID=America/Los_Angeles:20261027T100000
DTEND;TZID=America/Los_Angeles:20261027T120000
DTSTAMP:20260420T044302
CREATED:20240813T185850Z
LAST-MODIFIED:20250711T233443Z
UID:10010817-1793095200-1793102400@www.yosemitelakespark.org
SUMMARY:Ladies Of The Lakes Librarian Work Hours
DESCRIPTION:10am – 12pm \nTuesday And Fridays In the Library
URL:https://www.yosemitelakespark.org/ylpevent/ladies-of-the-lakes-librarian-work-hours-2-2/2026-10-27/
LOCATION:Clubhouse\, 30250 Yosemite Springs Parkway\, Coarsegold\, CA\, 93614\, United States
CATEGORIES:Activity
GEO:37.18568;-119.76989
X-APPLE-STRUCTURED-LOCATION;VALUE=URI;X-ADDRESS=Clubhouse 30250 Yosemite Springs Parkway Coarsegold CA 93614 United States;X-APPLE-RADIUS=500;X-TITLE=30250 Yosemite Springs Parkway:geo:-119.76989,37.18568
END:VEVENT
BEGIN:VEVENT
DTSTART;TZID=America/Los_Angeles:20261030T100000
DTEND;TZID=America/Los_Angeles:20261030T120000
DTSTAMP:20260420T044302
CREATED:20240813T185850Z
LAST-MODIFIED:20250711T233443Z
UID:10009355-1793354400-1793361600@www.yosemitelakespark.org
SUMMARY:Ladies Of The Lakes Librarian Work Hours
DESCRIPTION:10am – 12pm \nTuesday And Fridays In the Library
URL:https://www.yosemitelakespark.org/ylpevent/ladies-of-the-lakes-librarian-work-hours-2-2/2026-10-30/
LOCATION:Clubhouse\, 30250 Yosemite Springs Parkway\, Coarsegold\, CA\, 93614\, United States
CATEGORIES:Activity
GEO:37.18568;-119.76989
X-APPLE-STRUCTURED-LOCATION;VALUE=URI;X-ADDRESS=Clubhouse 30250 Yosemite Springs Parkway Coarsegold CA 93614 United States;X-APPLE-RADIUS=500;X-TITLE=30250 Yosemite Springs Parkway:geo:-119.76989,37.18568
END:VEVENT
BEGIN:VEVENT
DTSTART;TZID=America/Los_Angeles:20261103T100000
DTEND;TZID=America/Los_Angeles:20261103T120000
DTSTAMP:20260420T044302
CREATED:20240813T185850Z
LAST-MODIFIED:20250711T233443Z
UID:10010818-1793700000-1793707200@www.yosemitelakespark.org
SUMMARY:Ladies Of The Lakes Librarian Work Hours
DESCRIPTION:10am – 12pm \nTuesday And Fridays In the Library
URL:https://www.yosemitelakespark.org/ylpevent/ladies-of-the-lakes-librarian-work-hours-2-2/2026-11-03/
LOCATION:Clubhouse\, 30250 Yosemite Springs Parkway\, Coarsegold\, CA\, 93614\, United States
CATEGORIES:Activity
GEO:37.18568;-119.76989
X-APPLE-STRUCTURED-LOCATION;VALUE=URI;X-ADDRESS=Clubhouse 30250 Yosemite Springs Parkway Coarsegold CA 93614 United States;X-APPLE-RADIUS=500;X-TITLE=30250 Yosemite Springs Parkway:geo:-119.76989,37.18568
END:VEVENT
BEGIN:VEVENT
DTSTART;TZID=America/Los_Angeles:20261106T100000
DTEND;TZID=America/Los_Angeles:20261106T120000
DTSTAMP:20260420T044302
CREATED:20240813T185850Z
LAST-MODIFIED:20250711T233443Z
UID:10009356-1793959200-1793966400@www.yosemitelakespark.org
SUMMARY:Ladies Of The Lakes Librarian Work Hours
DESCRIPTION:10am – 12pm \nTuesday And Fridays In the Library
URL:https://www.yosemitelakespark.org/ylpevent/ladies-of-the-lakes-librarian-work-hours-2-2/2026-11-06/
LOCATION:Clubhouse\, 30250 Yosemite Springs Parkway\, Coarsegold\, CA\, 93614\, United States
CATEGORIES:Activity
GEO:37.18568;-119.76989
X-APPLE-STRUCTURED-LOCATION;VALUE=URI;X-ADDRESS=Clubhouse 30250 Yosemite Springs Parkway Coarsegold CA 93614 United States;X-APPLE-RADIUS=500;X-TITLE=30250 Yosemite Springs Parkway:geo:-119.76989,37.18568
END:VEVENT
BEGIN:VEVENT
DTSTART;TZID=America/Los_Angeles:20261110T100000
DTEND;TZID=America/Los_Angeles:20261110T120000
DTSTAMP:20260420T044302
CREATED:20240813T185850Z
LAST-MODIFIED:20250711T233443Z
UID:10010819-1794304800-1794312000@www.yosemitelakespark.org
SUMMARY:Ladies Of The Lakes Librarian Work Hours
DESCRIPTION:10am – 12pm \nTuesday And Fridays In the Library
URL:https://www.yosemitelakespark.org/ylpevent/ladies-of-the-lakes-librarian-work-hours-2-2/2026-11-10/
LOCATION:Clubhouse\, 30250 Yosemite Springs Parkway\, Coarsegold\, CA\, 93614\, United States
CATEGORIES:Activity
GEO:37.18568;-119.76989
X-APPLE-STRUCTURED-LOCATION;VALUE=URI;X-ADDRESS=Clubhouse 30250 Yosemite Springs Parkway Coarsegold CA 93614 United States;X-APPLE-RADIUS=500;X-TITLE=30250 Yosemite Springs Parkway:geo:-119.76989,37.18568
END:VEVENT
BEGIN:VEVENT
DTSTART;TZID=America/Los_Angeles:20261113T100000
DTEND;TZID=America/Los_Angeles:20261113T120000
DTSTAMP:20260420T044302
CREATED:20240813T185850Z
LAST-MODIFIED:20250711T233443Z
UID:10009357-1794564000-1794571200@www.yosemitelakespark.org
SUMMARY:Ladies Of The Lakes Librarian Work Hours
DESCRIPTION:10am – 12pm \nTuesday And Fridays In the Library
URL:https://www.yosemitelakespark.org/ylpevent/ladies-of-the-lakes-librarian-work-hours-2-2/2026-11-13/
LOCATION:Clubhouse\, 30250 Yosemite Springs Parkway\, Coarsegold\, CA\, 93614\, United States
CATEGORIES:Activity
GEO:37.18568;-119.76989
X-APPLE-STRUCTURED-LOCATION;VALUE=URI;X-ADDRESS=Clubhouse 30250 Yosemite Springs Parkway Coarsegold CA 93614 United States;X-APPLE-RADIUS=500;X-TITLE=30250 Yosemite Springs Parkway:geo:-119.76989,37.18568
END:VEVENT
BEGIN:VEVENT
DTSTART;TZID=America/Los_Angeles:20261117T100000
DTEND;TZID=America/Los_Angeles:20261117T120000
DTSTAMP:20260420T044302
CREATED:20240813T185850Z
LAST-MODIFIED:20250711T233443Z
UID:10010820-1794909600-1794916800@www.yosemitelakespark.org
SUMMARY:Ladies Of The Lakes Librarian Work Hours
DESCRIPTION:10am – 12pm \nTuesday And Fridays In the Library
URL:https://www.yosemitelakespark.org/ylpevent/ladies-of-the-lakes-librarian-work-hours-2-2/2026-11-17/
LOCATION:Clubhouse\, 30250 Yosemite Springs Parkway\, Coarsegold\, CA\, 93614\, United States
CATEGORIES:Activity
GEO:37.18568;-119.76989
X-APPLE-STRUCTURED-LOCATION;VALUE=URI;X-ADDRESS=Clubhouse 30250 Yosemite Springs Parkway Coarsegold CA 93614 United States;X-APPLE-RADIUS=500;X-TITLE=30250 Yosemite Springs Parkway:geo:-119.76989,37.18568
END:VEVENT
BEGIN:VEVENT
DTSTART;TZID=America/Los_Angeles:20261120T100000
DTEND;TZID=America/Los_Angeles:20261120T120000
DTSTAMP:20260420T044302
CREATED:20240813T185850Z
LAST-MODIFIED:20250711T233443Z
UID:10009358-1795168800-1795176000@www.yosemitelakespark.org
SUMMARY:Ladies Of The Lakes Librarian Work Hours
DESCRIPTION:10am – 12pm \nTuesday And Fridays In the Library
URL:https://www.yosemitelakespark.org/ylpevent/ladies-of-the-lakes-librarian-work-hours-2-2/2026-11-20/
LOCATION:Clubhouse\, 30250 Yosemite Springs Parkway\, Coarsegold\, CA\, 93614\, United States
CATEGORIES:Activity
GEO:37.18568;-119.76989
X-APPLE-STRUCTURED-LOCATION;VALUE=URI;X-ADDRESS=Clubhouse 30250 Yosemite Springs Parkway Coarsegold CA 93614 United States;X-APPLE-RADIUS=500;X-TITLE=30250 Yosemite Springs Parkway:geo:-119.76989,37.18568
END:VEVENT
BEGIN:VEVENT
DTSTART;TZID=America/Los_Angeles:20261124T100000
DTEND;TZID=America/Los_Angeles:20261124T120000
DTSTAMP:20260420T044302
CREATED:20240813T185850Z
LAST-MODIFIED:20250711T233443Z
UID:10010821-1795514400-1795521600@www.yosemitelakespark.org
SUMMARY:Ladies Of The Lakes Librarian Work Hours
DESCRIPTION:10am – 12pm \nTuesday And Fridays In the Library
URL:https://www.yosemitelakespark.org/ylpevent/ladies-of-the-lakes-librarian-work-hours-2-2/2026-11-24/
LOCATION:Clubhouse\, 30250 Yosemite Springs Parkway\, Coarsegold\, CA\, 93614\, United States
CATEGORIES:Activity
GEO:37.18568;-119.76989
X-APPLE-STRUCTURED-LOCATION;VALUE=URI;X-ADDRESS=Clubhouse 30250 Yosemite Springs Parkway Coarsegold CA 93614 United States;X-APPLE-RADIUS=500;X-TITLE=30250 Yosemite Springs Parkway:geo:-119.76989,37.18568
END:VEVENT
BEGIN:VEVENT
DTSTART;TZID=America/Los_Angeles:20261127T100000
DTEND;TZID=America/Los_Angeles:20261127T120000
DTSTAMP:20260420T044302
CREATED:20240813T185850Z
LAST-MODIFIED:20250711T233443Z
UID:10009359-1795773600-1795780800@www.yosemitelakespark.org
SUMMARY:Ladies Of The Lakes Librarian Work Hours
DESCRIPTION:10am – 12pm \nTuesday And Fridays In the Library
URL:https://www.yosemitelakespark.org/ylpevent/ladies-of-the-lakes-librarian-work-hours-2-2/2026-11-27/
LOCATION:Clubhouse\, 30250 Yosemite Springs Parkway\, Coarsegold\, CA\, 93614\, United States
CATEGORIES:Activity
GEO:37.18568;-119.76989
X-APPLE-STRUCTURED-LOCATION;VALUE=URI;X-ADDRESS=Clubhouse 30250 Yosemite Springs Parkway Coarsegold CA 93614 United States;X-APPLE-RADIUS=500;X-TITLE=30250 Yosemite Springs Parkway:geo:-119.76989,37.18568
END:VEVENT
BEGIN:VEVENT
DTSTART;TZID=America/Los_Angeles:20261201T100000
DTEND;TZID=America/Los_Angeles:20261201T120000
DTSTAMP:20260420T044302
CREATED:20240813T185850Z
LAST-MODIFIED:20250711T233443Z
UID:10010822-1796119200-1796126400@www.yosemitelakespark.org
SUMMARY:Ladies Of The Lakes Librarian Work Hours
DESCRIPTION:10am – 12pm \nTuesday And Fridays In the Library
URL:https://www.yosemitelakespark.org/ylpevent/ladies-of-the-lakes-librarian-work-hours-2-2/2026-12-01/
LOCATION:Clubhouse\, 30250 Yosemite Springs Parkway\, Coarsegold\, CA\, 93614\, United States
CATEGORIES:Activity
GEO:37.18568;-119.76989
X-APPLE-STRUCTURED-LOCATION;VALUE=URI;X-ADDRESS=Clubhouse 30250 Yosemite Springs Parkway Coarsegold CA 93614 United States;X-APPLE-RADIUS=500;X-TITLE=30250 Yosemite Springs Parkway:geo:-119.76989,37.18568
END:VEVENT
BEGIN:VEVENT
DTSTART;TZID=America/Los_Angeles:20261204T100000
DTEND;TZID=America/Los_Angeles:20261204T120000
DTSTAMP:20260420T044302
CREATED:20240813T185850Z
LAST-MODIFIED:20250711T233443Z
UID:10009360-1796378400-1796385600@www.yosemitelakespark.org
SUMMARY:Ladies Of The Lakes Librarian Work Hours
DESCRIPTION:10am – 12pm \nTuesday And Fridays In the Library
URL:https://www.yosemitelakespark.org/ylpevent/ladies-of-the-lakes-librarian-work-hours-2-2/2026-12-04/
LOCATION:Clubhouse\, 30250 Yosemite Springs Parkway\, Coarsegold\, CA\, 93614\, United States
CATEGORIES:Activity
GEO:37.18568;-119.76989
X-APPLE-STRUCTURED-LOCATION;VALUE=URI;X-ADDRESS=Clubhouse 30250 Yosemite Springs Parkway Coarsegold CA 93614 United States;X-APPLE-RADIUS=500;X-TITLE=30250 Yosemite Springs Parkway:geo:-119.76989,37.18568
END:VEVENT
BEGIN:VEVENT
DTSTART;TZID=America/Los_Angeles:20261208T100000
DTEND;TZID=America/Los_Angeles:20261208T120000
DTSTAMP:20260420T044302
CREATED:20240813T185850Z
LAST-MODIFIED:20250711T233443Z
UID:10010823-1796724000-1796731200@www.yosemitelakespark.org
SUMMARY:Ladies Of The Lakes Librarian Work Hours
DESCRIPTION:10am – 12pm \nTuesday And Fridays In the Library
URL:https://www.yosemitelakespark.org/ylpevent/ladies-of-the-lakes-librarian-work-hours-2-2/2026-12-08/
LOCATION:Clubhouse\, 30250 Yosemite Springs Parkway\, Coarsegold\, CA\, 93614\, United States
CATEGORIES:Activity
GEO:37.18568;-119.76989
X-APPLE-STRUCTURED-LOCATION;VALUE=URI;X-ADDRESS=Clubhouse 30250 Yosemite Springs Parkway Coarsegold CA 93614 United States;X-APPLE-RADIUS=500;X-TITLE=30250 Yosemite Springs Parkway:geo:-119.76989,37.18568
END:VEVENT
BEGIN:VEVENT
DTSTART;TZID=America/Los_Angeles:20261211T100000
DTEND;TZID=America/Los_Angeles:20261211T120000
DTSTAMP:20260420T044302
CREATED:20240813T185850Z
LAST-MODIFIED:20250711T233443Z
UID:10009361-1796983200-1796990400@www.yosemitelakespark.org
SUMMARY:Ladies Of The Lakes Librarian Work Hours
DESCRIPTION:10am – 12pm \nTuesday And Fridays In the Library
URL:https://www.yosemitelakespark.org/ylpevent/ladies-of-the-lakes-librarian-work-hours-2-2/2026-12-11/
LOCATION:Clubhouse\, 30250 Yosemite Springs Parkway\, Coarsegold\, CA\, 93614\, United States
CATEGORIES:Activity
GEO:37.18568;-119.76989
X-APPLE-STRUCTURED-LOCATION;VALUE=URI;X-ADDRESS=Clubhouse 30250 Yosemite Springs Parkway Coarsegold CA 93614 United States;X-APPLE-RADIUS=500;X-TITLE=30250 Yosemite Springs Parkway:geo:-119.76989,37.18568
END:VEVENT
BEGIN:VEVENT
DTSTART;TZID=America/Los_Angeles:20261215T100000
DTEND;TZID=America/Los_Angeles:20261215T120000
DTSTAMP:20260420T044302
CREATED:20240813T185850Z
LAST-MODIFIED:20250711T233443Z
UID:10010824-1797328800-1797336000@www.yosemitelakespark.org
SUMMARY:Ladies Of The Lakes Librarian Work Hours
DESCRIPTION:10am – 12pm \nTuesday And Fridays In the Library
URL:https://www.yosemitelakespark.org/ylpevent/ladies-of-the-lakes-librarian-work-hours-2-2/2026-12-15/
LOCATION:Clubhouse\, 30250 Yosemite Springs Parkway\, Coarsegold\, CA\, 93614\, United States
CATEGORIES:Activity
GEO:37.18568;-119.76989
X-APPLE-STRUCTURED-LOCATION;VALUE=URI;X-ADDRESS=Clubhouse 30250 Yosemite Springs Parkway Coarsegold CA 93614 United States;X-APPLE-RADIUS=500;X-TITLE=30250 Yosemite Springs Parkway:geo:-119.76989,37.18568
END:VEVENT
BEGIN:VEVENT
DTSTART;TZID=America/Los_Angeles:20261218T100000
DTEND;TZID=America/Los_Angeles:20261218T120000
DTSTAMP:20260420T044302
CREATED:20240813T185850Z
LAST-MODIFIED:20250711T233443Z
UID:10009362-1797588000-1797595200@www.yosemitelakespark.org
SUMMARY:Ladies Of The Lakes Librarian Work Hours
DESCRIPTION:10am – 12pm \nTuesday And Fridays In the Library
URL:https://www.yosemitelakespark.org/ylpevent/ladies-of-the-lakes-librarian-work-hours-2-2/2026-12-18/
LOCATION:Clubhouse\, 30250 Yosemite Springs Parkway\, Coarsegold\, CA\, 93614\, United States
CATEGORIES:Activity
GEO:37.18568;-119.76989
X-APPLE-STRUCTURED-LOCATION;VALUE=URI;X-ADDRESS=Clubhouse 30250 Yosemite Springs Parkway Coarsegold CA 93614 United States;X-APPLE-RADIUS=500;X-TITLE=30250 Yosemite Springs Parkway:geo:-119.76989,37.18568
END:VEVENT
BEGIN:VEVENT
DTSTART;TZID=America/Los_Angeles:20261222T100000
DTEND;TZID=America/Los_Angeles:20261222T120000
DTSTAMP:20260420T044302
CREATED:20240813T185850Z
LAST-MODIFIED:20250711T233443Z
UID:10010825-1797933600-1797940800@www.yosemitelakespark.org
SUMMARY:Ladies Of The Lakes Librarian Work Hours
DESCRIPTION:10am – 12pm \nTuesday And Fridays In the Library
URL:https://www.yosemitelakespark.org/ylpevent/ladies-of-the-lakes-librarian-work-hours-2-2/2026-12-22/
LOCATION:Clubhouse\, 30250 Yosemite Springs Parkway\, Coarsegold\, CA\, 93614\, United States
CATEGORIES:Activity
GEO:37.18568;-119.76989
X-APPLE-STRUCTURED-LOCATION;VALUE=URI;X-ADDRESS=Clubhouse 30250 Yosemite Springs Parkway Coarsegold CA 93614 United States;X-APPLE-RADIUS=500;X-TITLE=30250 Yosemite Springs Parkway:geo:-119.76989,37.18568
END:VEVENT
BEGIN:VEVENT
DTSTART;TZID=America/Los_Angeles:20261225T100000
DTEND;TZID=America/Los_Angeles:20261225T120000
DTSTAMP:20260420T044302
CREATED:20240813T185850Z
LAST-MODIFIED:20250711T233443Z
UID:10009363-1798192800-1798200000@www.yosemitelakespark.org
SUMMARY:Ladies Of The Lakes Librarian Work Hours
DESCRIPTION:10am – 12pm \nTuesday And Fridays In the Library
URL:https://www.yosemitelakespark.org/ylpevent/ladies-of-the-lakes-librarian-work-hours-2-2/2026-12-25/
LOCATION:Clubhouse\, 30250 Yosemite Springs Parkway\, Coarsegold\, CA\, 93614\, United States
CATEGORIES:Activity
GEO:37.18568;-119.76989
X-APPLE-STRUCTURED-LOCATION;VALUE=URI;X-ADDRESS=Clubhouse 30250 Yosemite Springs Parkway Coarsegold CA 93614 United States;X-APPLE-RADIUS=500;X-TITLE=30250 Yosemite Springs Parkway:geo:-119.76989,37.18568
END:VEVENT
BEGIN:VEVENT
DTSTART;TZID=America/Los_Angeles:20261229T100000
DTEND;TZID=America/Los_Angeles:20261229T120000
DTSTAMP:20260420T044302
CREATED:20240813T185850Z
LAST-MODIFIED:20250711T233443Z
UID:10010826-1798538400-1798545600@www.yosemitelakespark.org
SUMMARY:Ladies Of The Lakes Librarian Work Hours
DESCRIPTION:10am – 12pm \nTuesday And Fridays In the Library
URL:https://www.yosemitelakespark.org/ylpevent/ladies-of-the-lakes-librarian-work-hours-2-2/2026-12-29/
LOCATION:Clubhouse\, 30250 Yosemite Springs Parkway\, Coarsegold\, CA\, 93614\, United States
CATEGORIES:Activity
GEO:37.18568;-119.76989
X-APPLE-STRUCTURED-LOCATION;VALUE=URI;X-ADDRESS=Clubhouse 30250 Yosemite Springs Parkway Coarsegold CA 93614 United States;X-APPLE-RADIUS=500;X-TITLE=30250 Yosemite Springs Parkway:geo:-119.76989,37.18568
END:VEVENT
BEGIN:VEVENT
DTSTART;TZID=America/Los_Angeles:20270101T100000
DTEND;TZID=America/Los_Angeles:20270101T120000
DTSTAMP:20260420T044302
CREATED:20240813T185850Z
LAST-MODIFIED:20250711T233443Z
UID:10009364-1798797600-1798804800@www.yosemitelakespark.org
SUMMARY:Ladies Of The Lakes Librarian Work Hours
DESCRIPTION:10am – 12pm \nTuesday And Fridays In the Library
URL:https://www.yosemitelakespark.org/ylpevent/ladies-of-the-lakes-librarian-work-hours-2-2/2027-01-01/
LOCATION:Clubhouse\, 30250 Yosemite Springs Parkway\, Coarsegold\, CA\, 93614\, United States
CATEGORIES:Activity
GEO:37.18568;-119.76989
X-APPLE-STRUCTURED-LOCATION;VALUE=URI;X-ADDRESS=Clubhouse 30250 Yosemite Springs Parkway Coarsegold CA 93614 United States;X-APPLE-RADIUS=500;X-TITLE=30250 Yosemite Springs Parkway:geo:-119.76989,37.18568
END:VEVENT
BEGIN:VEVENT
DTSTART;TZID=America/Los_Angeles:20270105T100000
DTEND;TZID=America/Los_Angeles:20270105T120000
DTSTAMP:20260420T044302
CREATED:20240813T185850Z
LAST-MODIFIED:20250711T233443Z
UID:10010827-1799143200-1799150400@www.yosemitelakespark.org
SUMMARY:Ladies Of The Lakes Librarian Work Hours
DESCRIPTION:10am – 12pm \nTuesday And Fridays In the Library
URL:https://www.yosemitelakespark.org/ylpevent/ladies-of-the-lakes-librarian-work-hours-2-2/2027-01-05/
LOCATION:Clubhouse\, 30250 Yosemite Springs Parkway\, Coarsegold\, CA\, 93614\, United States
CATEGORIES:Activity
GEO:37.18568;-119.76989
X-APPLE-STRUCTURED-LOCATION;VALUE=URI;X-ADDRESS=Clubhouse 30250 Yosemite Springs Parkway Coarsegold CA 93614 United States;X-APPLE-RADIUS=500;X-TITLE=30250 Yosemite Springs Parkway:geo:-119.76989,37.18568
END:VEVENT
END:VCALENDAR