BEGIN:VCALENDAR
VERSION:2.0
PRODID:-//Yosemite Lakes Park - ECPv6.15.20//NONSGML v1.0//EN
CALSCALE:GREGORIAN
METHOD:PUBLISH
X-WR-CALNAME:Yosemite Lakes Park
X-ORIGINAL-URL:https://www.yosemitelakespark.org
X-WR-CALDESC:Events for Yosemite Lakes Park
REFRESH-INTERVAL;VALUE=DURATION:PT1H
X-Robots-Tag:noindex
X-PUBLISHED-TTL:PT1H
BEGIN:VTIMEZONE
TZID:America/Los_Angeles
BEGIN:DAYLIGHT
TZOFFSETFROM:-0800
TZOFFSETTO:-0700
TZNAME:PDT
DTSTART:20250309T100000
END:DAYLIGHT
BEGIN:STANDARD
TZOFFSETFROM:-0700
TZOFFSETTO:-0800
TZNAME:PST
DTSTART:20251102T090000
END:STANDARD
BEGIN:DAYLIGHT
TZOFFSETFROM:-0800
TZOFFSETTO:-0700
TZNAME:PDT
DTSTART:20260308T100000
END:DAYLIGHT
BEGIN:STANDARD
TZOFFSETFROM:-0700
TZOFFSETTO:-0800
TZNAME:PST
DTSTART:20261101T090000
END:STANDARD
BEGIN:DAYLIGHT
TZOFFSETFROM:-0800
TZOFFSETTO:-0700
TZNAME:PDT
DTSTART:20270314T100000
END:DAYLIGHT
BEGIN:STANDARD
TZOFFSETFROM:-0700
TZOFFSETTO:-0800
TZNAME:PST
DTSTART:20271107T090000
END:STANDARD
END:VTIMEZONE
BEGIN:VEVENT
DTSTART;TZID=America/Los_Angeles:20260423T143000
DTEND;TZID=America/Los_Angeles:20260423T163000
DTSTAMP:20260420T000204
CREATED:20230224T003712Z
LAST-MODIFIED:20230601T224410Z
UID:10003650-1776954600-1776961800@www.yosemitelakespark.org
SUMMARY:YLP Painters
DESCRIPTION:The group includes watercolorists\, acrylic\, and oil painters. Bring your supplies and current project piece and come paint with our group of friends!
URL:https://www.yosemitelakespark.org/ylpevent/painters-group/2026-04-23/
LOCATION:Clubhouse\, 30250 Yosemite Springs Parkway\, Coarsegold\, CA\, 93614\, United States
CATEGORIES:Activity
GEO:37.18568;-119.76989
X-APPLE-STRUCTURED-LOCATION;VALUE=URI;X-ADDRESS=Clubhouse 30250 Yosemite Springs Parkway Coarsegold CA 93614 United States;X-APPLE-RADIUS=500;X-TITLE=30250 Yosemite Springs Parkway:geo:-119.76989,37.18568
END:VEVENT
BEGIN:VEVENT
DTSTART;TZID=America/Los_Angeles:20260430T143000
DTEND;TZID=America/Los_Angeles:20260430T163000
DTSTAMP:20260420T000204
CREATED:20230224T003712Z
LAST-MODIFIED:20230601T224410Z
UID:10003651-1777559400-1777566600@www.yosemitelakespark.org
SUMMARY:YLP Painters
DESCRIPTION:The group includes watercolorists\, acrylic\, and oil painters. Bring your supplies and current project piece and come paint with our group of friends!
URL:https://www.yosemitelakespark.org/ylpevent/painters-group/2026-04-30/
LOCATION:Clubhouse\, 30250 Yosemite Springs Parkway\, Coarsegold\, CA\, 93614\, United States
CATEGORIES:Activity
GEO:37.18568;-119.76989
X-APPLE-STRUCTURED-LOCATION;VALUE=URI;X-ADDRESS=Clubhouse 30250 Yosemite Springs Parkway Coarsegold CA 93614 United States;X-APPLE-RADIUS=500;X-TITLE=30250 Yosemite Springs Parkway:geo:-119.76989,37.18568
END:VEVENT
BEGIN:VEVENT
DTSTART;TZID=America/Los_Angeles:20260507T143000
DTEND;TZID=America/Los_Angeles:20260507T163000
DTSTAMP:20260420T000204
CREATED:20230224T003712Z
LAST-MODIFIED:20230601T224410Z
UID:10003652-1778164200-1778171400@www.yosemitelakespark.org
SUMMARY:YLP Painters
DESCRIPTION:The group includes watercolorists\, acrylic\, and oil painters. Bring your supplies and current project piece and come paint with our group of friends!
URL:https://www.yosemitelakespark.org/ylpevent/painters-group/2026-05-07/
LOCATION:Clubhouse\, 30250 Yosemite Springs Parkway\, Coarsegold\, CA\, 93614\, United States
CATEGORIES:Activity
GEO:37.18568;-119.76989
X-APPLE-STRUCTURED-LOCATION;VALUE=URI;X-ADDRESS=Clubhouse 30250 Yosemite Springs Parkway Coarsegold CA 93614 United States;X-APPLE-RADIUS=500;X-TITLE=30250 Yosemite Springs Parkway:geo:-119.76989,37.18568
END:VEVENT
BEGIN:VEVENT
DTSTART;TZID=America/Los_Angeles:20260514T143000
DTEND;TZID=America/Los_Angeles:20260514T163000
DTSTAMP:20260420T000204
CREATED:20230224T003712Z
LAST-MODIFIED:20230601T224410Z
UID:10003653-1778769000-1778776200@www.yosemitelakespark.org
SUMMARY:YLP Painters
DESCRIPTION:The group includes watercolorists\, acrylic\, and oil painters. Bring your supplies and current project piece and come paint with our group of friends!
URL:https://www.yosemitelakespark.org/ylpevent/painters-group/2026-05-14/
LOCATION:Clubhouse\, 30250 Yosemite Springs Parkway\, Coarsegold\, CA\, 93614\, United States
CATEGORIES:Activity
GEO:37.18568;-119.76989
X-APPLE-STRUCTURED-LOCATION;VALUE=URI;X-ADDRESS=Clubhouse 30250 Yosemite Springs Parkway Coarsegold CA 93614 United States;X-APPLE-RADIUS=500;X-TITLE=30250 Yosemite Springs Parkway:geo:-119.76989,37.18568
END:VEVENT
BEGIN:VEVENT
DTSTART;TZID=America/Los_Angeles:20260521T143000
DTEND;TZID=America/Los_Angeles:20260521T163000
DTSTAMP:20260420T000204
CREATED:20230224T003712Z
LAST-MODIFIED:20230601T224410Z
UID:10003654-1779373800-1779381000@www.yosemitelakespark.org
SUMMARY:YLP Painters
DESCRIPTION:The group includes watercolorists\, acrylic\, and oil painters. Bring your supplies and current project piece and come paint with our group of friends!
URL:https://www.yosemitelakespark.org/ylpevent/painters-group/2026-05-21/
LOCATION:Clubhouse\, 30250 Yosemite Springs Parkway\, Coarsegold\, CA\, 93614\, United States
CATEGORIES:Activity
GEO:37.18568;-119.76989
X-APPLE-STRUCTURED-LOCATION;VALUE=URI;X-ADDRESS=Clubhouse 30250 Yosemite Springs Parkway Coarsegold CA 93614 United States;X-APPLE-RADIUS=500;X-TITLE=30250 Yosemite Springs Parkway:geo:-119.76989,37.18568
END:VEVENT
BEGIN:VEVENT
DTSTART;TZID=America/Los_Angeles:20260528T143000
DTEND;TZID=America/Los_Angeles:20260528T163000
DTSTAMP:20260420T000204
CREATED:20230224T003712Z
LAST-MODIFIED:20230601T224410Z
UID:10003655-1779978600-1779985800@www.yosemitelakespark.org
SUMMARY:YLP Painters
DESCRIPTION:The group includes watercolorists\, acrylic\, and oil painters. Bring your supplies and current project piece and come paint with our group of friends!
URL:https://www.yosemitelakespark.org/ylpevent/painters-group/2026-05-28/
LOCATION:Clubhouse\, 30250 Yosemite Springs Parkway\, Coarsegold\, CA\, 93614\, United States
CATEGORIES:Activity
GEO:37.18568;-119.76989
X-APPLE-STRUCTURED-LOCATION;VALUE=URI;X-ADDRESS=Clubhouse 30250 Yosemite Springs Parkway Coarsegold CA 93614 United States;X-APPLE-RADIUS=500;X-TITLE=30250 Yosemite Springs Parkway:geo:-119.76989,37.18568
END:VEVENT
BEGIN:VEVENT
DTSTART;TZID=America/Los_Angeles:20260604T143000
DTEND;TZID=America/Los_Angeles:20260604T163000
DTSTAMP:20260420T000204
CREATED:20230224T003712Z
LAST-MODIFIED:20230601T224410Z
UID:10003656-1780583400-1780590600@www.yosemitelakespark.org
SUMMARY:YLP Painters
DESCRIPTION:The group includes watercolorists\, acrylic\, and oil painters. Bring your supplies and current project piece and come paint with our group of friends!
URL:https://www.yosemitelakespark.org/ylpevent/painters-group/2026-06-04/
LOCATION:Clubhouse\, 30250 Yosemite Springs Parkway\, Coarsegold\, CA\, 93614\, United States
CATEGORIES:Activity
GEO:37.18568;-119.76989
X-APPLE-STRUCTURED-LOCATION;VALUE=URI;X-ADDRESS=Clubhouse 30250 Yosemite Springs Parkway Coarsegold CA 93614 United States;X-APPLE-RADIUS=500;X-TITLE=30250 Yosemite Springs Parkway:geo:-119.76989,37.18568
END:VEVENT
BEGIN:VEVENT
DTSTART;TZID=America/Los_Angeles:20260611T143000
DTEND;TZID=America/Los_Angeles:20260611T163000
DTSTAMP:20260420T000204
CREATED:20230224T003712Z
LAST-MODIFIED:20230601T224410Z
UID:10003657-1781188200-1781195400@www.yosemitelakespark.org
SUMMARY:YLP Painters
DESCRIPTION:The group includes watercolorists\, acrylic\, and oil painters. Bring your supplies and current project piece and come paint with our group of friends!
URL:https://www.yosemitelakespark.org/ylpevent/painters-group/2026-06-11/
LOCATION:Clubhouse\, 30250 Yosemite Springs Parkway\, Coarsegold\, CA\, 93614\, United States
CATEGORIES:Activity
GEO:37.18568;-119.76989
X-APPLE-STRUCTURED-LOCATION;VALUE=URI;X-ADDRESS=Clubhouse 30250 Yosemite Springs Parkway Coarsegold CA 93614 United States;X-APPLE-RADIUS=500;X-TITLE=30250 Yosemite Springs Parkway:geo:-119.76989,37.18568
END:VEVENT
BEGIN:VEVENT
DTSTART;TZID=America/Los_Angeles:20260618T143000
DTEND;TZID=America/Los_Angeles:20260618T163000
DTSTAMP:20260420T000204
CREATED:20230224T003712Z
LAST-MODIFIED:20230601T224410Z
UID:10003658-1781793000-1781800200@www.yosemitelakespark.org
SUMMARY:YLP Painters
DESCRIPTION:The group includes watercolorists\, acrylic\, and oil painters. Bring your supplies and current project piece and come paint with our group of friends!
URL:https://www.yosemitelakespark.org/ylpevent/painters-group/2026-06-18/
LOCATION:Clubhouse\, 30250 Yosemite Springs Parkway\, Coarsegold\, CA\, 93614\, United States
CATEGORIES:Activity
GEO:37.18568;-119.76989
X-APPLE-STRUCTURED-LOCATION;VALUE=URI;X-ADDRESS=Clubhouse 30250 Yosemite Springs Parkway Coarsegold CA 93614 United States;X-APPLE-RADIUS=500;X-TITLE=30250 Yosemite Springs Parkway:geo:-119.76989,37.18568
END:VEVENT
BEGIN:VEVENT
DTSTART;TZID=America/Los_Angeles:20260625T143000
DTEND;TZID=America/Los_Angeles:20260625T163000
DTSTAMP:20260420T000204
CREATED:20230224T003712Z
LAST-MODIFIED:20230601T224410Z
UID:10003659-1782397800-1782405000@www.yosemitelakespark.org
SUMMARY:YLP Painters
DESCRIPTION:The group includes watercolorists\, acrylic\, and oil painters. Bring your supplies and current project piece and come paint with our group of friends!
URL:https://www.yosemitelakespark.org/ylpevent/painters-group/2026-06-25/
LOCATION:Clubhouse\, 30250 Yosemite Springs Parkway\, Coarsegold\, CA\, 93614\, United States
CATEGORIES:Activity
GEO:37.18568;-119.76989
X-APPLE-STRUCTURED-LOCATION;VALUE=URI;X-ADDRESS=Clubhouse 30250 Yosemite Springs Parkway Coarsegold CA 93614 United States;X-APPLE-RADIUS=500;X-TITLE=30250 Yosemite Springs Parkway:geo:-119.76989,37.18568
END:VEVENT
BEGIN:VEVENT
DTSTART;TZID=America/Los_Angeles:20260702T143000
DTEND;TZID=America/Los_Angeles:20260702T163000
DTSTAMP:20260420T000204
CREATED:20230224T003712Z
LAST-MODIFIED:20230601T224410Z
UID:10003660-1783002600-1783009800@www.yosemitelakespark.org
SUMMARY:YLP Painters
DESCRIPTION:The group includes watercolorists\, acrylic\, and oil painters. Bring your supplies and current project piece and come paint with our group of friends!
URL:https://www.yosemitelakespark.org/ylpevent/painters-group/2026-07-02/
LOCATION:Clubhouse\, 30250 Yosemite Springs Parkway\, Coarsegold\, CA\, 93614\, United States
CATEGORIES:Activity
GEO:37.18568;-119.76989
X-APPLE-STRUCTURED-LOCATION;VALUE=URI;X-ADDRESS=Clubhouse 30250 Yosemite Springs Parkway Coarsegold CA 93614 United States;X-APPLE-RADIUS=500;X-TITLE=30250 Yosemite Springs Parkway:geo:-119.76989,37.18568
END:VEVENT
BEGIN:VEVENT
DTSTART;TZID=America/Los_Angeles:20260709T143000
DTEND;TZID=America/Los_Angeles:20260709T163000
DTSTAMP:20260420T000204
CREATED:20230224T003712Z
LAST-MODIFIED:20230601T224410Z
UID:10003661-1783607400-1783614600@www.yosemitelakespark.org
SUMMARY:YLP Painters
DESCRIPTION:The group includes watercolorists\, acrylic\, and oil painters. Bring your supplies and current project piece and come paint with our group of friends!
URL:https://www.yosemitelakespark.org/ylpevent/painters-group/2026-07-09/
LOCATION:Clubhouse\, 30250 Yosemite Springs Parkway\, Coarsegold\, CA\, 93614\, United States
CATEGORIES:Activity
GEO:37.18568;-119.76989
X-APPLE-STRUCTURED-LOCATION;VALUE=URI;X-ADDRESS=Clubhouse 30250 Yosemite Springs Parkway Coarsegold CA 93614 United States;X-APPLE-RADIUS=500;X-TITLE=30250 Yosemite Springs Parkway:geo:-119.76989,37.18568
END:VEVENT
BEGIN:VEVENT
DTSTART;TZID=America/Los_Angeles:20260716T143000
DTEND;TZID=America/Los_Angeles:20260716T163000
DTSTAMP:20260420T000204
CREATED:20230224T003712Z
LAST-MODIFIED:20230601T224410Z
UID:10003662-1784212200-1784219400@www.yosemitelakespark.org
SUMMARY:YLP Painters
DESCRIPTION:The group includes watercolorists\, acrylic\, and oil painters. Bring your supplies and current project piece and come paint with our group of friends!
URL:https://www.yosemitelakespark.org/ylpevent/painters-group/2026-07-16/
LOCATION:Clubhouse\, 30250 Yosemite Springs Parkway\, Coarsegold\, CA\, 93614\, United States
CATEGORIES:Activity
GEO:37.18568;-119.76989
X-APPLE-STRUCTURED-LOCATION;VALUE=URI;X-ADDRESS=Clubhouse 30250 Yosemite Springs Parkway Coarsegold CA 93614 United States;X-APPLE-RADIUS=500;X-TITLE=30250 Yosemite Springs Parkway:geo:-119.76989,37.18568
END:VEVENT
BEGIN:VEVENT
DTSTART;TZID=America/Los_Angeles:20260723T143000
DTEND;TZID=America/Los_Angeles:20260723T163000
DTSTAMP:20260420T000204
CREATED:20230224T003712Z
LAST-MODIFIED:20230601T224410Z
UID:10003663-1784817000-1784824200@www.yosemitelakespark.org
SUMMARY:YLP Painters
DESCRIPTION:The group includes watercolorists\, acrylic\, and oil painters. Bring your supplies and current project piece and come paint with our group of friends!
URL:https://www.yosemitelakespark.org/ylpevent/painters-group/2026-07-23/
LOCATION:Clubhouse\, 30250 Yosemite Springs Parkway\, Coarsegold\, CA\, 93614\, United States
CATEGORIES:Activity
GEO:37.18568;-119.76989
X-APPLE-STRUCTURED-LOCATION;VALUE=URI;X-ADDRESS=Clubhouse 30250 Yosemite Springs Parkway Coarsegold CA 93614 United States;X-APPLE-RADIUS=500;X-TITLE=30250 Yosemite Springs Parkway:geo:-119.76989,37.18568
END:VEVENT
BEGIN:VEVENT
DTSTART;TZID=America/Los_Angeles:20260730T143000
DTEND;TZID=America/Los_Angeles:20260730T163000
DTSTAMP:20260420T000204
CREATED:20230224T003712Z
LAST-MODIFIED:20230601T224410Z
UID:10003664-1785421800-1785429000@www.yosemitelakespark.org
SUMMARY:YLP Painters
DESCRIPTION:The group includes watercolorists\, acrylic\, and oil painters. Bring your supplies and current project piece and come paint with our group of friends!
URL:https://www.yosemitelakespark.org/ylpevent/painters-group/2026-07-30/
LOCATION:Clubhouse\, 30250 Yosemite Springs Parkway\, Coarsegold\, CA\, 93614\, United States
CATEGORIES:Activity
GEO:37.18568;-119.76989
X-APPLE-STRUCTURED-LOCATION;VALUE=URI;X-ADDRESS=Clubhouse 30250 Yosemite Springs Parkway Coarsegold CA 93614 United States;X-APPLE-RADIUS=500;X-TITLE=30250 Yosemite Springs Parkway:geo:-119.76989,37.18568
END:VEVENT
BEGIN:VEVENT
DTSTART;TZID=America/Los_Angeles:20260806T143000
DTEND;TZID=America/Los_Angeles:20260806T163000
DTSTAMP:20260420T000204
CREATED:20230224T003712Z
LAST-MODIFIED:20230601T224410Z
UID:10003665-1786026600-1786033800@www.yosemitelakespark.org
SUMMARY:YLP Painters
DESCRIPTION:The group includes watercolorists\, acrylic\, and oil painters. Bring your supplies and current project piece and come paint with our group of friends!
URL:https://www.yosemitelakespark.org/ylpevent/painters-group/2026-08-06/
LOCATION:Clubhouse\, 30250 Yosemite Springs Parkway\, Coarsegold\, CA\, 93614\, United States
CATEGORIES:Activity
GEO:37.18568;-119.76989
X-APPLE-STRUCTURED-LOCATION;VALUE=URI;X-ADDRESS=Clubhouse 30250 Yosemite Springs Parkway Coarsegold CA 93614 United States;X-APPLE-RADIUS=500;X-TITLE=30250 Yosemite Springs Parkway:geo:-119.76989,37.18568
END:VEVENT
BEGIN:VEVENT
DTSTART;TZID=America/Los_Angeles:20260813T143000
DTEND;TZID=America/Los_Angeles:20260813T163000
DTSTAMP:20260420T000204
CREATED:20230224T003712Z
LAST-MODIFIED:20230601T224410Z
UID:10003666-1786631400-1786638600@www.yosemitelakespark.org
SUMMARY:YLP Painters
DESCRIPTION:The group includes watercolorists\, acrylic\, and oil painters. Bring your supplies and current project piece and come paint with our group of friends!
URL:https://www.yosemitelakespark.org/ylpevent/painters-group/2026-08-13/
LOCATION:Clubhouse\, 30250 Yosemite Springs Parkway\, Coarsegold\, CA\, 93614\, United States
CATEGORIES:Activity
GEO:37.18568;-119.76989
X-APPLE-STRUCTURED-LOCATION;VALUE=URI;X-ADDRESS=Clubhouse 30250 Yosemite Springs Parkway Coarsegold CA 93614 United States;X-APPLE-RADIUS=500;X-TITLE=30250 Yosemite Springs Parkway:geo:-119.76989,37.18568
END:VEVENT
BEGIN:VEVENT
DTSTART;TZID=America/Los_Angeles:20260820T143000
DTEND;TZID=America/Los_Angeles:20260820T163000
DTSTAMP:20260420T000204
CREATED:20230224T003712Z
LAST-MODIFIED:20230601T224410Z
UID:10003667-1787236200-1787243400@www.yosemitelakespark.org
SUMMARY:YLP Painters
DESCRIPTION:The group includes watercolorists\, acrylic\, and oil painters. Bring your supplies and current project piece and come paint with our group of friends!
URL:https://www.yosemitelakespark.org/ylpevent/painters-group/2026-08-20/
LOCATION:Clubhouse\, 30250 Yosemite Springs Parkway\, Coarsegold\, CA\, 93614\, United States
CATEGORIES:Activity
GEO:37.18568;-119.76989
X-APPLE-STRUCTURED-LOCATION;VALUE=URI;X-ADDRESS=Clubhouse 30250 Yosemite Springs Parkway Coarsegold CA 93614 United States;X-APPLE-RADIUS=500;X-TITLE=30250 Yosemite Springs Parkway:geo:-119.76989,37.18568
END:VEVENT
BEGIN:VEVENT
DTSTART;TZID=America/Los_Angeles:20260827T143000
DTEND;TZID=America/Los_Angeles:20260827T163000
DTSTAMP:20260420T000204
CREATED:20230224T003712Z
LAST-MODIFIED:20230601T224410Z
UID:10003668-1787841000-1787848200@www.yosemitelakespark.org
SUMMARY:YLP Painters
DESCRIPTION:The group includes watercolorists\, acrylic\, and oil painters. Bring your supplies and current project piece and come paint with our group of friends!
URL:https://www.yosemitelakespark.org/ylpevent/painters-group/2026-08-27/
LOCATION:Clubhouse\, 30250 Yosemite Springs Parkway\, Coarsegold\, CA\, 93614\, United States
CATEGORIES:Activity
GEO:37.18568;-119.76989
X-APPLE-STRUCTURED-LOCATION;VALUE=URI;X-ADDRESS=Clubhouse 30250 Yosemite Springs Parkway Coarsegold CA 93614 United States;X-APPLE-RADIUS=500;X-TITLE=30250 Yosemite Springs Parkway:geo:-119.76989,37.18568
END:VEVENT
BEGIN:VEVENT
DTSTART;TZID=America/Los_Angeles:20260903T143000
DTEND;TZID=America/Los_Angeles:20260903T163000
DTSTAMP:20260420T000204
CREATED:20230224T003712Z
LAST-MODIFIED:20230601T224410Z
UID:10003669-1788445800-1788453000@www.yosemitelakespark.org
SUMMARY:YLP Painters
DESCRIPTION:The group includes watercolorists\, acrylic\, and oil painters. Bring your supplies and current project piece and come paint with our group of friends!
URL:https://www.yosemitelakespark.org/ylpevent/painters-group/2026-09-03/
LOCATION:Clubhouse\, 30250 Yosemite Springs Parkway\, Coarsegold\, CA\, 93614\, United States
CATEGORIES:Activity
GEO:37.18568;-119.76989
X-APPLE-STRUCTURED-LOCATION;VALUE=URI;X-ADDRESS=Clubhouse 30250 Yosemite Springs Parkway Coarsegold CA 93614 United States;X-APPLE-RADIUS=500;X-TITLE=30250 Yosemite Springs Parkway:geo:-119.76989,37.18568
END:VEVENT
BEGIN:VEVENT
DTSTART;TZID=America/Los_Angeles:20260910T143000
DTEND;TZID=America/Los_Angeles:20260910T163000
DTSTAMP:20260420T000204
CREATED:20230224T003712Z
LAST-MODIFIED:20230601T224410Z
UID:10003670-1789050600-1789057800@www.yosemitelakespark.org
SUMMARY:YLP Painters
DESCRIPTION:The group includes watercolorists\, acrylic\, and oil painters. Bring your supplies and current project piece and come paint with our group of friends!
URL:https://www.yosemitelakespark.org/ylpevent/painters-group/2026-09-10/
LOCATION:Clubhouse\, 30250 Yosemite Springs Parkway\, Coarsegold\, CA\, 93614\, United States
CATEGORIES:Activity
GEO:37.18568;-119.76989
X-APPLE-STRUCTURED-LOCATION;VALUE=URI;X-ADDRESS=Clubhouse 30250 Yosemite Springs Parkway Coarsegold CA 93614 United States;X-APPLE-RADIUS=500;X-TITLE=30250 Yosemite Springs Parkway:geo:-119.76989,37.18568
END:VEVENT
BEGIN:VEVENT
DTSTART;TZID=America/Los_Angeles:20260917T143000
DTEND;TZID=America/Los_Angeles:20260917T163000
DTSTAMP:20260420T000204
CREATED:20230224T003712Z
LAST-MODIFIED:20230601T224410Z
UID:10003671-1789655400-1789662600@www.yosemitelakespark.org
SUMMARY:YLP Painters
DESCRIPTION:The group includes watercolorists\, acrylic\, and oil painters. Bring your supplies and current project piece and come paint with our group of friends!
URL:https://www.yosemitelakespark.org/ylpevent/painters-group/2026-09-17/
LOCATION:Clubhouse\, 30250 Yosemite Springs Parkway\, Coarsegold\, CA\, 93614\, United States
CATEGORIES:Activity
GEO:37.18568;-119.76989
X-APPLE-STRUCTURED-LOCATION;VALUE=URI;X-ADDRESS=Clubhouse 30250 Yosemite Springs Parkway Coarsegold CA 93614 United States;X-APPLE-RADIUS=500;X-TITLE=30250 Yosemite Springs Parkway:geo:-119.76989,37.18568
END:VEVENT
BEGIN:VEVENT
DTSTART;TZID=America/Los_Angeles:20260924T143000
DTEND;TZID=America/Los_Angeles:20260924T163000
DTSTAMP:20260420T000204
CREATED:20230224T003712Z
LAST-MODIFIED:20230601T224410Z
UID:10003672-1790260200-1790267400@www.yosemitelakespark.org
SUMMARY:YLP Painters
DESCRIPTION:The group includes watercolorists\, acrylic\, and oil painters. Bring your supplies and current project piece and come paint with our group of friends!
URL:https://www.yosemitelakespark.org/ylpevent/painters-group/2026-09-24/
LOCATION:Clubhouse\, 30250 Yosemite Springs Parkway\, Coarsegold\, CA\, 93614\, United States
CATEGORIES:Activity
GEO:37.18568;-119.76989
X-APPLE-STRUCTURED-LOCATION;VALUE=URI;X-ADDRESS=Clubhouse 30250 Yosemite Springs Parkway Coarsegold CA 93614 United States;X-APPLE-RADIUS=500;X-TITLE=30250 Yosemite Springs Parkway:geo:-119.76989,37.18568
END:VEVENT
BEGIN:VEVENT
DTSTART;TZID=America/Los_Angeles:20261001T143000
DTEND;TZID=America/Los_Angeles:20261001T163000
DTSTAMP:20260420T000204
CREATED:20230224T003712Z
LAST-MODIFIED:20230601T224410Z
UID:10003673-1790865000-1790872200@www.yosemitelakespark.org
SUMMARY:YLP Painters
DESCRIPTION:The group includes watercolorists\, acrylic\, and oil painters. Bring your supplies and current project piece and come paint with our group of friends!
URL:https://www.yosemitelakespark.org/ylpevent/painters-group/2026-10-01/
LOCATION:Clubhouse\, 30250 Yosemite Springs Parkway\, Coarsegold\, CA\, 93614\, United States
CATEGORIES:Activity
GEO:37.18568;-119.76989
X-APPLE-STRUCTURED-LOCATION;VALUE=URI;X-ADDRESS=Clubhouse 30250 Yosemite Springs Parkway Coarsegold CA 93614 United States;X-APPLE-RADIUS=500;X-TITLE=30250 Yosemite Springs Parkway:geo:-119.76989,37.18568
END:VEVENT
BEGIN:VEVENT
DTSTART;TZID=America/Los_Angeles:20261008T143000
DTEND;TZID=America/Los_Angeles:20261008T163000
DTSTAMP:20260420T000204
CREATED:20230224T003712Z
LAST-MODIFIED:20230601T224410Z
UID:10003674-1791469800-1791477000@www.yosemitelakespark.org
SUMMARY:YLP Painters
DESCRIPTION:The group includes watercolorists\, acrylic\, and oil painters. Bring your supplies and current project piece and come paint with our group of friends!
URL:https://www.yosemitelakespark.org/ylpevent/painters-group/2026-10-08/
LOCATION:Clubhouse\, 30250 Yosemite Springs Parkway\, Coarsegold\, CA\, 93614\, United States
CATEGORIES:Activity
GEO:37.18568;-119.76989
X-APPLE-STRUCTURED-LOCATION;VALUE=URI;X-ADDRESS=Clubhouse 30250 Yosemite Springs Parkway Coarsegold CA 93614 United States;X-APPLE-RADIUS=500;X-TITLE=30250 Yosemite Springs Parkway:geo:-119.76989,37.18568
END:VEVENT
BEGIN:VEVENT
DTSTART;TZID=America/Los_Angeles:20261015T143000
DTEND;TZID=America/Los_Angeles:20261015T163000
DTSTAMP:20260420T000204
CREATED:20230224T003712Z
LAST-MODIFIED:20230601T224410Z
UID:10003675-1792074600-1792081800@www.yosemitelakespark.org
SUMMARY:YLP Painters
DESCRIPTION:The group includes watercolorists\, acrylic\, and oil painters. Bring your supplies and current project piece and come paint with our group of friends!
URL:https://www.yosemitelakespark.org/ylpevent/painters-group/2026-10-15/
LOCATION:Clubhouse\, 30250 Yosemite Springs Parkway\, Coarsegold\, CA\, 93614\, United States
CATEGORIES:Activity
GEO:37.18568;-119.76989
X-APPLE-STRUCTURED-LOCATION;VALUE=URI;X-ADDRESS=Clubhouse 30250 Yosemite Springs Parkway Coarsegold CA 93614 United States;X-APPLE-RADIUS=500;X-TITLE=30250 Yosemite Springs Parkway:geo:-119.76989,37.18568
END:VEVENT
BEGIN:VEVENT
DTSTART;TZID=America/Los_Angeles:20261022T143000
DTEND;TZID=America/Los_Angeles:20261022T163000
DTSTAMP:20260420T000204
CREATED:20230224T003712Z
LAST-MODIFIED:20230601T224410Z
UID:10003676-1792679400-1792686600@www.yosemitelakespark.org
SUMMARY:YLP Painters
DESCRIPTION:The group includes watercolorists\, acrylic\, and oil painters. Bring your supplies and current project piece and come paint with our group of friends!
URL:https://www.yosemitelakespark.org/ylpevent/painters-group/2026-10-22/
LOCATION:Clubhouse\, 30250 Yosemite Springs Parkway\, Coarsegold\, CA\, 93614\, United States
CATEGORIES:Activity
GEO:37.18568;-119.76989
X-APPLE-STRUCTURED-LOCATION;VALUE=URI;X-ADDRESS=Clubhouse 30250 Yosemite Springs Parkway Coarsegold CA 93614 United States;X-APPLE-RADIUS=500;X-TITLE=30250 Yosemite Springs Parkway:geo:-119.76989,37.18568
END:VEVENT
BEGIN:VEVENT
DTSTART;TZID=America/Los_Angeles:20261029T143000
DTEND;TZID=America/Los_Angeles:20261029T163000
DTSTAMP:20260420T000204
CREATED:20230224T003712Z
LAST-MODIFIED:20230601T224410Z
UID:10003677-1793284200-1793291400@www.yosemitelakespark.org
SUMMARY:YLP Painters
DESCRIPTION:The group includes watercolorists\, acrylic\, and oil painters. Bring your supplies and current project piece and come paint with our group of friends!
URL:https://www.yosemitelakespark.org/ylpevent/painters-group/2026-10-29/
LOCATION:Clubhouse\, 30250 Yosemite Springs Parkway\, Coarsegold\, CA\, 93614\, United States
CATEGORIES:Activity
GEO:37.18568;-119.76989
X-APPLE-STRUCTURED-LOCATION;VALUE=URI;X-ADDRESS=Clubhouse 30250 Yosemite Springs Parkway Coarsegold CA 93614 United States;X-APPLE-RADIUS=500;X-TITLE=30250 Yosemite Springs Parkway:geo:-119.76989,37.18568
END:VEVENT
BEGIN:VEVENT
DTSTART;TZID=America/Los_Angeles:20261105T143000
DTEND;TZID=America/Los_Angeles:20261105T163000
DTSTAMP:20260420T000204
CREATED:20230224T003712Z
LAST-MODIFIED:20230601T224410Z
UID:10003678-1793889000-1793896200@www.yosemitelakespark.org
SUMMARY:YLP Painters
DESCRIPTION:The group includes watercolorists\, acrylic\, and oil painters. Bring your supplies and current project piece and come paint with our group of friends!
URL:https://www.yosemitelakespark.org/ylpevent/painters-group/2026-11-05/
LOCATION:Clubhouse\, 30250 Yosemite Springs Parkway\, Coarsegold\, CA\, 93614\, United States
CATEGORIES:Activity
GEO:37.18568;-119.76989
X-APPLE-STRUCTURED-LOCATION;VALUE=URI;X-ADDRESS=Clubhouse 30250 Yosemite Springs Parkway Coarsegold CA 93614 United States;X-APPLE-RADIUS=500;X-TITLE=30250 Yosemite Springs Parkway:geo:-119.76989,37.18568
END:VEVENT
BEGIN:VEVENT
DTSTART;TZID=America/Los_Angeles:20261112T143000
DTEND;TZID=America/Los_Angeles:20261112T163000
DTSTAMP:20260420T000204
CREATED:20230224T003712Z
LAST-MODIFIED:20230601T224410Z
UID:10003679-1794493800-1794501000@www.yosemitelakespark.org
SUMMARY:YLP Painters
DESCRIPTION:The group includes watercolorists\, acrylic\, and oil painters. Bring your supplies and current project piece and come paint with our group of friends!
URL:https://www.yosemitelakespark.org/ylpevent/painters-group/2026-11-12/
LOCATION:Clubhouse\, 30250 Yosemite Springs Parkway\, Coarsegold\, CA\, 93614\, United States
CATEGORIES:Activity
GEO:37.18568;-119.76989
X-APPLE-STRUCTURED-LOCATION;VALUE=URI;X-ADDRESS=Clubhouse 30250 Yosemite Springs Parkway Coarsegold CA 93614 United States;X-APPLE-RADIUS=500;X-TITLE=30250 Yosemite Springs Parkway:geo:-119.76989,37.18568
END:VEVENT
END:VCALENDAR