BEGIN:VCALENDAR
VERSION:2.0
PRODID:-//Yosemite Lakes Park - ECPv6.15.20//NONSGML v1.0//EN
CALSCALE:GREGORIAN
METHOD:PUBLISH
X-WR-CALNAME:Yosemite Lakes Park
X-ORIGINAL-URL:https://www.yosemitelakespark.org
X-WR-CALDESC:Events for Yosemite Lakes Park
REFRESH-INTERVAL;VALUE=DURATION:PT1H
X-Robots-Tag:noindex
X-PUBLISHED-TTL:PT1H
BEGIN:VTIMEZONE
TZID:America/Los_Angeles
BEGIN:DAYLIGHT
TZOFFSETFROM:-0800
TZOFFSETTO:-0700
TZNAME:PDT
DTSTART:20250309T100000
END:DAYLIGHT
BEGIN:STANDARD
TZOFFSETFROM:-0700
TZOFFSETTO:-0800
TZNAME:PST
DTSTART:20251102T090000
END:STANDARD
BEGIN:DAYLIGHT
TZOFFSETFROM:-0800
TZOFFSETTO:-0700
TZNAME:PDT
DTSTART:20260308T100000
END:DAYLIGHT
BEGIN:STANDARD
TZOFFSETFROM:-0700
TZOFFSETTO:-0800
TZNAME:PST
DTSTART:20261101T090000
END:STANDARD
BEGIN:DAYLIGHT
TZOFFSETFROM:-0800
TZOFFSETTO:-0700
TZNAME:PDT
DTSTART:20270314T100000
END:DAYLIGHT
BEGIN:STANDARD
TZOFFSETFROM:-0700
TZOFFSETTO:-0800
TZNAME:PST
DTSTART:20271107T090000
END:STANDARD
END:VTIMEZONE
BEGIN:VEVENT
DTSTART;TZID=America/Los_Angeles:20261021T100000
DTEND;TZID=America/Los_Angeles:20261021T120000
DTSTAMP:20260425T084725
CREATED:20230614T201841Z
LAST-MODIFIED:20240731T184550Z
UID:10006122-1792576800-1792584000@www.yosemitelakespark.org
SUMMARY:Rippits Quilting
DESCRIPTION:Quilting Group That Includes Anything/Everything That Has To Do With Fiber/Thread/Yarn \nTo The Right Of The Large Curtain In The Fireside Room
URL:https://www.yosemitelakespark.org/ylpevent/rippits/2026-10-21/
LOCATION:Clubhouse\, 30250 Yosemite Springs Parkway\, Coarsegold\, CA\, 93614\, United States
CATEGORIES:Activity
GEO:37.18568;-119.76989
X-APPLE-STRUCTURED-LOCATION;VALUE=URI;X-ADDRESS=Clubhouse 30250 Yosemite Springs Parkway Coarsegold CA 93614 United States;X-APPLE-RADIUS=500;X-TITLE=30250 Yosemite Springs Parkway:geo:-119.76989,37.18568
END:VEVENT
BEGIN:VEVENT
DTSTART;TZID=America/Los_Angeles:20261021T190000
DTEND;TZID=America/Los_Angeles:20261021T220000
DTSTAMP:20260425T084725
CREATED:20250219T225007Z
LAST-MODIFIED:20250711T233855Z
UID:10013584-1792609200-1792620000@www.yosemitelakespark.org
SUMMARY:Karaoke at The Yosemite Grill
DESCRIPTION:Karaoke with DJ Debbie Lee \nEvery Wednesday Evening 7pm-10pm
URL:https://www.yosemitelakespark.org/ylpevent/karaoke-2/2026-10-21/
LOCATION:Clubhouse\, 30250 Yosemite Springs Parkway\, Coarsegold\, CA\, 93614\, United States
CATEGORIES:Karaoke
ATTACH;FMTTYPE=image/jpeg:https://www.yosemitelakespark.org/wp-content/uploads/2025/02/Karaoke-Calendar-Pic.jpg
GEO:37.18568;-119.76989
X-APPLE-STRUCTURED-LOCATION;VALUE=URI;X-ADDRESS=Clubhouse 30250 Yosemite Springs Parkway Coarsegold CA 93614 United States;X-APPLE-RADIUS=500;X-TITLE=30250 Yosemite Springs Parkway:geo:-119.76989,37.18568
END:VEVENT
BEGIN:VEVENT
DTSTART;TZID=America/Los_Angeles:20261022T100000
DTEND;TZID=America/Los_Angeles:20261022T110000
DTSTAMP:20260425T084725
CREATED:20260227T182059Z
LAST-MODIFIED:20260227T232726Z
UID:10016347-1792663200-1792666800@www.yosemitelakespark.org
SUMMARY:Mat Yoga Fusion with Morgan Pozzi
DESCRIPTION:A group exercise class combining gentle\nstretching and yoga inspired poses to support\nbetter posture and core strength. \nModifications are always offered and encouraged. \nSuggested Donation $10
URL:https://www.yosemitelakespark.org/ylpevent/mat-yoga-fusion-with-morgan-pozzi/2026-10-22/
LOCATION:Clubhouse Fireside Room\, 30250 Yosemite Springs Parkway\, Coarsegold\, CA\, 93614\, United States
CATEGORIES:Activity
ATTACH;FMTTYPE=application/pdf:https://www.yosemitelakespark.org/wp-content/uploads/2026/02/Morgan-Pozzi-Yoga-Flyer.pdf
GEO:37.1944827;-119.7698338
X-APPLE-STRUCTURED-LOCATION;VALUE=URI;X-ADDRESS=Clubhouse Fireside Room 30250 Yosemite Springs Parkway Coarsegold CA 93614 United States;X-APPLE-RADIUS=500;X-TITLE=30250 Yosemite Springs Parkway:geo:-119.7698338,37.1944827
END:VEVENT
BEGIN:VEVENT
DTSTART;TZID=America/Los_Angeles:20261022T130000
DTEND;TZID=America/Los_Angeles:20261022T160000
DTSTAMP:20260425T084725
CREATED:20260319T172201Z
LAST-MODIFIED:20260319T172201Z
UID:10016929-1792674000-1792684800@www.yosemitelakespark.org
SUMMARY:Card Game
DESCRIPTION:
URL:https://www.yosemitelakespark.org/ylpevent/card-game/2026-10-22/
LOCATION:Clubhouse Fireside Room\, 30250 Yosemite Springs Parkway\, Coarsegold\, CA\, 93614\, United States
CATEGORIES:Blue Heron-Yosemite Grill
GEO:37.1944827;-119.7698338
X-APPLE-STRUCTURED-LOCATION;VALUE=URI;X-ADDRESS=Clubhouse Fireside Room 30250 Yosemite Springs Parkway Coarsegold CA 93614 United States;X-APPLE-RADIUS=500;X-TITLE=30250 Yosemite Springs Parkway:geo:-119.7698338,37.1944827
END:VEVENT
BEGIN:VEVENT
DTSTART;TZID=America/Los_Angeles:20261022T133000
DTEND;TZID=America/Los_Angeles:20261022T153000
DTSTAMP:20260425T084725
CREATED:20260130T163309Z
LAST-MODIFIED:20260130T163310Z
UID:10005601-1792675800-1792683000@www.yosemitelakespark.org
SUMMARY:Crochet and Knitting Group
DESCRIPTION:This group will be composed of people who want to learn or pass on knowledge of knitting and crocheting. \nGroup will meet in the Fireside room to the right of the curtain.
URL:https://www.yosemitelakespark.org/ylpevent/crochet-and-knitting-group-3/2026-10-22/
LOCATION:Clubhouse\, 30250 Yosemite Springs Parkway\, Coarsegold\, CA\, 93614\, United States
CATEGORIES:Activity
GEO:37.18568;-119.76989
X-APPLE-STRUCTURED-LOCATION;VALUE=URI;X-ADDRESS=Clubhouse 30250 Yosemite Springs Parkway Coarsegold CA 93614 United States;X-APPLE-RADIUS=500;X-TITLE=30250 Yosemite Springs Parkway:geo:-119.76989,37.18568
END:VEVENT
BEGIN:VEVENT
DTSTART;TZID=America/Los_Angeles:20261022T143000
DTEND;TZID=America/Los_Angeles:20261022T163000
DTSTAMP:20260425T084725
CREATED:20230224T003712Z
LAST-MODIFIED:20230601T224410Z
UID:10003676-1792679400-1792686600@www.yosemitelakespark.org
SUMMARY:YLP Painters
DESCRIPTION:The group includes watercolorists\, acrylic\, and oil painters. Bring your supplies and current project piece and come paint with our group of friends!
URL:https://www.yosemitelakespark.org/ylpevent/painters-group/2026-10-22/
LOCATION:Clubhouse\, 30250 Yosemite Springs Parkway\, Coarsegold\, CA\, 93614\, United States
CATEGORIES:Activity
GEO:37.18568;-119.76989
X-APPLE-STRUCTURED-LOCATION;VALUE=URI;X-ADDRESS=Clubhouse 30250 Yosemite Springs Parkway Coarsegold CA 93614 United States;X-APPLE-RADIUS=500;X-TITLE=30250 Yosemite Springs Parkway:geo:-119.76989,37.18568
END:VEVENT
BEGIN:VEVENT
DTSTART;TZID=America/Los_Angeles:20261023T090000
DTEND;TZID=America/Los_Angeles:20261023T100000
DTSTAMP:20260425T084725
CREATED:20250912T220923Z
LAST-MODIFIED:20250912T220923Z
UID:10014843-1792746000-1792749600@www.yosemitelakespark.org
SUMMARY:Aerobics
DESCRIPTION:Aerobics via YouTube
URL:https://www.yosemitelakespark.org/ylpevent/aerobics/2026-10-23/
LOCATION:Clubhouse\, 30250 Yosemite Springs Parkway\, Coarsegold\, CA\, 93614\, United States
CATEGORIES:Activity
GEO:37.18568;-119.76989
X-APPLE-STRUCTURED-LOCATION;VALUE=URI;X-ADDRESS=Clubhouse 30250 Yosemite Springs Parkway Coarsegold CA 93614 United States;X-APPLE-RADIUS=500;X-TITLE=30250 Yosemite Springs Parkway:geo:-119.76989,37.18568
END:VEVENT
BEGIN:VEVENT
DTSTART;TZID=America/Los_Angeles:20261023T100000
DTEND;TZID=America/Los_Angeles:20261023T120000
DTSTAMP:20260425T084725
CREATED:20240813T185850Z
LAST-MODIFIED:20250711T233443Z
UID:10009354-1792749600-1792756800@www.yosemitelakespark.org
SUMMARY:Ladies Of The Lakes Librarian Work Hours
DESCRIPTION:10am – 12pm \nTuesday And Fridays In the Library
URL:https://www.yosemitelakespark.org/ylpevent/ladies-of-the-lakes-librarian-work-hours-2-2/2026-10-23/
LOCATION:Clubhouse\, 30250 Yosemite Springs Parkway\, Coarsegold\, CA\, 93614\, United States
CATEGORIES:Activity
GEO:37.18568;-119.76989
X-APPLE-STRUCTURED-LOCATION;VALUE=URI;X-ADDRESS=Clubhouse 30250 Yosemite Springs Parkway Coarsegold CA 93614 United States;X-APPLE-RADIUS=500;X-TITLE=30250 Yosemite Springs Parkway:geo:-119.76989,37.18568
END:VEVENT
BEGIN:VEVENT
DTSTART;VALUE=DATE:20261025
DTEND;VALUE=DATE:20261026
DTSTAMP:20260425T084725
CREATED:20260218T204626Z
LAST-MODIFIED:20260218T204626Z
UID:10016264-1792886400-1792972799@www.yosemitelakespark.org
SUMMARY:Private Event Wedding
DESCRIPTION:Jaime and Adam
URL:https://www.yosemitelakespark.org/ylpevent/private-event-wedding/
LOCATION:Clubhouse\, 30250 Yosemite Springs Parkway\, Coarsegold\, CA\, 93614\, United States
CATEGORIES:Blue Heron-Yosemite Grill,Special
GEO:37.18568;-119.76989
X-APPLE-STRUCTURED-LOCATION;VALUE=URI;X-ADDRESS=Clubhouse 30250 Yosemite Springs Parkway Coarsegold CA 93614 United States;X-APPLE-RADIUS=500;X-TITLE=30250 Yosemite Springs Parkway:geo:-119.76989,37.18568
END:VEVENT
BEGIN:VEVENT
DTSTART;TZID=America/Los_Angeles:20261026T090000
DTEND;TZID=America/Los_Angeles:20261026T100000
DTSTAMP:20260425T084725
CREATED:20250912T220923Z
LAST-MODIFIED:20250912T220923Z
UID:10014844-1793005200-1793008800@www.yosemitelakespark.org
SUMMARY:Aerobics
DESCRIPTION:Aerobics via YouTube
URL:https://www.yosemitelakespark.org/ylpevent/aerobics/2026-10-26/
LOCATION:Clubhouse\, 30250 Yosemite Springs Parkway\, Coarsegold\, CA\, 93614\, United States
CATEGORIES:Activity
GEO:37.18568;-119.76989
X-APPLE-STRUCTURED-LOCATION;VALUE=URI;X-ADDRESS=Clubhouse 30250 Yosemite Springs Parkway Coarsegold CA 93614 United States;X-APPLE-RADIUS=500;X-TITLE=30250 Yosemite Springs Parkway:geo:-119.76989,37.18568
END:VEVENT
BEGIN:VEVENT
DTSTART;TZID=America/Los_Angeles:20261027T100000
DTEND;TZID=America/Los_Angeles:20261027T110000
DTSTAMP:20260425T084725
CREATED:20260227T182059Z
LAST-MODIFIED:20260227T232726Z
UID:10016348-1793095200-1793098800@www.yosemitelakespark.org
SUMMARY:Mat Yoga Fusion with Morgan Pozzi
DESCRIPTION:A group exercise class combining gentle\nstretching and yoga inspired poses to support\nbetter posture and core strength. \nModifications are always offered and encouraged. \nSuggested Donation $10
URL:https://www.yosemitelakespark.org/ylpevent/mat-yoga-fusion-with-morgan-pozzi/2026-10-27/
LOCATION:Clubhouse Fireside Room\, 30250 Yosemite Springs Parkway\, Coarsegold\, CA\, 93614\, United States
CATEGORIES:Activity
ATTACH;FMTTYPE=application/pdf:https://www.yosemitelakespark.org/wp-content/uploads/2026/02/Morgan-Pozzi-Yoga-Flyer.pdf
GEO:37.1944827;-119.7698338
X-APPLE-STRUCTURED-LOCATION;VALUE=URI;X-ADDRESS=Clubhouse Fireside Room 30250 Yosemite Springs Parkway Coarsegold CA 93614 United States;X-APPLE-RADIUS=500;X-TITLE=30250 Yosemite Springs Parkway:geo:-119.7698338,37.1944827
END:VEVENT
BEGIN:VEVENT
DTSTART;TZID=America/Los_Angeles:20261027T100000
DTEND;TZID=America/Los_Angeles:20261027T120000
DTSTAMP:20260425T084725
CREATED:20240813T185850Z
LAST-MODIFIED:20250711T233443Z
UID:10010817-1793095200-1793102400@www.yosemitelakespark.org
SUMMARY:Ladies Of The Lakes Librarian Work Hours
DESCRIPTION:10am – 12pm \nTuesday And Fridays In the Library
URL:https://www.yosemitelakespark.org/ylpevent/ladies-of-the-lakes-librarian-work-hours-2-2/2026-10-27/
LOCATION:Clubhouse\, 30250 Yosemite Springs Parkway\, Coarsegold\, CA\, 93614\, United States
CATEGORIES:Activity
GEO:37.18568;-119.76989
X-APPLE-STRUCTURED-LOCATION;VALUE=URI;X-ADDRESS=Clubhouse 30250 Yosemite Springs Parkway Coarsegold CA 93614 United States;X-APPLE-RADIUS=500;X-TITLE=30250 Yosemite Springs Parkway:geo:-119.76989,37.18568
END:VEVENT
BEGIN:VEVENT
DTSTART;TZID=America/Los_Angeles:20261027T130000
DTEND;TZID=America/Los_Angeles:20261027T160000
DTSTAMP:20260425T084725
CREATED:20260319T172201Z
LAST-MODIFIED:20260319T172201Z
UID:10016930-1793106000-1793116800@www.yosemitelakespark.org
SUMMARY:Card Game
DESCRIPTION:
URL:https://www.yosemitelakespark.org/ylpevent/card-game/2026-10-27/
LOCATION:Clubhouse Fireside Room\, 30250 Yosemite Springs Parkway\, Coarsegold\, CA\, 93614\, United States
CATEGORIES:Blue Heron-Yosemite Grill
GEO:37.1944827;-119.7698338
X-APPLE-STRUCTURED-LOCATION;VALUE=URI;X-ADDRESS=Clubhouse Fireside Room 30250 Yosemite Springs Parkway Coarsegold CA 93614 United States;X-APPLE-RADIUS=500;X-TITLE=30250 Yosemite Springs Parkway:geo:-119.7698338,37.1944827
END:VEVENT
BEGIN:VEVENT
DTSTART;TZID=America/Los_Angeles:20261028T090000
DTEND;TZID=America/Los_Angeles:20261028T100000
DTSTAMP:20260425T084725
CREATED:20250912T220923Z
LAST-MODIFIED:20250912T220923Z
UID:10014845-1793178000-1793181600@www.yosemitelakespark.org
SUMMARY:Aerobics
DESCRIPTION:Aerobics via YouTube
URL:https://www.yosemitelakespark.org/ylpevent/aerobics/2026-10-28/
LOCATION:Clubhouse\, 30250 Yosemite Springs Parkway\, Coarsegold\, CA\, 93614\, United States
CATEGORIES:Activity
GEO:37.18568;-119.76989
X-APPLE-STRUCTURED-LOCATION;VALUE=URI;X-ADDRESS=Clubhouse 30250 Yosemite Springs Parkway Coarsegold CA 93614 United States;X-APPLE-RADIUS=500;X-TITLE=30250 Yosemite Springs Parkway:geo:-119.76989,37.18568
END:VEVENT
BEGIN:VEVENT
DTSTART;TZID=America/Los_Angeles:20261028T100000
DTEND;TZID=America/Los_Angeles:20261028T120000
DTSTAMP:20260425T084725
CREATED:20230614T201841Z
LAST-MODIFIED:20240731T184550Z
UID:10006123-1793181600-1793188800@www.yosemitelakespark.org
SUMMARY:Rippits Quilting
DESCRIPTION:Quilting Group That Includes Anything/Everything That Has To Do With Fiber/Thread/Yarn \nTo The Right Of The Large Curtain In The Fireside Room
URL:https://www.yosemitelakespark.org/ylpevent/rippits/2026-10-28/
LOCATION:Clubhouse\, 30250 Yosemite Springs Parkway\, Coarsegold\, CA\, 93614\, United States
CATEGORIES:Activity
GEO:37.18568;-119.76989
X-APPLE-STRUCTURED-LOCATION;VALUE=URI;X-ADDRESS=Clubhouse 30250 Yosemite Springs Parkway Coarsegold CA 93614 United States;X-APPLE-RADIUS=500;X-TITLE=30250 Yosemite Springs Parkway:geo:-119.76989,37.18568
END:VEVENT
BEGIN:VEVENT
DTSTART;TZID=America/Los_Angeles:20261028T170000
DTEND;TZID=America/Los_Angeles:20261028T180000
DTSTAMP:20260425T084725
CREATED:20260408T211351Z
LAST-MODIFIED:20260408T211351Z
UID:10017480-1793206800-1793210400@www.yosemitelakespark.org
SUMMARY:Restaurant Committee
DESCRIPTION:Meeting in the library
URL:https://www.yosemitelakespark.org/ylpevent/restaurant-committee/2026-10-28/
LOCATION:Clubhouse\, 30250 Yosemite Springs Parkway\, Coarsegold\, CA\, 93614\, United States
CATEGORIES:Official Meetings
GEO:37.18568;-119.76989
X-APPLE-STRUCTURED-LOCATION;VALUE=URI;X-ADDRESS=Clubhouse 30250 Yosemite Springs Parkway Coarsegold CA 93614 United States;X-APPLE-RADIUS=500;X-TITLE=30250 Yosemite Springs Parkway:geo:-119.76989,37.18568
END:VEVENT
BEGIN:VEVENT
DTSTART;TZID=America/Los_Angeles:20261028T190000
DTEND;TZID=America/Los_Angeles:20261028T220000
DTSTAMP:20260425T084725
CREATED:20250219T225007Z
LAST-MODIFIED:20250711T233855Z
UID:10013585-1793214000-1793224800@www.yosemitelakespark.org
SUMMARY:Karaoke at The Yosemite Grill
DESCRIPTION:Karaoke with DJ Debbie Lee \nEvery Wednesday Evening 7pm-10pm
URL:https://www.yosemitelakespark.org/ylpevent/karaoke-2/2026-10-28/
LOCATION:Clubhouse\, 30250 Yosemite Springs Parkway\, Coarsegold\, CA\, 93614\, United States
CATEGORIES:Karaoke
ATTACH;FMTTYPE=image/jpeg:https://www.yosemitelakespark.org/wp-content/uploads/2025/02/Karaoke-Calendar-Pic.jpg
GEO:37.18568;-119.76989
X-APPLE-STRUCTURED-LOCATION;VALUE=URI;X-ADDRESS=Clubhouse 30250 Yosemite Springs Parkway Coarsegold CA 93614 United States;X-APPLE-RADIUS=500;X-TITLE=30250 Yosemite Springs Parkway:geo:-119.76989,37.18568
END:VEVENT
BEGIN:VEVENT
DTSTART;TZID=America/Los_Angeles:20261029T100000
DTEND;TZID=America/Los_Angeles:20261029T110000
DTSTAMP:20260425T084725
CREATED:20260227T182059Z
LAST-MODIFIED:20260227T232726Z
UID:10016349-1793268000-1793271600@www.yosemitelakespark.org
SUMMARY:Mat Yoga Fusion with Morgan Pozzi
DESCRIPTION:A group exercise class combining gentle\nstretching and yoga inspired poses to support\nbetter posture and core strength. \nModifications are always offered and encouraged. \nSuggested Donation $10
URL:https://www.yosemitelakespark.org/ylpevent/mat-yoga-fusion-with-morgan-pozzi/2026-10-29/
LOCATION:Clubhouse Fireside Room\, 30250 Yosemite Springs Parkway\, Coarsegold\, CA\, 93614\, United States
CATEGORIES:Activity
ATTACH;FMTTYPE=application/pdf:https://www.yosemitelakespark.org/wp-content/uploads/2026/02/Morgan-Pozzi-Yoga-Flyer.pdf
GEO:37.1944827;-119.7698338
X-APPLE-STRUCTURED-LOCATION;VALUE=URI;X-ADDRESS=Clubhouse Fireside Room 30250 Yosemite Springs Parkway Coarsegold CA 93614 United States;X-APPLE-RADIUS=500;X-TITLE=30250 Yosemite Springs Parkway:geo:-119.7698338,37.1944827
END:VEVENT
BEGIN:VEVENT
DTSTART;TZID=America/Los_Angeles:20261029T130000
DTEND;TZID=America/Los_Angeles:20261029T150000
DTSTAMP:20260425T084725
CREATED:20250124T025327Z
LAST-MODIFIED:20250124T025327Z
UID:10013046-1793278800-1793286000@www.yosemitelakespark.org
SUMMARY:PAN Card Game
DESCRIPTION:Activity To Meet In The Fireside Room
URL:https://www.yosemitelakespark.org/ylpevent/pan-card-game/2026-10-29/
LOCATION:Clubhouse\, 30250 Yosemite Springs Parkway\, Coarsegold\, CA\, 93614\, United States
CATEGORIES:Activity
GEO:37.18568;-119.76989
X-APPLE-STRUCTURED-LOCATION;VALUE=URI;X-ADDRESS=Clubhouse 30250 Yosemite Springs Parkway Coarsegold CA 93614 United States;X-APPLE-RADIUS=500;X-TITLE=30250 Yosemite Springs Parkway:geo:-119.76989,37.18568
END:VEVENT
BEGIN:VEVENT
DTSTART;TZID=America/Los_Angeles:20261029T130000
DTEND;TZID=America/Los_Angeles:20261029T160000
DTSTAMP:20260425T084725
CREATED:20260319T172201Z
LAST-MODIFIED:20260319T172201Z
UID:10016931-1793278800-1793289600@www.yosemitelakespark.org
SUMMARY:Card Game
DESCRIPTION:
URL:https://www.yosemitelakespark.org/ylpevent/card-game/2026-10-29/
LOCATION:Clubhouse Fireside Room\, 30250 Yosemite Springs Parkway\, Coarsegold\, CA\, 93614\, United States
CATEGORIES:Blue Heron-Yosemite Grill
GEO:37.1944827;-119.7698338
X-APPLE-STRUCTURED-LOCATION;VALUE=URI;X-ADDRESS=Clubhouse Fireside Room 30250 Yosemite Springs Parkway Coarsegold CA 93614 United States;X-APPLE-RADIUS=500;X-TITLE=30250 Yosemite Springs Parkway:geo:-119.7698338,37.1944827
END:VEVENT
BEGIN:VEVENT
DTSTART;TZID=America/Los_Angeles:20261029T133000
DTEND;TZID=America/Los_Angeles:20261029T153000
DTSTAMP:20260425T084725
CREATED:20260130T163309Z
LAST-MODIFIED:20260130T163310Z
UID:10005602-1793280600-1793287800@www.yosemitelakespark.org
SUMMARY:Crochet and Knitting Group
DESCRIPTION:This group will be composed of people who want to learn or pass on knowledge of knitting and crocheting. \nGroup will meet in the Fireside room to the right of the curtain.
URL:https://www.yosemitelakespark.org/ylpevent/crochet-and-knitting-group-3/2026-10-29/
LOCATION:Clubhouse\, 30250 Yosemite Springs Parkway\, Coarsegold\, CA\, 93614\, United States
CATEGORIES:Activity
GEO:37.18568;-119.76989
X-APPLE-STRUCTURED-LOCATION;VALUE=URI;X-ADDRESS=Clubhouse 30250 Yosemite Springs Parkway Coarsegold CA 93614 United States;X-APPLE-RADIUS=500;X-TITLE=30250 Yosemite Springs Parkway:geo:-119.76989,37.18568
END:VEVENT
BEGIN:VEVENT
DTSTART;TZID=America/Los_Angeles:20261029T143000
DTEND;TZID=America/Los_Angeles:20261029T163000
DTSTAMP:20260425T084725
CREATED:20230224T003712Z
LAST-MODIFIED:20230601T224410Z
UID:10003677-1793284200-1793291400@www.yosemitelakespark.org
SUMMARY:YLP Painters
DESCRIPTION:The group includes watercolorists\, acrylic\, and oil painters. Bring your supplies and current project piece and come paint with our group of friends!
URL:https://www.yosemitelakespark.org/ylpevent/painters-group/2026-10-29/
LOCATION:Clubhouse\, 30250 Yosemite Springs Parkway\, Coarsegold\, CA\, 93614\, United States
CATEGORIES:Activity
GEO:37.18568;-119.76989
X-APPLE-STRUCTURED-LOCATION;VALUE=URI;X-ADDRESS=Clubhouse 30250 Yosemite Springs Parkway Coarsegold CA 93614 United States;X-APPLE-RADIUS=500;X-TITLE=30250 Yosemite Springs Parkway:geo:-119.76989,37.18568
END:VEVENT
BEGIN:VEVENT
DTSTART;TZID=America/Los_Angeles:20261030T090000
DTEND;TZID=America/Los_Angeles:20261030T100000
DTSTAMP:20260425T084725
CREATED:20250912T220923Z
LAST-MODIFIED:20250912T220923Z
UID:10014846-1793350800-1793354400@www.yosemitelakespark.org
SUMMARY:Aerobics
DESCRIPTION:Aerobics via YouTube
URL:https://www.yosemitelakespark.org/ylpevent/aerobics/2026-10-30/
LOCATION:Clubhouse\, 30250 Yosemite Springs Parkway\, Coarsegold\, CA\, 93614\, United States
CATEGORIES:Activity
GEO:37.18568;-119.76989
X-APPLE-STRUCTURED-LOCATION;VALUE=URI;X-ADDRESS=Clubhouse 30250 Yosemite Springs Parkway Coarsegold CA 93614 United States;X-APPLE-RADIUS=500;X-TITLE=30250 Yosemite Springs Parkway:geo:-119.76989,37.18568
END:VEVENT
BEGIN:VEVENT
DTSTART;TZID=America/Los_Angeles:20261030T100000
DTEND;TZID=America/Los_Angeles:20261030T120000
DTSTAMP:20260425T084725
CREATED:20240813T185850Z
LAST-MODIFIED:20250711T233443Z
UID:10009355-1793354400-1793361600@www.yosemitelakespark.org
SUMMARY:Ladies Of The Lakes Librarian Work Hours
DESCRIPTION:10am – 12pm \nTuesday And Fridays In the Library
URL:https://www.yosemitelakespark.org/ylpevent/ladies-of-the-lakes-librarian-work-hours-2-2/2026-10-30/
LOCATION:Clubhouse\, 30250 Yosemite Springs Parkway\, Coarsegold\, CA\, 93614\, United States
CATEGORIES:Activity
GEO:37.18568;-119.76989
X-APPLE-STRUCTURED-LOCATION;VALUE=URI;X-ADDRESS=Clubhouse 30250 Yosemite Springs Parkway Coarsegold CA 93614 United States;X-APPLE-RADIUS=500;X-TITLE=30250 Yosemite Springs Parkway:geo:-119.76989,37.18568
END:VEVENT
BEGIN:VEVENT
DTSTART;TZID=America/Los_Angeles:20261102T090000
DTEND;TZID=America/Los_Angeles:20261102T100000
DTSTAMP:20260425T084725
CREATED:20250912T220923Z
LAST-MODIFIED:20250912T220923Z
UID:10014847-1793610000-1793613600@www.yosemitelakespark.org
SUMMARY:Aerobics
DESCRIPTION:Aerobics via YouTube
URL:https://www.yosemitelakespark.org/ylpevent/aerobics/2026-11-02/
LOCATION:Clubhouse\, 30250 Yosemite Springs Parkway\, Coarsegold\, CA\, 93614\, United States
CATEGORIES:Activity
GEO:37.18568;-119.76989
X-APPLE-STRUCTURED-LOCATION;VALUE=URI;X-ADDRESS=Clubhouse 30250 Yosemite Springs Parkway Coarsegold CA 93614 United States;X-APPLE-RADIUS=500;X-TITLE=30250 Yosemite Springs Parkway:geo:-119.76989,37.18568
END:VEVENT
BEGIN:VEVENT
DTSTART;TZID=America/Los_Angeles:20261103T100000
DTEND;TZID=America/Los_Angeles:20261103T110000
DTSTAMP:20260425T084725
CREATED:20260227T182059Z
LAST-MODIFIED:20260227T232726Z
UID:10016350-1793700000-1793703600@www.yosemitelakespark.org
SUMMARY:Mat Yoga Fusion with Morgan Pozzi
DESCRIPTION:A group exercise class combining gentle\nstretching and yoga inspired poses to support\nbetter posture and core strength. \nModifications are always offered and encouraged. \nSuggested Donation $10
URL:https://www.yosemitelakespark.org/ylpevent/mat-yoga-fusion-with-morgan-pozzi/2026-11-03/
LOCATION:Clubhouse Fireside Room\, 30250 Yosemite Springs Parkway\, Coarsegold\, CA\, 93614\, United States
CATEGORIES:Activity
ATTACH;FMTTYPE=application/pdf:https://www.yosemitelakespark.org/wp-content/uploads/2026/02/Morgan-Pozzi-Yoga-Flyer.pdf
GEO:37.1944827;-119.7698338
X-APPLE-STRUCTURED-LOCATION;VALUE=URI;X-ADDRESS=Clubhouse Fireside Room 30250 Yosemite Springs Parkway Coarsegold CA 93614 United States;X-APPLE-RADIUS=500;X-TITLE=30250 Yosemite Springs Parkway:geo:-119.7698338,37.1944827
END:VEVENT
BEGIN:VEVENT
DTSTART;TZID=America/Los_Angeles:20261103T100000
DTEND;TZID=America/Los_Angeles:20261103T120000
DTSTAMP:20260425T084725
CREATED:20240813T185850Z
LAST-MODIFIED:20250711T233443Z
UID:10010818-1793700000-1793707200@www.yosemitelakespark.org
SUMMARY:Ladies Of The Lakes Librarian Work Hours
DESCRIPTION:10am – 12pm \nTuesday And Fridays In the Library
URL:https://www.yosemitelakespark.org/ylpevent/ladies-of-the-lakes-librarian-work-hours-2-2/2026-11-03/
LOCATION:Clubhouse\, 30250 Yosemite Springs Parkway\, Coarsegold\, CA\, 93614\, United States
CATEGORIES:Activity
GEO:37.18568;-119.76989
X-APPLE-STRUCTURED-LOCATION;VALUE=URI;X-ADDRESS=Clubhouse 30250 Yosemite Springs Parkway Coarsegold CA 93614 United States;X-APPLE-RADIUS=500;X-TITLE=30250 Yosemite Springs Parkway:geo:-119.76989,37.18568
END:VEVENT
BEGIN:VEVENT
DTSTART;TZID=America/Los_Angeles:20261103T130000
DTEND;TZID=America/Los_Angeles:20261103T160000
DTSTAMP:20260425T084725
CREATED:20260319T172201Z
LAST-MODIFIED:20260319T172201Z
UID:10016932-1793710800-1793721600@www.yosemitelakespark.org
SUMMARY:Card Game
DESCRIPTION:
URL:https://www.yosemitelakespark.org/ylpevent/card-game/2026-11-03/
LOCATION:Clubhouse Fireside Room\, 30250 Yosemite Springs Parkway\, Coarsegold\, CA\, 93614\, United States
CATEGORIES:Blue Heron-Yosemite Grill
GEO:37.1944827;-119.7698338
X-APPLE-STRUCTURED-LOCATION;VALUE=URI;X-ADDRESS=Clubhouse Fireside Room 30250 Yosemite Springs Parkway Coarsegold CA 93614 United States;X-APPLE-RADIUS=500;X-TITLE=30250 Yosemite Springs Parkway:geo:-119.7698338,37.1944827
END:VEVENT
BEGIN:VEVENT
DTSTART;TZID=America/Los_Angeles:20261103T180000
DTEND;TZID=America/Los_Angeles:20261103T210000
DTSTAMP:20260425T084725
CREATED:20251107T011821Z
LAST-MODIFIED:20251107T011822Z
UID:10015986-1793728800-1793739600@www.yosemitelakespark.org
SUMMARY:YLOA Board of Directors
DESCRIPTION:GO HERE for the agenda and Zoom link
URL:https://www.yosemitelakespark.org/ylpevent/yloa-board-of-directors-2/2026-11-03/
LOCATION:Clubhouse\, 30250 Yosemite Springs Parkway\, Coarsegold\, CA\, 93614\, United States
CATEGORIES:Official Meetings
GEO:37.18568;-119.76989
X-APPLE-STRUCTURED-LOCATION;VALUE=URI;X-ADDRESS=Clubhouse 30250 Yosemite Springs Parkway Coarsegold CA 93614 United States;X-APPLE-RADIUS=500;X-TITLE=30250 Yosemite Springs Parkway:geo:-119.76989,37.18568
END:VEVENT
BEGIN:VEVENT
DTSTART;TZID=America/Los_Angeles:20261104T090000
DTEND;TZID=America/Los_Angeles:20261104T100000
DTSTAMP:20260425T084725
CREATED:20250912T220923Z
LAST-MODIFIED:20250912T220923Z
UID:10014848-1793782800-1793786400@www.yosemitelakespark.org
SUMMARY:Aerobics
DESCRIPTION:Aerobics via YouTube
URL:https://www.yosemitelakespark.org/ylpevent/aerobics/2026-11-04/
LOCATION:Clubhouse\, 30250 Yosemite Springs Parkway\, Coarsegold\, CA\, 93614\, United States
CATEGORIES:Activity
GEO:37.18568;-119.76989
X-APPLE-STRUCTURED-LOCATION;VALUE=URI;X-ADDRESS=Clubhouse 30250 Yosemite Springs Parkway Coarsegold CA 93614 United States;X-APPLE-RADIUS=500;X-TITLE=30250 Yosemite Springs Parkway:geo:-119.76989,37.18568
END:VEVENT
END:VCALENDAR