BEGIN:VCALENDAR
VERSION:2.0
PRODID:-//Yosemite Lakes Park - ECPv6.15.20//NONSGML v1.0//EN
CALSCALE:GREGORIAN
METHOD:PUBLISH
X-ORIGINAL-URL:https://www.yosemitelakespark.org
X-WR-CALDESC:Events for Yosemite Lakes Park
REFRESH-INTERVAL;VALUE=DURATION:PT1H
X-Robots-Tag:noindex
X-PUBLISHED-TTL:PT1H
BEGIN:VTIMEZONE
TZID:America/Los_Angeles
BEGIN:DAYLIGHT
TZOFFSETFROM:-0800
TZOFFSETTO:-0700
TZNAME:PDT
DTSTART:20280312T100000
END:DAYLIGHT
BEGIN:STANDARD
TZOFFSETFROM:-0700
TZOFFSETTO:-0800
TZNAME:PST
DTSTART:20281105T090000
END:STANDARD
BEGIN:DAYLIGHT
TZOFFSETFROM:-0800
TZOFFSETTO:-0700
TZNAME:PDT
DTSTART:20290311T100000
END:DAYLIGHT
BEGIN:STANDARD
TZOFFSETFROM:-0700
TZOFFSETTO:-0800
TZNAME:PST
DTSTART:20291104T090000
END:STANDARD
BEGIN:DAYLIGHT
TZOFFSETFROM:-0800
TZOFFSETTO:-0700
TZNAME:PDT
DTSTART:20300310T100000
END:DAYLIGHT
BEGIN:STANDARD
TZOFFSETFROM:-0700
TZOFFSETTO:-0800
TZNAME:PST
DTSTART:20301103T090000
END:STANDARD
BEGIN:DAYLIGHT
TZOFFSETFROM:-0800
TZOFFSETTO:-0700
TZNAME:PDT
DTSTART:20310309T100000
END:DAYLIGHT
BEGIN:STANDARD
TZOFFSETFROM:-0700
TZOFFSETTO:-0800
TZNAME:PST
DTSTART:20311102T090000
END:STANDARD
END:VTIMEZONE
BEGIN:VEVENT
DTSTART;TZID=America/Los_Angeles:20291009T180000
DTEND;TZID=America/Los_Angeles:20291009T190000
DTSTAMP:20260423T012157
CREATED:20241002T195003Z
LAST-MODIFIED:20241002T195003Z
UID:10012909-1886263200-1886266800@www.yosemitelakespark.org
SUMMARY:Fire Safety Taskforce
DESCRIPTION:Meeting To Be Held In The Library
URL:https://www.yosemitelakespark.org/ylpevent/fire-safety-taskforce/2029-10-09/
LOCATION:Clubhouse\, 30250 Yosemite Springs Parkway\, Coarsegold\, CA\, 93614\, United States
CATEGORIES:Official Meetings
GEO:37.18568;-119.76989
X-APPLE-STRUCTURED-LOCATION;VALUE=URI;X-ADDRESS=Clubhouse 30250 Yosemite Springs Parkway Coarsegold CA 93614 United States;X-APPLE-RADIUS=500;X-TITLE=30250 Yosemite Springs Parkway:geo:-119.76989,37.18568
END:VEVENT
BEGIN:VEVENT
DTSTART;TZID=America/Los_Angeles:20291113T180000
DTEND;TZID=America/Los_Angeles:20291113T190000
DTSTAMP:20260423T012157
CREATED:20241002T195003Z
LAST-MODIFIED:20241002T195003Z
UID:10012910-1889287200-1889290800@www.yosemitelakespark.org
SUMMARY:Fire Safety Taskforce
DESCRIPTION:Meeting To Be Held In The Library
URL:https://www.yosemitelakespark.org/ylpevent/fire-safety-taskforce/2029-11-13/
LOCATION:Clubhouse\, 30250 Yosemite Springs Parkway\, Coarsegold\, CA\, 93614\, United States
CATEGORIES:Official Meetings
GEO:37.18568;-119.76989
X-APPLE-STRUCTURED-LOCATION;VALUE=URI;X-ADDRESS=Clubhouse 30250 Yosemite Springs Parkway Coarsegold CA 93614 United States;X-APPLE-RADIUS=500;X-TITLE=30250 Yosemite Springs Parkway:geo:-119.76989,37.18568
END:VEVENT
BEGIN:VEVENT
DTSTART;TZID=America/Los_Angeles:20291211T180000
DTEND;TZID=America/Los_Angeles:20291211T190000
DTSTAMP:20260423T012157
CREATED:20241002T195003Z
LAST-MODIFIED:20241002T195003Z
UID:10012911-1891706400-1891710000@www.yosemitelakespark.org
SUMMARY:Fire Safety Taskforce
DESCRIPTION:Meeting To Be Held In The Library
URL:https://www.yosemitelakespark.org/ylpevent/fire-safety-taskforce/2029-12-11/
LOCATION:Clubhouse\, 30250 Yosemite Springs Parkway\, Coarsegold\, CA\, 93614\, United States
CATEGORIES:Official Meetings
GEO:37.18568;-119.76989
X-APPLE-STRUCTURED-LOCATION;VALUE=URI;X-ADDRESS=Clubhouse 30250 Yosemite Springs Parkway Coarsegold CA 93614 United States;X-APPLE-RADIUS=500;X-TITLE=30250 Yosemite Springs Parkway:geo:-119.76989,37.18568
END:VEVENT
BEGIN:VEVENT
DTSTART;TZID=America/Los_Angeles:20300108T180000
DTEND;TZID=America/Los_Angeles:20300108T190000
DTSTAMP:20260423T012157
CREATED:20241002T195003Z
LAST-MODIFIED:20241002T195003Z
UID:10012912-1894125600-1894129200@www.yosemitelakespark.org
SUMMARY:Fire Safety Taskforce
DESCRIPTION:Meeting To Be Held In The Library
URL:https://www.yosemitelakespark.org/ylpevent/fire-safety-taskforce/2030-01-08/
LOCATION:Clubhouse\, 30250 Yosemite Springs Parkway\, Coarsegold\, CA\, 93614\, United States
CATEGORIES:Official Meetings
GEO:37.18568;-119.76989
X-APPLE-STRUCTURED-LOCATION;VALUE=URI;X-ADDRESS=Clubhouse 30250 Yosemite Springs Parkway Coarsegold CA 93614 United States;X-APPLE-RADIUS=500;X-TITLE=30250 Yosemite Springs Parkway:geo:-119.76989,37.18568
END:VEVENT
BEGIN:VEVENT
DTSTART;TZID=America/Los_Angeles:20300212T180000
DTEND;TZID=America/Los_Angeles:20300212T190000
DTSTAMP:20260423T012157
CREATED:20241002T195003Z
LAST-MODIFIED:20241002T195003Z
UID:10013347-1897149600-1897153200@www.yosemitelakespark.org
SUMMARY:Fire Safety Taskforce
DESCRIPTION:Meeting To Be Held In The Library
URL:https://www.yosemitelakespark.org/ylpevent/fire-safety-taskforce/2030-02-12/
LOCATION:Clubhouse\, 30250 Yosemite Springs Parkway\, Coarsegold\, CA\, 93614\, United States
CATEGORIES:Official Meetings
GEO:37.18568;-119.76989
X-APPLE-STRUCTURED-LOCATION;VALUE=URI;X-ADDRESS=Clubhouse 30250 Yosemite Springs Parkway Coarsegold CA 93614 United States;X-APPLE-RADIUS=500;X-TITLE=30250 Yosemite Springs Parkway:geo:-119.76989,37.18568
END:VEVENT
BEGIN:VEVENT
DTSTART;TZID=America/Los_Angeles:20300312T180000
DTEND;TZID=America/Los_Angeles:20300312T190000
DTSTAMP:20260423T012157
CREATED:20241002T195003Z
LAST-MODIFIED:20241002T195003Z
UID:10013479-1899568800-1899572400@www.yosemitelakespark.org
SUMMARY:Fire Safety Taskforce
DESCRIPTION:Meeting To Be Held In The Library
URL:https://www.yosemitelakespark.org/ylpevent/fire-safety-taskforce/2030-03-12/
LOCATION:Clubhouse\, 30250 Yosemite Springs Parkway\, Coarsegold\, CA\, 93614\, United States
CATEGORIES:Official Meetings
GEO:37.18568;-119.76989
X-APPLE-STRUCTURED-LOCATION;VALUE=URI;X-ADDRESS=Clubhouse 30250 Yosemite Springs Parkway Coarsegold CA 93614 United States;X-APPLE-RADIUS=500;X-TITLE=30250 Yosemite Springs Parkway:geo:-119.76989,37.18568
END:VEVENT
BEGIN:VEVENT
DTSTART;TZID=America/Los_Angeles:20300409T180000
DTEND;TZID=America/Los_Angeles:20300409T190000
DTSTAMP:20260423T012157
CREATED:20241002T195003Z
LAST-MODIFIED:20241002T195003Z
UID:10013480-1901988000-1901991600@www.yosemitelakespark.org
SUMMARY:Fire Safety Taskforce
DESCRIPTION:Meeting To Be Held In The Library
URL:https://www.yosemitelakespark.org/ylpevent/fire-safety-taskforce/2030-04-09/
LOCATION:Clubhouse\, 30250 Yosemite Springs Parkway\, Coarsegold\, CA\, 93614\, United States
CATEGORIES:Official Meetings
GEO:37.18568;-119.76989
X-APPLE-STRUCTURED-LOCATION;VALUE=URI;X-ADDRESS=Clubhouse 30250 Yosemite Springs Parkway Coarsegold CA 93614 United States;X-APPLE-RADIUS=500;X-TITLE=30250 Yosemite Springs Parkway:geo:-119.76989,37.18568
END:VEVENT
BEGIN:VEVENT
DTSTART;TZID=America/Los_Angeles:20300514T180000
DTEND;TZID=America/Los_Angeles:20300514T190000
DTSTAMP:20260423T012157
CREATED:20241002T195003Z
LAST-MODIFIED:20241002T195003Z
UID:10013872-1905012000-1905015600@www.yosemitelakespark.org
SUMMARY:Fire Safety Taskforce
DESCRIPTION:Meeting To Be Held In The Library
URL:https://www.yosemitelakespark.org/ylpevent/fire-safety-taskforce/2030-05-14/
LOCATION:Clubhouse\, 30250 Yosemite Springs Parkway\, Coarsegold\, CA\, 93614\, United States
CATEGORIES:Official Meetings
GEO:37.18568;-119.76989
X-APPLE-STRUCTURED-LOCATION;VALUE=URI;X-ADDRESS=Clubhouse 30250 Yosemite Springs Parkway Coarsegold CA 93614 United States;X-APPLE-RADIUS=500;X-TITLE=30250 Yosemite Springs Parkway:geo:-119.76989,37.18568
END:VEVENT
BEGIN:VEVENT
DTSTART;TZID=America/Los_Angeles:20300611T180000
DTEND;TZID=America/Los_Angeles:20300611T190000
DTSTAMP:20260423T012157
CREATED:20241002T195003Z
LAST-MODIFIED:20241002T195003Z
UID:10013873-1907431200-1907434800@www.yosemitelakespark.org
SUMMARY:Fire Safety Taskforce
DESCRIPTION:Meeting To Be Held In The Library
URL:https://www.yosemitelakespark.org/ylpevent/fire-safety-taskforce/2030-06-11/
LOCATION:Clubhouse\, 30250 Yosemite Springs Parkway\, Coarsegold\, CA\, 93614\, United States
CATEGORIES:Official Meetings
GEO:37.18568;-119.76989
X-APPLE-STRUCTURED-LOCATION;VALUE=URI;X-ADDRESS=Clubhouse 30250 Yosemite Springs Parkway Coarsegold CA 93614 United States;X-APPLE-RADIUS=500;X-TITLE=30250 Yosemite Springs Parkway:geo:-119.76989,37.18568
END:VEVENT
BEGIN:VEVENT
DTSTART;TZID=America/Los_Angeles:20300709T180000
DTEND;TZID=America/Los_Angeles:20300709T190000
DTSTAMP:20260423T012157
CREATED:20241002T195003Z
LAST-MODIFIED:20241002T195003Z
UID:10014437-1909850400-1909854000@www.yosemitelakespark.org
SUMMARY:Fire Safety Taskforce
DESCRIPTION:Meeting To Be Held In The Library
URL:https://www.yosemitelakespark.org/ylpevent/fire-safety-taskforce/2030-07-09/
LOCATION:Clubhouse\, 30250 Yosemite Springs Parkway\, Coarsegold\, CA\, 93614\, United States
CATEGORIES:Official Meetings
GEO:37.18568;-119.76989
X-APPLE-STRUCTURED-LOCATION;VALUE=URI;X-ADDRESS=Clubhouse 30250 Yosemite Springs Parkway Coarsegold CA 93614 United States;X-APPLE-RADIUS=500;X-TITLE=30250 Yosemite Springs Parkway:geo:-119.76989,37.18568
END:VEVENT
BEGIN:VEVENT
DTSTART;TZID=America/Los_Angeles:20300813T180000
DTEND;TZID=America/Los_Angeles:20300813T190000
DTSTAMP:20260423T012157
CREATED:20241002T195003Z
LAST-MODIFIED:20241002T195003Z
UID:10014501-1912874400-1912878000@www.yosemitelakespark.org
SUMMARY:Fire Safety Taskforce
DESCRIPTION:Meeting To Be Held In The Library
URL:https://www.yosemitelakespark.org/ylpevent/fire-safety-taskforce/2030-08-13/
LOCATION:Clubhouse\, 30250 Yosemite Springs Parkway\, Coarsegold\, CA\, 93614\, United States
CATEGORIES:Official Meetings
GEO:37.18568;-119.76989
X-APPLE-STRUCTURED-LOCATION;VALUE=URI;X-ADDRESS=Clubhouse 30250 Yosemite Springs Parkway Coarsegold CA 93614 United States;X-APPLE-RADIUS=500;X-TITLE=30250 Yosemite Springs Parkway:geo:-119.76989,37.18568
END:VEVENT
BEGIN:VEVENT
DTSTART;TZID=America/Los_Angeles:20300910T180000
DTEND;TZID=America/Los_Angeles:20300910T190000
DTSTAMP:20260423T012157
CREATED:20241002T195003Z
LAST-MODIFIED:20241002T195003Z
UID:10014680-1915293600-1915297200@www.yosemitelakespark.org
SUMMARY:Fire Safety Taskforce
DESCRIPTION:Meeting To Be Held In The Library
URL:https://www.yosemitelakespark.org/ylpevent/fire-safety-taskforce/2030-09-10/
LOCATION:Clubhouse\, 30250 Yosemite Springs Parkway\, Coarsegold\, CA\, 93614\, United States
CATEGORIES:Official Meetings
GEO:37.18568;-119.76989
X-APPLE-STRUCTURED-LOCATION;VALUE=URI;X-ADDRESS=Clubhouse 30250 Yosemite Springs Parkway Coarsegold CA 93614 United States;X-APPLE-RADIUS=500;X-TITLE=30250 Yosemite Springs Parkway:geo:-119.76989,37.18568
END:VEVENT
BEGIN:VEVENT
DTSTART;TZID=America/Los_Angeles:20301008T180000
DTEND;TZID=America/Los_Angeles:20301008T190000
DTSTAMP:20260423T012157
CREATED:20241002T195003Z
LAST-MODIFIED:20241002T195003Z
UID:10015498-1917712800-1917716400@www.yosemitelakespark.org
SUMMARY:Fire Safety Taskforce
DESCRIPTION:Meeting To Be Held In The Library
URL:https://www.yosemitelakespark.org/ylpevent/fire-safety-taskforce/2030-10-08/
LOCATION:Clubhouse\, 30250 Yosemite Springs Parkway\, Coarsegold\, CA\, 93614\, United States
CATEGORIES:Official Meetings
GEO:37.18568;-119.76989
X-APPLE-STRUCTURED-LOCATION;VALUE=URI;X-ADDRESS=Clubhouse 30250 Yosemite Springs Parkway Coarsegold CA 93614 United States;X-APPLE-RADIUS=500;X-TITLE=30250 Yosemite Springs Parkway:geo:-119.76989,37.18568
END:VEVENT
END:VCALENDAR