BEGIN:VCALENDAR
VERSION:2.0
PRODID:-//Yosemite Lakes Park - ECPv6.15.20//NONSGML v1.0//EN
CALSCALE:GREGORIAN
METHOD:PUBLISH
X-ORIGINAL-URL:https://www.yosemitelakespark.org
X-WR-CALDESC:Events for Yosemite Lakes Park
REFRESH-INTERVAL;VALUE=DURATION:PT1H
X-Robots-Tag:noindex
X-PUBLISHED-TTL:PT1H
BEGIN:VTIMEZONE
TZID:America/Los_Angeles
BEGIN:DAYLIGHT
TZOFFSETFROM:-0800
TZOFFSETTO:-0700
TZNAME:PDT
DTSTART:20260308T100000
END:DAYLIGHT
BEGIN:STANDARD
TZOFFSETFROM:-0700
TZOFFSETTO:-0800
TZNAME:PST
DTSTART:20261101T090000
END:STANDARD
BEGIN:DAYLIGHT
TZOFFSETFROM:-0800
TZOFFSETTO:-0700
TZNAME:PDT
DTSTART:20270314T100000
END:DAYLIGHT
BEGIN:STANDARD
TZOFFSETFROM:-0700
TZOFFSETTO:-0800
TZNAME:PST
DTSTART:20271107T090000
END:STANDARD
BEGIN:DAYLIGHT
TZOFFSETFROM:-0800
TZOFFSETTO:-0700
TZNAME:PDT
DTSTART:20280312T100000
END:DAYLIGHT
BEGIN:STANDARD
TZOFFSETFROM:-0700
TZOFFSETTO:-0800
TZNAME:PST
DTSTART:20281105T090000
END:STANDARD
BEGIN:DAYLIGHT
TZOFFSETFROM:-0800
TZOFFSETTO:-0700
TZNAME:PDT
DTSTART:20290311T100000
END:DAYLIGHT
BEGIN:STANDARD
TZOFFSETFROM:-0700
TZOFFSETTO:-0800
TZNAME:PST
DTSTART:20291104T090000
END:STANDARD
BEGIN:DAYLIGHT
TZOFFSETFROM:-0800
TZOFFSETTO:-0700
TZNAME:PDT
DTSTART:20300310T100000
END:DAYLIGHT
BEGIN:STANDARD
TZOFFSETFROM:-0700
TZOFFSETTO:-0800
TZNAME:PST
DTSTART:20301103T090000
END:STANDARD
END:VTIMEZONE
BEGIN:VEVENT
DTSTART;TZID=America/Los_Angeles:20270630T170000
DTEND;TZID=America/Los_Angeles:20270630T180000
DTSTAMP:20260421T083448
CREATED:20260408T211351Z
LAST-MODIFIED:20260408T211351Z
UID:10017488-1814374800-1814378400@www.yosemitelakespark.org
SUMMARY:Restaurant Committee
DESCRIPTION:Meeting in the library
URL:https://www.yosemitelakespark.org/ylpevent/restaurant-committee/2027-06-30/
LOCATION:Clubhouse\, 30250 Yosemite Springs Parkway\, Coarsegold\, CA\, 93614\, United States
CATEGORIES:Official Meetings
GEO:37.18568;-119.76989
X-APPLE-STRUCTURED-LOCATION;VALUE=URI;X-ADDRESS=Clubhouse 30250 Yosemite Springs Parkway Coarsegold CA 93614 United States;X-APPLE-RADIUS=500;X-TITLE=30250 Yosemite Springs Parkway:geo:-119.76989,37.18568
END:VEVENT
BEGIN:VEVENT
DTSTART;TZID=America/Los_Angeles:20270713T180000
DTEND;TZID=America/Los_Angeles:20270713T190000
DTSTAMP:20260421T083448
CREATED:20241002T195003Z
LAST-MODIFIED:20241002T195003Z
UID:10011985-1815501600-1815505200@www.yosemitelakespark.org
SUMMARY:Fire Safety Taskforce
DESCRIPTION:Meeting To Be Held In The Library
URL:https://www.yosemitelakespark.org/ylpevent/fire-safety-taskforce/2027-07-13/
LOCATION:Clubhouse\, 30250 Yosemite Springs Parkway\, Coarsegold\, CA\, 93614\, United States
CATEGORIES:Official Meetings
GEO:37.18568;-119.76989
X-APPLE-STRUCTURED-LOCATION;VALUE=URI;X-ADDRESS=Clubhouse 30250 Yosemite Springs Parkway Coarsegold CA 93614 United States;X-APPLE-RADIUS=500;X-TITLE=30250 Yosemite Springs Parkway:geo:-119.76989,37.18568
END:VEVENT
BEGIN:VEVENT
DTSTART;TZID=America/Los_Angeles:20270728T170000
DTEND;TZID=America/Los_Angeles:20270728T180000
DTSTAMP:20260421T083448
CREATED:20260408T211351Z
LAST-MODIFIED:20260408T211351Z
UID:10017489-1816794000-1816797600@www.yosemitelakespark.org
SUMMARY:Restaurant Committee
DESCRIPTION:Meeting in the library
URL:https://www.yosemitelakespark.org/ylpevent/restaurant-committee/2027-07-28/
LOCATION:Clubhouse\, 30250 Yosemite Springs Parkway\, Coarsegold\, CA\, 93614\, United States
CATEGORIES:Official Meetings
GEO:37.18568;-119.76989
X-APPLE-STRUCTURED-LOCATION;VALUE=URI;X-ADDRESS=Clubhouse 30250 Yosemite Springs Parkway Coarsegold CA 93614 United States;X-APPLE-RADIUS=500;X-TITLE=30250 Yosemite Springs Parkway:geo:-119.76989,37.18568
END:VEVENT
BEGIN:VEVENT
DTSTART;TZID=America/Los_Angeles:20270810T180000
DTEND;TZID=America/Los_Angeles:20270810T190000
DTSTAMP:20260421T083448
CREATED:20241002T195003Z
LAST-MODIFIED:20241002T195003Z
UID:10011986-1817920800-1817924400@www.yosemitelakespark.org
SUMMARY:Fire Safety Taskforce
DESCRIPTION:Meeting To Be Held In The Library
URL:https://www.yosemitelakespark.org/ylpevent/fire-safety-taskforce/2027-08-10/
LOCATION:Clubhouse\, 30250 Yosemite Springs Parkway\, Coarsegold\, CA\, 93614\, United States
CATEGORIES:Official Meetings
GEO:37.18568;-119.76989
X-APPLE-STRUCTURED-LOCATION;VALUE=URI;X-ADDRESS=Clubhouse 30250 Yosemite Springs Parkway Coarsegold CA 93614 United States;X-APPLE-RADIUS=500;X-TITLE=30250 Yosemite Springs Parkway:geo:-119.76989,37.18568
END:VEVENT
BEGIN:VEVENT
DTSTART;TZID=America/Los_Angeles:20270914T180000
DTEND;TZID=America/Los_Angeles:20270914T190000
DTSTAMP:20260421T083448
CREATED:20241002T195003Z
LAST-MODIFIED:20241002T195003Z
UID:10011987-1820944800-1820948400@www.yosemitelakespark.org
SUMMARY:Fire Safety Taskforce
DESCRIPTION:Meeting To Be Held In The Library
URL:https://www.yosemitelakespark.org/ylpevent/fire-safety-taskforce/2027-09-14/
LOCATION:Clubhouse\, 30250 Yosemite Springs Parkway\, Coarsegold\, CA\, 93614\, United States
CATEGORIES:Official Meetings
GEO:37.18568;-119.76989
X-APPLE-STRUCTURED-LOCATION;VALUE=URI;X-ADDRESS=Clubhouse 30250 Yosemite Springs Parkway Coarsegold CA 93614 United States;X-APPLE-RADIUS=500;X-TITLE=30250 Yosemite Springs Parkway:geo:-119.76989,37.18568
END:VEVENT
BEGIN:VEVENT
DTSTART;TZID=America/Los_Angeles:20271012T180000
DTEND;TZID=America/Los_Angeles:20271012T190000
DTSTAMP:20260421T083448
CREATED:20241002T195003Z
LAST-MODIFIED:20241002T195003Z
UID:10011988-1823364000-1823367600@www.yosemitelakespark.org
SUMMARY:Fire Safety Taskforce
DESCRIPTION:Meeting To Be Held In The Library
URL:https://www.yosemitelakespark.org/ylpevent/fire-safety-taskforce/2027-10-12/
LOCATION:Clubhouse\, 30250 Yosemite Springs Parkway\, Coarsegold\, CA\, 93614\, United States
CATEGORIES:Official Meetings
GEO:37.18568;-119.76989
X-APPLE-STRUCTURED-LOCATION;VALUE=URI;X-ADDRESS=Clubhouse 30250 Yosemite Springs Parkway Coarsegold CA 93614 United States;X-APPLE-RADIUS=500;X-TITLE=30250 Yosemite Springs Parkway:geo:-119.76989,37.18568
END:VEVENT
BEGIN:VEVENT
DTSTART;TZID=America/Los_Angeles:20271109T180000
DTEND;TZID=America/Los_Angeles:20271109T190000
DTSTAMP:20260421T083448
CREATED:20241002T195003Z
LAST-MODIFIED:20241002T195003Z
UID:10011989-1825783200-1825786800@www.yosemitelakespark.org
SUMMARY:Fire Safety Taskforce
DESCRIPTION:Meeting To Be Held In The Library
URL:https://www.yosemitelakespark.org/ylpevent/fire-safety-taskforce/2027-11-09/
LOCATION:Clubhouse\, 30250 Yosemite Springs Parkway\, Coarsegold\, CA\, 93614\, United States
CATEGORIES:Official Meetings
GEO:37.18568;-119.76989
X-APPLE-STRUCTURED-LOCATION;VALUE=URI;X-ADDRESS=Clubhouse 30250 Yosemite Springs Parkway Coarsegold CA 93614 United States;X-APPLE-RADIUS=500;X-TITLE=30250 Yosemite Springs Parkway:geo:-119.76989,37.18568
END:VEVENT
BEGIN:VEVENT
DTSTART;TZID=America/Los_Angeles:20271214T180000
DTEND;TZID=America/Los_Angeles:20271214T190000
DTSTAMP:20260421T083448
CREATED:20241002T195003Z
LAST-MODIFIED:20241002T195003Z
UID:10011990-1828807200-1828810800@www.yosemitelakespark.org
SUMMARY:Fire Safety Taskforce
DESCRIPTION:Meeting To Be Held In The Library
URL:https://www.yosemitelakespark.org/ylpevent/fire-safety-taskforce/2027-12-14/
LOCATION:Clubhouse\, 30250 Yosemite Springs Parkway\, Coarsegold\, CA\, 93614\, United States
CATEGORIES:Official Meetings
GEO:37.18568;-119.76989
X-APPLE-STRUCTURED-LOCATION;VALUE=URI;X-ADDRESS=Clubhouse 30250 Yosemite Springs Parkway Coarsegold CA 93614 United States;X-APPLE-RADIUS=500;X-TITLE=30250 Yosemite Springs Parkway:geo:-119.76989,37.18568
END:VEVENT
BEGIN:VEVENT
DTSTART;TZID=America/Los_Angeles:20280111T180000
DTEND;TZID=America/Los_Angeles:20280111T190000
DTSTAMP:20260421T083448
CREATED:20241002T195003Z
LAST-MODIFIED:20241002T195003Z
UID:10011991-1831226400-1831230000@www.yosemitelakespark.org
SUMMARY:Fire Safety Taskforce
DESCRIPTION:Meeting To Be Held In The Library
URL:https://www.yosemitelakespark.org/ylpevent/fire-safety-taskforce/2028-01-11/
LOCATION:Clubhouse\, 30250 Yosemite Springs Parkway\, Coarsegold\, CA\, 93614\, United States
CATEGORIES:Official Meetings
GEO:37.18568;-119.76989
X-APPLE-STRUCTURED-LOCATION;VALUE=URI;X-ADDRESS=Clubhouse 30250 Yosemite Springs Parkway Coarsegold CA 93614 United States;X-APPLE-RADIUS=500;X-TITLE=30250 Yosemite Springs Parkway:geo:-119.76989,37.18568
END:VEVENT
BEGIN:VEVENT
DTSTART;TZID=America/Los_Angeles:20280208T180000
DTEND;TZID=America/Los_Angeles:20280208T190000
DTSTAMP:20260421T083448
CREATED:20241002T195003Z
LAST-MODIFIED:20241002T195003Z
UID:10011992-1833645600-1833649200@www.yosemitelakespark.org
SUMMARY:Fire Safety Taskforce
DESCRIPTION:Meeting To Be Held In The Library
URL:https://www.yosemitelakespark.org/ylpevent/fire-safety-taskforce/2028-02-08/
LOCATION:Clubhouse\, 30250 Yosemite Springs Parkway\, Coarsegold\, CA\, 93614\, United States
CATEGORIES:Official Meetings
GEO:37.18568;-119.76989
X-APPLE-STRUCTURED-LOCATION;VALUE=URI;X-ADDRESS=Clubhouse 30250 Yosemite Springs Parkway Coarsegold CA 93614 United States;X-APPLE-RADIUS=500;X-TITLE=30250 Yosemite Springs Parkway:geo:-119.76989,37.18568
END:VEVENT
BEGIN:VEVENT
DTSTART;TZID=America/Los_Angeles:20280314T180000
DTEND;TZID=America/Los_Angeles:20280314T190000
DTSTAMP:20260421T083448
CREATED:20241002T195003Z
LAST-MODIFIED:20241002T195003Z
UID:10011993-1836669600-1836673200@www.yosemitelakespark.org
SUMMARY:Fire Safety Taskforce
DESCRIPTION:Meeting To Be Held In The Library
URL:https://www.yosemitelakespark.org/ylpevent/fire-safety-taskforce/2028-03-14/
LOCATION:Clubhouse\, 30250 Yosemite Springs Parkway\, Coarsegold\, CA\, 93614\, United States
CATEGORIES:Official Meetings
GEO:37.18568;-119.76989
X-APPLE-STRUCTURED-LOCATION;VALUE=URI;X-ADDRESS=Clubhouse 30250 Yosemite Springs Parkway Coarsegold CA 93614 United States;X-APPLE-RADIUS=500;X-TITLE=30250 Yosemite Springs Parkway:geo:-119.76989,37.18568
END:VEVENT
BEGIN:VEVENT
DTSTART;TZID=America/Los_Angeles:20280411T180000
DTEND;TZID=America/Los_Angeles:20280411T190000
DTSTAMP:20260421T083448
CREATED:20241002T195003Z
LAST-MODIFIED:20241002T195003Z
UID:10011994-1839088800-1839092400@www.yosemitelakespark.org
SUMMARY:Fire Safety Taskforce
DESCRIPTION:Meeting To Be Held In The Library
URL:https://www.yosemitelakespark.org/ylpevent/fire-safety-taskforce/2028-04-11/
LOCATION:Clubhouse\, 30250 Yosemite Springs Parkway\, Coarsegold\, CA\, 93614\, United States
CATEGORIES:Official Meetings
GEO:37.18568;-119.76989
X-APPLE-STRUCTURED-LOCATION;VALUE=URI;X-ADDRESS=Clubhouse 30250 Yosemite Springs Parkway Coarsegold CA 93614 United States;X-APPLE-RADIUS=500;X-TITLE=30250 Yosemite Springs Parkway:geo:-119.76989,37.18568
END:VEVENT
BEGIN:VEVENT
DTSTART;TZID=America/Los_Angeles:20280509T180000
DTEND;TZID=America/Los_Angeles:20280509T190000
DTSTAMP:20260421T083448
CREATED:20241002T195003Z
LAST-MODIFIED:20241002T195003Z
UID:10011995-1841508000-1841511600@www.yosemitelakespark.org
SUMMARY:Fire Safety Taskforce
DESCRIPTION:Meeting To Be Held In The Library
URL:https://www.yosemitelakespark.org/ylpevent/fire-safety-taskforce/2028-05-09/
LOCATION:Clubhouse\, 30250 Yosemite Springs Parkway\, Coarsegold\, CA\, 93614\, United States
CATEGORIES:Official Meetings
GEO:37.18568;-119.76989
X-APPLE-STRUCTURED-LOCATION;VALUE=URI;X-ADDRESS=Clubhouse 30250 Yosemite Springs Parkway Coarsegold CA 93614 United States;X-APPLE-RADIUS=500;X-TITLE=30250 Yosemite Springs Parkway:geo:-119.76989,37.18568
END:VEVENT
BEGIN:VEVENT
DTSTART;TZID=America/Los_Angeles:20280613T180000
DTEND;TZID=America/Los_Angeles:20280613T190000
DTSTAMP:20260421T083448
CREATED:20241002T195003Z
LAST-MODIFIED:20241002T195003Z
UID:10011996-1844532000-1844535600@www.yosemitelakespark.org
SUMMARY:Fire Safety Taskforce
DESCRIPTION:Meeting To Be Held In The Library
URL:https://www.yosemitelakespark.org/ylpevent/fire-safety-taskforce/2028-06-13/
LOCATION:Clubhouse\, 30250 Yosemite Springs Parkway\, Coarsegold\, CA\, 93614\, United States
CATEGORIES:Official Meetings
GEO:37.18568;-119.76989
X-APPLE-STRUCTURED-LOCATION;VALUE=URI;X-ADDRESS=Clubhouse 30250 Yosemite Springs Parkway Coarsegold CA 93614 United States;X-APPLE-RADIUS=500;X-TITLE=30250 Yosemite Springs Parkway:geo:-119.76989,37.18568
END:VEVENT
BEGIN:VEVENT
DTSTART;TZID=America/Los_Angeles:20280711T180000
DTEND;TZID=America/Los_Angeles:20280711T190000
DTSTAMP:20260421T083448
CREATED:20241002T195003Z
LAST-MODIFIED:20241002T195003Z
UID:10011997-1846951200-1846954800@www.yosemitelakespark.org
SUMMARY:Fire Safety Taskforce
DESCRIPTION:Meeting To Be Held In The Library
URL:https://www.yosemitelakespark.org/ylpevent/fire-safety-taskforce/2028-07-11/
LOCATION:Clubhouse\, 30250 Yosemite Springs Parkway\, Coarsegold\, CA\, 93614\, United States
CATEGORIES:Official Meetings
GEO:37.18568;-119.76989
X-APPLE-STRUCTURED-LOCATION;VALUE=URI;X-ADDRESS=Clubhouse 30250 Yosemite Springs Parkway Coarsegold CA 93614 United States;X-APPLE-RADIUS=500;X-TITLE=30250 Yosemite Springs Parkway:geo:-119.76989,37.18568
END:VEVENT
BEGIN:VEVENT
DTSTART;TZID=America/Los_Angeles:20280808T180000
DTEND;TZID=America/Los_Angeles:20280808T190000
DTSTAMP:20260421T083448
CREATED:20241002T195003Z
LAST-MODIFIED:20241002T195003Z
UID:10011998-1849370400-1849374000@www.yosemitelakespark.org
SUMMARY:Fire Safety Taskforce
DESCRIPTION:Meeting To Be Held In The Library
URL:https://www.yosemitelakespark.org/ylpevent/fire-safety-taskforce/2028-08-08/
LOCATION:Clubhouse\, 30250 Yosemite Springs Parkway\, Coarsegold\, CA\, 93614\, United States
CATEGORIES:Official Meetings
GEO:37.18568;-119.76989
X-APPLE-STRUCTURED-LOCATION;VALUE=URI;X-ADDRESS=Clubhouse 30250 Yosemite Springs Parkway Coarsegold CA 93614 United States;X-APPLE-RADIUS=500;X-TITLE=30250 Yosemite Springs Parkway:geo:-119.76989,37.18568
END:VEVENT
BEGIN:VEVENT
DTSTART;TZID=America/Los_Angeles:20280912T180000
DTEND;TZID=America/Los_Angeles:20280912T190000
DTSTAMP:20260421T083448
CREATED:20241002T195003Z
LAST-MODIFIED:20241002T195003Z
UID:10011999-1852394400-1852398000@www.yosemitelakespark.org
SUMMARY:Fire Safety Taskforce
DESCRIPTION:Meeting To Be Held In The Library
URL:https://www.yosemitelakespark.org/ylpevent/fire-safety-taskforce/2028-09-12/
LOCATION:Clubhouse\, 30250 Yosemite Springs Parkway\, Coarsegold\, CA\, 93614\, United States
CATEGORIES:Official Meetings
GEO:37.18568;-119.76989
X-APPLE-STRUCTURED-LOCATION;VALUE=URI;X-ADDRESS=Clubhouse 30250 Yosemite Springs Parkway Coarsegold CA 93614 United States;X-APPLE-RADIUS=500;X-TITLE=30250 Yosemite Springs Parkway:geo:-119.76989,37.18568
END:VEVENT
BEGIN:VEVENT
DTSTART;TZID=America/Los_Angeles:20281010T180000
DTEND;TZID=America/Los_Angeles:20281010T190000
DTSTAMP:20260421T083448
CREATED:20241002T195003Z
LAST-MODIFIED:20241002T195003Z
UID:10012000-1854813600-1854817200@www.yosemitelakespark.org
SUMMARY:Fire Safety Taskforce
DESCRIPTION:Meeting To Be Held In The Library
URL:https://www.yosemitelakespark.org/ylpevent/fire-safety-taskforce/2028-10-10/
LOCATION:Clubhouse\, 30250 Yosemite Springs Parkway\, Coarsegold\, CA\, 93614\, United States
CATEGORIES:Official Meetings
GEO:37.18568;-119.76989
X-APPLE-STRUCTURED-LOCATION;VALUE=URI;X-ADDRESS=Clubhouse 30250 Yosemite Springs Parkway Coarsegold CA 93614 United States;X-APPLE-RADIUS=500;X-TITLE=30250 Yosemite Springs Parkway:geo:-119.76989,37.18568
END:VEVENT
BEGIN:VEVENT
DTSTART;TZID=America/Los_Angeles:20281114T180000
DTEND;TZID=America/Los_Angeles:20281114T190000
DTSTAMP:20260421T083448
CREATED:20241002T195003Z
LAST-MODIFIED:20241002T195003Z
UID:10012001-1857837600-1857841200@www.yosemitelakespark.org
SUMMARY:Fire Safety Taskforce
DESCRIPTION:Meeting To Be Held In The Library
URL:https://www.yosemitelakespark.org/ylpevent/fire-safety-taskforce/2028-11-14/
LOCATION:Clubhouse\, 30250 Yosemite Springs Parkway\, Coarsegold\, CA\, 93614\, United States
CATEGORIES:Official Meetings
GEO:37.18568;-119.76989
X-APPLE-STRUCTURED-LOCATION;VALUE=URI;X-ADDRESS=Clubhouse 30250 Yosemite Springs Parkway Coarsegold CA 93614 United States;X-APPLE-RADIUS=500;X-TITLE=30250 Yosemite Springs Parkway:geo:-119.76989,37.18568
END:VEVENT
BEGIN:VEVENT
DTSTART;TZID=America/Los_Angeles:20281212T180000
DTEND;TZID=America/Los_Angeles:20281212T190000
DTSTAMP:20260421T083448
CREATED:20241002T195003Z
LAST-MODIFIED:20241002T195003Z
UID:10012002-1860256800-1860260400@www.yosemitelakespark.org
SUMMARY:Fire Safety Taskforce
DESCRIPTION:Meeting To Be Held In The Library
URL:https://www.yosemitelakespark.org/ylpevent/fire-safety-taskforce/2028-12-12/
LOCATION:Clubhouse\, 30250 Yosemite Springs Parkway\, Coarsegold\, CA\, 93614\, United States
CATEGORIES:Official Meetings
GEO:37.18568;-119.76989
X-APPLE-STRUCTURED-LOCATION;VALUE=URI;X-ADDRESS=Clubhouse 30250 Yosemite Springs Parkway Coarsegold CA 93614 United States;X-APPLE-RADIUS=500;X-TITLE=30250 Yosemite Springs Parkway:geo:-119.76989,37.18568
END:VEVENT
BEGIN:VEVENT
DTSTART;TZID=America/Los_Angeles:20290109T180000
DTEND;TZID=America/Los_Angeles:20290109T190000
DTSTAMP:20260421T083448
CREATED:20241002T195003Z
LAST-MODIFIED:20241002T195003Z
UID:10012003-1862676000-1862679600@www.yosemitelakespark.org
SUMMARY:Fire Safety Taskforce
DESCRIPTION:Meeting To Be Held In The Library
URL:https://www.yosemitelakespark.org/ylpevent/fire-safety-taskforce/2029-01-09/
LOCATION:Clubhouse\, 30250 Yosemite Springs Parkway\, Coarsegold\, CA\, 93614\, United States
CATEGORIES:Official Meetings
GEO:37.18568;-119.76989
X-APPLE-STRUCTURED-LOCATION;VALUE=URI;X-ADDRESS=Clubhouse 30250 Yosemite Springs Parkway Coarsegold CA 93614 United States;X-APPLE-RADIUS=500;X-TITLE=30250 Yosemite Springs Parkway:geo:-119.76989,37.18568
END:VEVENT
BEGIN:VEVENT
DTSTART;TZID=America/Los_Angeles:20290213T180000
DTEND;TZID=America/Los_Angeles:20290213T190000
DTSTAMP:20260421T083448
CREATED:20241002T195003Z
LAST-MODIFIED:20241002T195003Z
UID:10012004-1865700000-1865703600@www.yosemitelakespark.org
SUMMARY:Fire Safety Taskforce
DESCRIPTION:Meeting To Be Held In The Library
URL:https://www.yosemitelakespark.org/ylpevent/fire-safety-taskforce/2029-02-13/
LOCATION:Clubhouse\, 30250 Yosemite Springs Parkway\, Coarsegold\, CA\, 93614\, United States
CATEGORIES:Official Meetings
GEO:37.18568;-119.76989
X-APPLE-STRUCTURED-LOCATION;VALUE=URI;X-ADDRESS=Clubhouse 30250 Yosemite Springs Parkway Coarsegold CA 93614 United States;X-APPLE-RADIUS=500;X-TITLE=30250 Yosemite Springs Parkway:geo:-119.76989,37.18568
END:VEVENT
BEGIN:VEVENT
DTSTART;TZID=America/Los_Angeles:20290313T180000
DTEND;TZID=America/Los_Angeles:20290313T190000
DTSTAMP:20260421T083448
CREATED:20241002T195003Z
LAST-MODIFIED:20241002T195003Z
UID:10012005-1868119200-1868122800@www.yosemitelakespark.org
SUMMARY:Fire Safety Taskforce
DESCRIPTION:Meeting To Be Held In The Library
URL:https://www.yosemitelakespark.org/ylpevent/fire-safety-taskforce/2029-03-13/
LOCATION:Clubhouse\, 30250 Yosemite Springs Parkway\, Coarsegold\, CA\, 93614\, United States
CATEGORIES:Official Meetings
GEO:37.18568;-119.76989
X-APPLE-STRUCTURED-LOCATION;VALUE=URI;X-ADDRESS=Clubhouse 30250 Yosemite Springs Parkway Coarsegold CA 93614 United States;X-APPLE-RADIUS=500;X-TITLE=30250 Yosemite Springs Parkway:geo:-119.76989,37.18568
END:VEVENT
BEGIN:VEVENT
DTSTART;TZID=America/Los_Angeles:20290410T180000
DTEND;TZID=America/Los_Angeles:20290410T190000
DTSTAMP:20260421T083448
CREATED:20241002T195003Z
LAST-MODIFIED:20241002T195003Z
UID:10012006-1870538400-1870542000@www.yosemitelakespark.org
SUMMARY:Fire Safety Taskforce
DESCRIPTION:Meeting To Be Held In The Library
URL:https://www.yosemitelakespark.org/ylpevent/fire-safety-taskforce/2029-04-10/
LOCATION:Clubhouse\, 30250 Yosemite Springs Parkway\, Coarsegold\, CA\, 93614\, United States
CATEGORIES:Official Meetings
GEO:37.18568;-119.76989
X-APPLE-STRUCTURED-LOCATION;VALUE=URI;X-ADDRESS=Clubhouse 30250 Yosemite Springs Parkway Coarsegold CA 93614 United States;X-APPLE-RADIUS=500;X-TITLE=30250 Yosemite Springs Parkway:geo:-119.76989,37.18568
END:VEVENT
BEGIN:VEVENT
DTSTART;TZID=America/Los_Angeles:20290508T180000
DTEND;TZID=America/Los_Angeles:20290508T190000
DTSTAMP:20260421T083448
CREATED:20241002T195003Z
LAST-MODIFIED:20241002T195003Z
UID:10012007-1872957600-1872961200@www.yosemitelakespark.org
SUMMARY:Fire Safety Taskforce
DESCRIPTION:Meeting To Be Held In The Library
URL:https://www.yosemitelakespark.org/ylpevent/fire-safety-taskforce/2029-05-08/
LOCATION:Clubhouse\, 30250 Yosemite Springs Parkway\, Coarsegold\, CA\, 93614\, United States
CATEGORIES:Official Meetings
GEO:37.18568;-119.76989
X-APPLE-STRUCTURED-LOCATION;VALUE=URI;X-ADDRESS=Clubhouse 30250 Yosemite Springs Parkway Coarsegold CA 93614 United States;X-APPLE-RADIUS=500;X-TITLE=30250 Yosemite Springs Parkway:geo:-119.76989,37.18568
END:VEVENT
BEGIN:VEVENT
DTSTART;TZID=America/Los_Angeles:20290612T180000
DTEND;TZID=America/Los_Angeles:20290612T190000
DTSTAMP:20260421T083448
CREATED:20241002T195003Z
LAST-MODIFIED:20241002T195003Z
UID:10012008-1875981600-1875985200@www.yosemitelakespark.org
SUMMARY:Fire Safety Taskforce
DESCRIPTION:Meeting To Be Held In The Library
URL:https://www.yosemitelakespark.org/ylpevent/fire-safety-taskforce/2029-06-12/
LOCATION:Clubhouse\, 30250 Yosemite Springs Parkway\, Coarsegold\, CA\, 93614\, United States
CATEGORIES:Official Meetings
GEO:37.18568;-119.76989
X-APPLE-STRUCTURED-LOCATION;VALUE=URI;X-ADDRESS=Clubhouse 30250 Yosemite Springs Parkway Coarsegold CA 93614 United States;X-APPLE-RADIUS=500;X-TITLE=30250 Yosemite Springs Parkway:geo:-119.76989,37.18568
END:VEVENT
BEGIN:VEVENT
DTSTART;TZID=America/Los_Angeles:20290710T180000
DTEND;TZID=America/Los_Angeles:20290710T190000
DTSTAMP:20260421T083448
CREATED:20241002T195003Z
LAST-MODIFIED:20241002T195003Z
UID:10012009-1878400800-1878404400@www.yosemitelakespark.org
SUMMARY:Fire Safety Taskforce
DESCRIPTION:Meeting To Be Held In The Library
URL:https://www.yosemitelakespark.org/ylpevent/fire-safety-taskforce/2029-07-10/
LOCATION:Clubhouse\, 30250 Yosemite Springs Parkway\, Coarsegold\, CA\, 93614\, United States
CATEGORIES:Official Meetings
GEO:37.18568;-119.76989
X-APPLE-STRUCTURED-LOCATION;VALUE=URI;X-ADDRESS=Clubhouse 30250 Yosemite Springs Parkway Coarsegold CA 93614 United States;X-APPLE-RADIUS=500;X-TITLE=30250 Yosemite Springs Parkway:geo:-119.76989,37.18568
END:VEVENT
BEGIN:VEVENT
DTSTART;TZID=America/Los_Angeles:20290814T180000
DTEND;TZID=America/Los_Angeles:20290814T190000
DTSTAMP:20260421T083448
CREATED:20241002T195003Z
LAST-MODIFIED:20241002T195003Z
UID:10012010-1881424800-1881428400@www.yosemitelakespark.org
SUMMARY:Fire Safety Taskforce
DESCRIPTION:Meeting To Be Held In The Library
URL:https://www.yosemitelakespark.org/ylpevent/fire-safety-taskforce/2029-08-14/
LOCATION:Clubhouse\, 30250 Yosemite Springs Parkway\, Coarsegold\, CA\, 93614\, United States
CATEGORIES:Official Meetings
GEO:37.18568;-119.76989
X-APPLE-STRUCTURED-LOCATION;VALUE=URI;X-ADDRESS=Clubhouse 30250 Yosemite Springs Parkway Coarsegold CA 93614 United States;X-APPLE-RADIUS=500;X-TITLE=30250 Yosemite Springs Parkway:geo:-119.76989,37.18568
END:VEVENT
BEGIN:VEVENT
DTSTART;TZID=America/Los_Angeles:20290911T180000
DTEND;TZID=America/Los_Angeles:20290911T190000
DTSTAMP:20260421T083448
CREATED:20241002T195003Z
LAST-MODIFIED:20241002T195003Z
UID:10012011-1883844000-1883847600@www.yosemitelakespark.org
SUMMARY:Fire Safety Taskforce
DESCRIPTION:Meeting To Be Held In The Library
URL:https://www.yosemitelakespark.org/ylpevent/fire-safety-taskforce/2029-09-11/
LOCATION:Clubhouse\, 30250 Yosemite Springs Parkway\, Coarsegold\, CA\, 93614\, United States
CATEGORIES:Official Meetings
GEO:37.18568;-119.76989
X-APPLE-STRUCTURED-LOCATION;VALUE=URI;X-ADDRESS=Clubhouse 30250 Yosemite Springs Parkway Coarsegold CA 93614 United States;X-APPLE-RADIUS=500;X-TITLE=30250 Yosemite Springs Parkway:geo:-119.76989,37.18568
END:VEVENT
BEGIN:VEVENT
DTSTART;TZID=America/Los_Angeles:20291009T180000
DTEND;TZID=America/Los_Angeles:20291009T190000
DTSTAMP:20260421T083448
CREATED:20241002T195003Z
LAST-MODIFIED:20241002T195003Z
UID:10012909-1886263200-1886266800@www.yosemitelakespark.org
SUMMARY:Fire Safety Taskforce
DESCRIPTION:Meeting To Be Held In The Library
URL:https://www.yosemitelakespark.org/ylpevent/fire-safety-taskforce/2029-10-09/
LOCATION:Clubhouse\, 30250 Yosemite Springs Parkway\, Coarsegold\, CA\, 93614\, United States
CATEGORIES:Official Meetings
GEO:37.18568;-119.76989
X-APPLE-STRUCTURED-LOCATION;VALUE=URI;X-ADDRESS=Clubhouse 30250 Yosemite Springs Parkway Coarsegold CA 93614 United States;X-APPLE-RADIUS=500;X-TITLE=30250 Yosemite Springs Parkway:geo:-119.76989,37.18568
END:VEVENT
END:VCALENDAR