BEGIN:VCALENDAR
VERSION:2.0
PRODID:-//Yosemite Lakes Park - ECPv6.15.20//NONSGML v1.0//EN
CALSCALE:GREGORIAN
METHOD:PUBLISH
X-WR-CALNAME:Yosemite Lakes Park
X-ORIGINAL-URL:https://www.yosemitelakespark.org
X-WR-CALDESC:Events for Yosemite Lakes Park
REFRESH-INTERVAL;VALUE=DURATION:PT1H
X-Robots-Tag:noindex
X-PUBLISHED-TTL:PT1H
BEGIN:VTIMEZONE
TZID:America/Los_Angeles
BEGIN:DAYLIGHT
TZOFFSETFROM:-0800
TZOFFSETTO:-0700
TZNAME:PDT
DTSTART:20250309T100000
END:DAYLIGHT
BEGIN:STANDARD
TZOFFSETFROM:-0700
TZOFFSETTO:-0800
TZNAME:PST
DTSTART:20251102T090000
END:STANDARD
BEGIN:DAYLIGHT
TZOFFSETFROM:-0800
TZOFFSETTO:-0700
TZNAME:PDT
DTSTART:20260308T100000
END:DAYLIGHT
BEGIN:STANDARD
TZOFFSETFROM:-0700
TZOFFSETTO:-0800
TZNAME:PST
DTSTART:20261101T090000
END:STANDARD
BEGIN:DAYLIGHT
TZOFFSETFROM:-0800
TZOFFSETTO:-0700
TZNAME:PDT
DTSTART:20270314T100000
END:DAYLIGHT
BEGIN:STANDARD
TZOFFSETFROM:-0700
TZOFFSETTO:-0800
TZNAME:PST
DTSTART:20271107T090000
END:STANDARD
BEGIN:DAYLIGHT
TZOFFSETFROM:-0800
TZOFFSETTO:-0700
TZNAME:PDT
DTSTART:20280312T100000
END:DAYLIGHT
BEGIN:STANDARD
TZOFFSETFROM:-0700
TZOFFSETTO:-0800
TZNAME:PST
DTSTART:20281105T090000
END:STANDARD
END:VTIMEZONE
BEGIN:VEVENT
DTSTART;TZID=America/Los_Angeles:20260916T190000
DTEND;TZID=America/Los_Angeles:20260916T220000
DTSTAMP:20260419T171951
CREATED:20250219T225007Z
LAST-MODIFIED:20250711T233855Z
UID:10013579-1789585200-1789596000@www.yosemitelakespark.org
SUMMARY:Karaoke at The Yosemite Grill
DESCRIPTION:Karaoke with DJ Debbie Lee \nEvery Wednesday Evening 7pm-10pm
URL:https://www.yosemitelakespark.org/ylpevent/karaoke-2/2026-09-16/
LOCATION:Clubhouse\, 30250 Yosemite Springs Parkway\, Coarsegold\, CA\, 93614\, United States
CATEGORIES:Karaoke
ATTACH;FMTTYPE=image/jpeg:https://www.yosemitelakespark.org/wp-content/uploads/2025/02/Karaoke-Calendar-Pic.jpg
GEO:37.18568;-119.76989
X-APPLE-STRUCTURED-LOCATION;VALUE=URI;X-ADDRESS=Clubhouse 30250 Yosemite Springs Parkway Coarsegold CA 93614 United States;X-APPLE-RADIUS=500;X-TITLE=30250 Yosemite Springs Parkway:geo:-119.76989,37.18568
END:VEVENT
BEGIN:VEVENT
DTSTART;TZID=America/Los_Angeles:20260923T190000
DTEND;TZID=America/Los_Angeles:20260923T220000
DTSTAMP:20260419T171951
CREATED:20250219T225007Z
LAST-MODIFIED:20250711T233855Z
UID:10013580-1790190000-1790200800@www.yosemitelakespark.org
SUMMARY:Karaoke at The Yosemite Grill
DESCRIPTION:Karaoke with DJ Debbie Lee \nEvery Wednesday Evening 7pm-10pm
URL:https://www.yosemitelakespark.org/ylpevent/karaoke-2/2026-09-23/
LOCATION:Clubhouse\, 30250 Yosemite Springs Parkway\, Coarsegold\, CA\, 93614\, United States
CATEGORIES:Karaoke
ATTACH;FMTTYPE=image/jpeg:https://www.yosemitelakespark.org/wp-content/uploads/2025/02/Karaoke-Calendar-Pic.jpg
GEO:37.18568;-119.76989
X-APPLE-STRUCTURED-LOCATION;VALUE=URI;X-ADDRESS=Clubhouse 30250 Yosemite Springs Parkway Coarsegold CA 93614 United States;X-APPLE-RADIUS=500;X-TITLE=30250 Yosemite Springs Parkway:geo:-119.76989,37.18568
END:VEVENT
BEGIN:VEVENT
DTSTART;TZID=America/Los_Angeles:20260930T190000
DTEND;TZID=America/Los_Angeles:20260930T220000
DTSTAMP:20260419T171951
CREATED:20250219T225007Z
LAST-MODIFIED:20250711T233855Z
UID:10013581-1790794800-1790805600@www.yosemitelakespark.org
SUMMARY:Karaoke at The Yosemite Grill
DESCRIPTION:Karaoke with DJ Debbie Lee \nEvery Wednesday Evening 7pm-10pm
URL:https://www.yosemitelakespark.org/ylpevent/karaoke-2/2026-09-30/
LOCATION:Clubhouse\, 30250 Yosemite Springs Parkway\, Coarsegold\, CA\, 93614\, United States
CATEGORIES:Karaoke
ATTACH;FMTTYPE=image/jpeg:https://www.yosemitelakespark.org/wp-content/uploads/2025/02/Karaoke-Calendar-Pic.jpg
GEO:37.18568;-119.76989
X-APPLE-STRUCTURED-LOCATION;VALUE=URI;X-ADDRESS=Clubhouse 30250 Yosemite Springs Parkway Coarsegold CA 93614 United States;X-APPLE-RADIUS=500;X-TITLE=30250 Yosemite Springs Parkway:geo:-119.76989,37.18568
END:VEVENT
BEGIN:VEVENT
DTSTART;TZID=America/Los_Angeles:20261007T190000
DTEND;TZID=America/Los_Angeles:20261007T220000
DTSTAMP:20260419T171951
CREATED:20250219T225007Z
LAST-MODIFIED:20250711T233855Z
UID:10013582-1791399600-1791410400@www.yosemitelakespark.org
SUMMARY:Karaoke at The Yosemite Grill
DESCRIPTION:Karaoke with DJ Debbie Lee \nEvery Wednesday Evening 7pm-10pm
URL:https://www.yosemitelakespark.org/ylpevent/karaoke-2/2026-10-07/
LOCATION:Clubhouse\, 30250 Yosemite Springs Parkway\, Coarsegold\, CA\, 93614\, United States
CATEGORIES:Karaoke
ATTACH;FMTTYPE=image/jpeg:https://www.yosemitelakespark.org/wp-content/uploads/2025/02/Karaoke-Calendar-Pic.jpg
GEO:37.18568;-119.76989
X-APPLE-STRUCTURED-LOCATION;VALUE=URI;X-ADDRESS=Clubhouse 30250 Yosemite Springs Parkway Coarsegold CA 93614 United States;X-APPLE-RADIUS=500;X-TITLE=30250 Yosemite Springs Parkway:geo:-119.76989,37.18568
END:VEVENT
BEGIN:VEVENT
DTSTART;TZID=America/Los_Angeles:20261014T190000
DTEND;TZID=America/Los_Angeles:20261014T220000
DTSTAMP:20260419T171951
CREATED:20250219T225007Z
LAST-MODIFIED:20250711T233855Z
UID:10013583-1792004400-1792015200@www.yosemitelakespark.org
SUMMARY:Karaoke at The Yosemite Grill
DESCRIPTION:Karaoke with DJ Debbie Lee \nEvery Wednesday Evening 7pm-10pm
URL:https://www.yosemitelakespark.org/ylpevent/karaoke-2/2026-10-14/
LOCATION:Clubhouse\, 30250 Yosemite Springs Parkway\, Coarsegold\, CA\, 93614\, United States
CATEGORIES:Karaoke
ATTACH;FMTTYPE=image/jpeg:https://www.yosemitelakespark.org/wp-content/uploads/2025/02/Karaoke-Calendar-Pic.jpg
GEO:37.18568;-119.76989
X-APPLE-STRUCTURED-LOCATION;VALUE=URI;X-ADDRESS=Clubhouse 30250 Yosemite Springs Parkway Coarsegold CA 93614 United States;X-APPLE-RADIUS=500;X-TITLE=30250 Yosemite Springs Parkway:geo:-119.76989,37.18568
END:VEVENT
BEGIN:VEVENT
DTSTART;TZID=America/Los_Angeles:20261021T190000
DTEND;TZID=America/Los_Angeles:20261021T220000
DTSTAMP:20260419T171951
CREATED:20250219T225007Z
LAST-MODIFIED:20250711T233855Z
UID:10013584-1792609200-1792620000@www.yosemitelakespark.org
SUMMARY:Karaoke at The Yosemite Grill
DESCRIPTION:Karaoke with DJ Debbie Lee \nEvery Wednesday Evening 7pm-10pm
URL:https://www.yosemitelakespark.org/ylpevent/karaoke-2/2026-10-21/
LOCATION:Clubhouse\, 30250 Yosemite Springs Parkway\, Coarsegold\, CA\, 93614\, United States
CATEGORIES:Karaoke
ATTACH;FMTTYPE=image/jpeg:https://www.yosemitelakespark.org/wp-content/uploads/2025/02/Karaoke-Calendar-Pic.jpg
GEO:37.18568;-119.76989
X-APPLE-STRUCTURED-LOCATION;VALUE=URI;X-ADDRESS=Clubhouse 30250 Yosemite Springs Parkway Coarsegold CA 93614 United States;X-APPLE-RADIUS=500;X-TITLE=30250 Yosemite Springs Parkway:geo:-119.76989,37.18568
END:VEVENT
BEGIN:VEVENT
DTSTART;TZID=America/Los_Angeles:20261028T190000
DTEND;TZID=America/Los_Angeles:20261028T220000
DTSTAMP:20260419T171951
CREATED:20250219T225007Z
LAST-MODIFIED:20250711T233855Z
UID:10013585-1793214000-1793224800@www.yosemitelakespark.org
SUMMARY:Karaoke at The Yosemite Grill
DESCRIPTION:Karaoke with DJ Debbie Lee \nEvery Wednesday Evening 7pm-10pm
URL:https://www.yosemitelakespark.org/ylpevent/karaoke-2/2026-10-28/
LOCATION:Clubhouse\, 30250 Yosemite Springs Parkway\, Coarsegold\, CA\, 93614\, United States
CATEGORIES:Karaoke
ATTACH;FMTTYPE=image/jpeg:https://www.yosemitelakespark.org/wp-content/uploads/2025/02/Karaoke-Calendar-Pic.jpg
GEO:37.18568;-119.76989
X-APPLE-STRUCTURED-LOCATION;VALUE=URI;X-ADDRESS=Clubhouse 30250 Yosemite Springs Parkway Coarsegold CA 93614 United States;X-APPLE-RADIUS=500;X-TITLE=30250 Yosemite Springs Parkway:geo:-119.76989,37.18568
END:VEVENT
BEGIN:VEVENT
DTSTART;TZID=America/Los_Angeles:20261104T190000
DTEND;TZID=America/Los_Angeles:20261104T220000
DTSTAMP:20260419T171951
CREATED:20250219T225007Z
LAST-MODIFIED:20250711T233855Z
UID:10013586-1793818800-1793829600@www.yosemitelakespark.org
SUMMARY:Karaoke at The Yosemite Grill
DESCRIPTION:Karaoke with DJ Debbie Lee \nEvery Wednesday Evening 7pm-10pm
URL:https://www.yosemitelakespark.org/ylpevent/karaoke-2/2026-11-04/
LOCATION:Clubhouse\, 30250 Yosemite Springs Parkway\, Coarsegold\, CA\, 93614\, United States
CATEGORIES:Karaoke
ATTACH;FMTTYPE=image/jpeg:https://www.yosemitelakespark.org/wp-content/uploads/2025/02/Karaoke-Calendar-Pic.jpg
GEO:37.18568;-119.76989
X-APPLE-STRUCTURED-LOCATION;VALUE=URI;X-ADDRESS=Clubhouse 30250 Yosemite Springs Parkway Coarsegold CA 93614 United States;X-APPLE-RADIUS=500;X-TITLE=30250 Yosemite Springs Parkway:geo:-119.76989,37.18568
END:VEVENT
BEGIN:VEVENT
DTSTART;TZID=America/Los_Angeles:20261111T190000
DTEND;TZID=America/Los_Angeles:20261111T220000
DTSTAMP:20260419T171951
CREATED:20250219T225007Z
LAST-MODIFIED:20250711T233855Z
UID:10013587-1794423600-1794434400@www.yosemitelakespark.org
SUMMARY:Karaoke at The Yosemite Grill
DESCRIPTION:Karaoke with DJ Debbie Lee \nEvery Wednesday Evening 7pm-10pm
URL:https://www.yosemitelakespark.org/ylpevent/karaoke-2/2026-11-11/
LOCATION:Clubhouse\, 30250 Yosemite Springs Parkway\, Coarsegold\, CA\, 93614\, United States
CATEGORIES:Karaoke
ATTACH;FMTTYPE=image/jpeg:https://www.yosemitelakespark.org/wp-content/uploads/2025/02/Karaoke-Calendar-Pic.jpg
GEO:37.18568;-119.76989
X-APPLE-STRUCTURED-LOCATION;VALUE=URI;X-ADDRESS=Clubhouse 30250 Yosemite Springs Parkway Coarsegold CA 93614 United States;X-APPLE-RADIUS=500;X-TITLE=30250 Yosemite Springs Parkway:geo:-119.76989,37.18568
END:VEVENT
BEGIN:VEVENT
DTSTART;TZID=America/Los_Angeles:20261118T190000
DTEND;TZID=America/Los_Angeles:20261118T220000
DTSTAMP:20260419T171951
CREATED:20250219T225007Z
LAST-MODIFIED:20250711T233855Z
UID:10013588-1795028400-1795039200@www.yosemitelakespark.org
SUMMARY:Karaoke at The Yosemite Grill
DESCRIPTION:Karaoke with DJ Debbie Lee \nEvery Wednesday Evening 7pm-10pm
URL:https://www.yosemitelakespark.org/ylpevent/karaoke-2/2026-11-18/
LOCATION:Clubhouse\, 30250 Yosemite Springs Parkway\, Coarsegold\, CA\, 93614\, United States
CATEGORIES:Karaoke
ATTACH;FMTTYPE=image/jpeg:https://www.yosemitelakespark.org/wp-content/uploads/2025/02/Karaoke-Calendar-Pic.jpg
GEO:37.18568;-119.76989
X-APPLE-STRUCTURED-LOCATION;VALUE=URI;X-ADDRESS=Clubhouse 30250 Yosemite Springs Parkway Coarsegold CA 93614 United States;X-APPLE-RADIUS=500;X-TITLE=30250 Yosemite Springs Parkway:geo:-119.76989,37.18568
END:VEVENT
BEGIN:VEVENT
DTSTART;TZID=America/Los_Angeles:20261125T190000
DTEND;TZID=America/Los_Angeles:20261125T220000
DTSTAMP:20260419T171951
CREATED:20250219T225007Z
LAST-MODIFIED:20250711T233855Z
UID:10013589-1795633200-1795644000@www.yosemitelakespark.org
SUMMARY:Karaoke at The Yosemite Grill
DESCRIPTION:Karaoke with DJ Debbie Lee \nEvery Wednesday Evening 7pm-10pm
URL:https://www.yosemitelakespark.org/ylpevent/karaoke-2/2026-11-25/
LOCATION:Clubhouse\, 30250 Yosemite Springs Parkway\, Coarsegold\, CA\, 93614\, United States
CATEGORIES:Karaoke
ATTACH;FMTTYPE=image/jpeg:https://www.yosemitelakespark.org/wp-content/uploads/2025/02/Karaoke-Calendar-Pic.jpg
GEO:37.18568;-119.76989
X-APPLE-STRUCTURED-LOCATION;VALUE=URI;X-ADDRESS=Clubhouse 30250 Yosemite Springs Parkway Coarsegold CA 93614 United States;X-APPLE-RADIUS=500;X-TITLE=30250 Yosemite Springs Parkway:geo:-119.76989,37.18568
END:VEVENT
BEGIN:VEVENT
DTSTART;TZID=America/Los_Angeles:20261202T190000
DTEND;TZID=America/Los_Angeles:20261202T220000
DTSTAMP:20260419T171951
CREATED:20250219T225007Z
LAST-MODIFIED:20250711T233855Z
UID:10013590-1796238000-1796248800@www.yosemitelakespark.org
SUMMARY:Karaoke at The Yosemite Grill
DESCRIPTION:Karaoke with DJ Debbie Lee \nEvery Wednesday Evening 7pm-10pm
URL:https://www.yosemitelakespark.org/ylpevent/karaoke-2/2026-12-02/
LOCATION:Clubhouse\, 30250 Yosemite Springs Parkway\, Coarsegold\, CA\, 93614\, United States
CATEGORIES:Karaoke
ATTACH;FMTTYPE=image/jpeg:https://www.yosemitelakespark.org/wp-content/uploads/2025/02/Karaoke-Calendar-Pic.jpg
GEO:37.18568;-119.76989
X-APPLE-STRUCTURED-LOCATION;VALUE=URI;X-ADDRESS=Clubhouse 30250 Yosemite Springs Parkway Coarsegold CA 93614 United States;X-APPLE-RADIUS=500;X-TITLE=30250 Yosemite Springs Parkway:geo:-119.76989,37.18568
END:VEVENT
BEGIN:VEVENT
DTSTART;TZID=America/Los_Angeles:20261209T190000
DTEND;TZID=America/Los_Angeles:20261209T220000
DTSTAMP:20260419T171951
CREATED:20250219T225007Z
LAST-MODIFIED:20250711T233855Z
UID:10013591-1796842800-1796853600@www.yosemitelakespark.org
SUMMARY:Karaoke at The Yosemite Grill
DESCRIPTION:Karaoke with DJ Debbie Lee \nEvery Wednesday Evening 7pm-10pm
URL:https://www.yosemitelakespark.org/ylpevent/karaoke-2/2026-12-09/
LOCATION:Clubhouse\, 30250 Yosemite Springs Parkway\, Coarsegold\, CA\, 93614\, United States
CATEGORIES:Karaoke
ATTACH;FMTTYPE=image/jpeg:https://www.yosemitelakespark.org/wp-content/uploads/2025/02/Karaoke-Calendar-Pic.jpg
GEO:37.18568;-119.76989
X-APPLE-STRUCTURED-LOCATION;VALUE=URI;X-ADDRESS=Clubhouse 30250 Yosemite Springs Parkway Coarsegold CA 93614 United States;X-APPLE-RADIUS=500;X-TITLE=30250 Yosemite Springs Parkway:geo:-119.76989,37.18568
END:VEVENT
BEGIN:VEVENT
DTSTART;TZID=America/Los_Angeles:20261216T190000
DTEND;TZID=America/Los_Angeles:20261216T220000
DTSTAMP:20260419T171951
CREATED:20250219T225007Z
LAST-MODIFIED:20250711T233855Z
UID:10013592-1797447600-1797458400@www.yosemitelakespark.org
SUMMARY:Karaoke at The Yosemite Grill
DESCRIPTION:Karaoke with DJ Debbie Lee \nEvery Wednesday Evening 7pm-10pm
URL:https://www.yosemitelakespark.org/ylpevent/karaoke-2/2026-12-16/
LOCATION:Clubhouse\, 30250 Yosemite Springs Parkway\, Coarsegold\, CA\, 93614\, United States
CATEGORIES:Karaoke
ATTACH;FMTTYPE=image/jpeg:https://www.yosemitelakespark.org/wp-content/uploads/2025/02/Karaoke-Calendar-Pic.jpg
GEO:37.18568;-119.76989
X-APPLE-STRUCTURED-LOCATION;VALUE=URI;X-ADDRESS=Clubhouse 30250 Yosemite Springs Parkway Coarsegold CA 93614 United States;X-APPLE-RADIUS=500;X-TITLE=30250 Yosemite Springs Parkway:geo:-119.76989,37.18568
END:VEVENT
BEGIN:VEVENT
DTSTART;TZID=America/Los_Angeles:20261223T190000
DTEND;TZID=America/Los_Angeles:20261223T220000
DTSTAMP:20260419T171951
CREATED:20250219T225007Z
LAST-MODIFIED:20250711T233855Z
UID:10013593-1798052400-1798063200@www.yosemitelakespark.org
SUMMARY:Karaoke at The Yosemite Grill
DESCRIPTION:Karaoke with DJ Debbie Lee \nEvery Wednesday Evening 7pm-10pm
URL:https://www.yosemitelakespark.org/ylpevent/karaoke-2/2026-12-23/
LOCATION:Clubhouse\, 30250 Yosemite Springs Parkway\, Coarsegold\, CA\, 93614\, United States
CATEGORIES:Karaoke
ATTACH;FMTTYPE=image/jpeg:https://www.yosemitelakespark.org/wp-content/uploads/2025/02/Karaoke-Calendar-Pic.jpg
GEO:37.18568;-119.76989
X-APPLE-STRUCTURED-LOCATION;VALUE=URI;X-ADDRESS=Clubhouse 30250 Yosemite Springs Parkway Coarsegold CA 93614 United States;X-APPLE-RADIUS=500;X-TITLE=30250 Yosemite Springs Parkway:geo:-119.76989,37.18568
END:VEVENT
BEGIN:VEVENT
DTSTART;TZID=America/Los_Angeles:20261230T190000
DTEND;TZID=America/Los_Angeles:20261230T220000
DTSTAMP:20260419T171951
CREATED:20250219T225007Z
LAST-MODIFIED:20250711T233855Z
UID:10013594-1798657200-1798668000@www.yosemitelakespark.org
SUMMARY:Karaoke at The Yosemite Grill
DESCRIPTION:Karaoke with DJ Debbie Lee \nEvery Wednesday Evening 7pm-10pm
URL:https://www.yosemitelakespark.org/ylpevent/karaoke-2/2026-12-30/
LOCATION:Clubhouse\, 30250 Yosemite Springs Parkway\, Coarsegold\, CA\, 93614\, United States
CATEGORIES:Karaoke
ATTACH;FMTTYPE=image/jpeg:https://www.yosemitelakespark.org/wp-content/uploads/2025/02/Karaoke-Calendar-Pic.jpg
GEO:37.18568;-119.76989
X-APPLE-STRUCTURED-LOCATION;VALUE=URI;X-ADDRESS=Clubhouse 30250 Yosemite Springs Parkway Coarsegold CA 93614 United States;X-APPLE-RADIUS=500;X-TITLE=30250 Yosemite Springs Parkway:geo:-119.76989,37.18568
END:VEVENT
BEGIN:VEVENT
DTSTART;TZID=America/Los_Angeles:20270106T190000
DTEND;TZID=America/Los_Angeles:20270106T220000
DTSTAMP:20260419T171951
CREATED:20250219T225007Z
LAST-MODIFIED:20250711T233855Z
UID:10013595-1799262000-1799272800@www.yosemitelakespark.org
SUMMARY:Karaoke at The Yosemite Grill
DESCRIPTION:Karaoke with DJ Debbie Lee \nEvery Wednesday Evening 7pm-10pm
URL:https://www.yosemitelakespark.org/ylpevent/karaoke-2/2027-01-06/
LOCATION:Clubhouse\, 30250 Yosemite Springs Parkway\, Coarsegold\, CA\, 93614\, United States
CATEGORIES:Karaoke
ATTACH;FMTTYPE=image/jpeg:https://www.yosemitelakespark.org/wp-content/uploads/2025/02/Karaoke-Calendar-Pic.jpg
GEO:37.18568;-119.76989
X-APPLE-STRUCTURED-LOCATION;VALUE=URI;X-ADDRESS=Clubhouse 30250 Yosemite Springs Parkway Coarsegold CA 93614 United States;X-APPLE-RADIUS=500;X-TITLE=30250 Yosemite Springs Parkway:geo:-119.76989,37.18568
END:VEVENT
BEGIN:VEVENT
DTSTART;TZID=America/Los_Angeles:20270113T190000
DTEND;TZID=America/Los_Angeles:20270113T220000
DTSTAMP:20260419T171951
CREATED:20250219T225007Z
LAST-MODIFIED:20250711T233855Z
UID:10013596-1799866800-1799877600@www.yosemitelakespark.org
SUMMARY:Karaoke at The Yosemite Grill
DESCRIPTION:Karaoke with DJ Debbie Lee \nEvery Wednesday Evening 7pm-10pm
URL:https://www.yosemitelakespark.org/ylpevent/karaoke-2/2027-01-13/
LOCATION:Clubhouse\, 30250 Yosemite Springs Parkway\, Coarsegold\, CA\, 93614\, United States
CATEGORIES:Karaoke
ATTACH;FMTTYPE=image/jpeg:https://www.yosemitelakespark.org/wp-content/uploads/2025/02/Karaoke-Calendar-Pic.jpg
GEO:37.18568;-119.76989
X-APPLE-STRUCTURED-LOCATION;VALUE=URI;X-ADDRESS=Clubhouse 30250 Yosemite Springs Parkway Coarsegold CA 93614 United States;X-APPLE-RADIUS=500;X-TITLE=30250 Yosemite Springs Parkway:geo:-119.76989,37.18568
END:VEVENT
BEGIN:VEVENT
DTSTART;TZID=America/Los_Angeles:20270120T190000
DTEND;TZID=America/Los_Angeles:20270120T220000
DTSTAMP:20260419T171951
CREATED:20250219T225007Z
LAST-MODIFIED:20250711T233855Z
UID:10013597-1800471600-1800482400@www.yosemitelakespark.org
SUMMARY:Karaoke at The Yosemite Grill
DESCRIPTION:Karaoke with DJ Debbie Lee \nEvery Wednesday Evening 7pm-10pm
URL:https://www.yosemitelakespark.org/ylpevent/karaoke-2/2027-01-20/
LOCATION:Clubhouse\, 30250 Yosemite Springs Parkway\, Coarsegold\, CA\, 93614\, United States
CATEGORIES:Karaoke
ATTACH;FMTTYPE=image/jpeg:https://www.yosemitelakespark.org/wp-content/uploads/2025/02/Karaoke-Calendar-Pic.jpg
GEO:37.18568;-119.76989
X-APPLE-STRUCTURED-LOCATION;VALUE=URI;X-ADDRESS=Clubhouse 30250 Yosemite Springs Parkway Coarsegold CA 93614 United States;X-APPLE-RADIUS=500;X-TITLE=30250 Yosemite Springs Parkway:geo:-119.76989,37.18568
END:VEVENT
BEGIN:VEVENT
DTSTART;TZID=America/Los_Angeles:20270127T190000
DTEND;TZID=America/Los_Angeles:20270127T220000
DTSTAMP:20260419T171951
CREATED:20250219T225007Z
LAST-MODIFIED:20250711T233855Z
UID:10013598-1801076400-1801087200@www.yosemitelakespark.org
SUMMARY:Karaoke at The Yosemite Grill
DESCRIPTION:Karaoke with DJ Debbie Lee \nEvery Wednesday Evening 7pm-10pm
URL:https://www.yosemitelakespark.org/ylpevent/karaoke-2/2027-01-27/
LOCATION:Clubhouse\, 30250 Yosemite Springs Parkway\, Coarsegold\, CA\, 93614\, United States
CATEGORIES:Karaoke
ATTACH;FMTTYPE=image/jpeg:https://www.yosemitelakespark.org/wp-content/uploads/2025/02/Karaoke-Calendar-Pic.jpg
GEO:37.18568;-119.76989
X-APPLE-STRUCTURED-LOCATION;VALUE=URI;X-ADDRESS=Clubhouse 30250 Yosemite Springs Parkway Coarsegold CA 93614 United States;X-APPLE-RADIUS=500;X-TITLE=30250 Yosemite Springs Parkway:geo:-119.76989,37.18568
END:VEVENT
BEGIN:VEVENT
DTSTART;TZID=America/Los_Angeles:20270203T190000
DTEND;TZID=America/Los_Angeles:20270203T220000
DTSTAMP:20260419T171951
CREATED:20250219T225007Z
LAST-MODIFIED:20250711T233855Z
UID:10013599-1801681200-1801692000@www.yosemitelakespark.org
SUMMARY:Karaoke at The Yosemite Grill
DESCRIPTION:Karaoke with DJ Debbie Lee \nEvery Wednesday Evening 7pm-10pm
URL:https://www.yosemitelakespark.org/ylpevent/karaoke-2/2027-02-03/
LOCATION:Clubhouse\, 30250 Yosemite Springs Parkway\, Coarsegold\, CA\, 93614\, United States
CATEGORIES:Karaoke
ATTACH;FMTTYPE=image/jpeg:https://www.yosemitelakespark.org/wp-content/uploads/2025/02/Karaoke-Calendar-Pic.jpg
GEO:37.18568;-119.76989
X-APPLE-STRUCTURED-LOCATION;VALUE=URI;X-ADDRESS=Clubhouse 30250 Yosemite Springs Parkway Coarsegold CA 93614 United States;X-APPLE-RADIUS=500;X-TITLE=30250 Yosemite Springs Parkway:geo:-119.76989,37.18568
END:VEVENT
BEGIN:VEVENT
DTSTART;TZID=America/Los_Angeles:20270210T190000
DTEND;TZID=America/Los_Angeles:20270210T220000
DTSTAMP:20260419T171951
CREATED:20250219T225007Z
LAST-MODIFIED:20250711T233855Z
UID:10013600-1802286000-1802296800@www.yosemitelakespark.org
SUMMARY:Karaoke at The Yosemite Grill
DESCRIPTION:Karaoke with DJ Debbie Lee \nEvery Wednesday Evening 7pm-10pm
URL:https://www.yosemitelakespark.org/ylpevent/karaoke-2/2027-02-10/
LOCATION:Clubhouse\, 30250 Yosemite Springs Parkway\, Coarsegold\, CA\, 93614\, United States
CATEGORIES:Karaoke
ATTACH;FMTTYPE=image/jpeg:https://www.yosemitelakespark.org/wp-content/uploads/2025/02/Karaoke-Calendar-Pic.jpg
GEO:37.18568;-119.76989
X-APPLE-STRUCTURED-LOCATION;VALUE=URI;X-ADDRESS=Clubhouse 30250 Yosemite Springs Parkway Coarsegold CA 93614 United States;X-APPLE-RADIUS=500;X-TITLE=30250 Yosemite Springs Parkway:geo:-119.76989,37.18568
END:VEVENT
BEGIN:VEVENT
DTSTART;TZID=America/Los_Angeles:20270217T190000
DTEND;TZID=America/Los_Angeles:20270217T220000
DTSTAMP:20260419T171951
CREATED:20250219T225007Z
LAST-MODIFIED:20250711T233855Z
UID:10013601-1802890800-1802901600@www.yosemitelakespark.org
SUMMARY:Karaoke at The Yosemite Grill
DESCRIPTION:Karaoke with DJ Debbie Lee \nEvery Wednesday Evening 7pm-10pm
URL:https://www.yosemitelakespark.org/ylpevent/karaoke-2/2027-02-17/
LOCATION:Clubhouse\, 30250 Yosemite Springs Parkway\, Coarsegold\, CA\, 93614\, United States
CATEGORIES:Karaoke
ATTACH;FMTTYPE=image/jpeg:https://www.yosemitelakespark.org/wp-content/uploads/2025/02/Karaoke-Calendar-Pic.jpg
GEO:37.18568;-119.76989
X-APPLE-STRUCTURED-LOCATION;VALUE=URI;X-ADDRESS=Clubhouse 30250 Yosemite Springs Parkway Coarsegold CA 93614 United States;X-APPLE-RADIUS=500;X-TITLE=30250 Yosemite Springs Parkway:geo:-119.76989,37.18568
END:VEVENT
BEGIN:VEVENT
DTSTART;TZID=America/Los_Angeles:20270224T190000
DTEND;TZID=America/Los_Angeles:20270224T220000
DTSTAMP:20260419T171951
CREATED:20250219T225007Z
LAST-MODIFIED:20250711T233855Z
UID:10013602-1803495600-1803506400@www.yosemitelakespark.org
SUMMARY:Karaoke at The Yosemite Grill
DESCRIPTION:Karaoke with DJ Debbie Lee \nEvery Wednesday Evening 7pm-10pm
URL:https://www.yosemitelakespark.org/ylpevent/karaoke-2/2027-02-24/
LOCATION:Clubhouse\, 30250 Yosemite Springs Parkway\, Coarsegold\, CA\, 93614\, United States
CATEGORIES:Karaoke
ATTACH;FMTTYPE=image/jpeg:https://www.yosemitelakespark.org/wp-content/uploads/2025/02/Karaoke-Calendar-Pic.jpg
GEO:37.18568;-119.76989
X-APPLE-STRUCTURED-LOCATION;VALUE=URI;X-ADDRESS=Clubhouse 30250 Yosemite Springs Parkway Coarsegold CA 93614 United States;X-APPLE-RADIUS=500;X-TITLE=30250 Yosemite Springs Parkway:geo:-119.76989,37.18568
END:VEVENT
BEGIN:VEVENT
DTSTART;TZID=America/Los_Angeles:20270303T190000
DTEND;TZID=America/Los_Angeles:20270303T220000
DTSTAMP:20260419T171951
CREATED:20250219T225007Z
LAST-MODIFIED:20250711T233855Z
UID:10013603-1804100400-1804111200@www.yosemitelakespark.org
SUMMARY:Karaoke at The Yosemite Grill
DESCRIPTION:Karaoke with DJ Debbie Lee \nEvery Wednesday Evening 7pm-10pm
URL:https://www.yosemitelakespark.org/ylpevent/karaoke-2/2027-03-03/
LOCATION:Clubhouse\, 30250 Yosemite Springs Parkway\, Coarsegold\, CA\, 93614\, United States
CATEGORIES:Karaoke
ATTACH;FMTTYPE=image/jpeg:https://www.yosemitelakespark.org/wp-content/uploads/2025/02/Karaoke-Calendar-Pic.jpg
GEO:37.18568;-119.76989
X-APPLE-STRUCTURED-LOCATION;VALUE=URI;X-ADDRESS=Clubhouse 30250 Yosemite Springs Parkway Coarsegold CA 93614 United States;X-APPLE-RADIUS=500;X-TITLE=30250 Yosemite Springs Parkway:geo:-119.76989,37.18568
END:VEVENT
BEGIN:VEVENT
DTSTART;TZID=America/Los_Angeles:20270310T190000
DTEND;TZID=America/Los_Angeles:20270310T220000
DTSTAMP:20260419T171951
CREATED:20250219T225007Z
LAST-MODIFIED:20250711T233855Z
UID:10013604-1804705200-1804716000@www.yosemitelakespark.org
SUMMARY:Karaoke at The Yosemite Grill
DESCRIPTION:Karaoke with DJ Debbie Lee \nEvery Wednesday Evening 7pm-10pm
URL:https://www.yosemitelakespark.org/ylpevent/karaoke-2/2027-03-10/
LOCATION:Clubhouse\, 30250 Yosemite Springs Parkway\, Coarsegold\, CA\, 93614\, United States
CATEGORIES:Karaoke
ATTACH;FMTTYPE=image/jpeg:https://www.yosemitelakespark.org/wp-content/uploads/2025/02/Karaoke-Calendar-Pic.jpg
GEO:37.18568;-119.76989
X-APPLE-STRUCTURED-LOCATION;VALUE=URI;X-ADDRESS=Clubhouse 30250 Yosemite Springs Parkway Coarsegold CA 93614 United States;X-APPLE-RADIUS=500;X-TITLE=30250 Yosemite Springs Parkway:geo:-119.76989,37.18568
END:VEVENT
BEGIN:VEVENT
DTSTART;TZID=America/Los_Angeles:20270317T190000
DTEND;TZID=America/Los_Angeles:20270317T220000
DTSTAMP:20260419T171951
CREATED:20250219T225007Z
LAST-MODIFIED:20250711T233855Z
UID:10013605-1805310000-1805320800@www.yosemitelakespark.org
SUMMARY:Karaoke at The Yosemite Grill
DESCRIPTION:Karaoke with DJ Debbie Lee \nEvery Wednesday Evening 7pm-10pm
URL:https://www.yosemitelakespark.org/ylpevent/karaoke-2/2027-03-17/
LOCATION:Clubhouse\, 30250 Yosemite Springs Parkway\, Coarsegold\, CA\, 93614\, United States
CATEGORIES:Karaoke
ATTACH;FMTTYPE=image/jpeg:https://www.yosemitelakespark.org/wp-content/uploads/2025/02/Karaoke-Calendar-Pic.jpg
GEO:37.18568;-119.76989
X-APPLE-STRUCTURED-LOCATION;VALUE=URI;X-ADDRESS=Clubhouse 30250 Yosemite Springs Parkway Coarsegold CA 93614 United States;X-APPLE-RADIUS=500;X-TITLE=30250 Yosemite Springs Parkway:geo:-119.76989,37.18568
END:VEVENT
BEGIN:VEVENT
DTSTART;TZID=America/Los_Angeles:20270324T190000
DTEND;TZID=America/Los_Angeles:20270324T220000
DTSTAMP:20260419T171951
CREATED:20250219T225007Z
LAST-MODIFIED:20250711T233855Z
UID:10013606-1805914800-1805925600@www.yosemitelakespark.org
SUMMARY:Karaoke at The Yosemite Grill
DESCRIPTION:Karaoke with DJ Debbie Lee \nEvery Wednesday Evening 7pm-10pm
URL:https://www.yosemitelakespark.org/ylpevent/karaoke-2/2027-03-24/
LOCATION:Clubhouse\, 30250 Yosemite Springs Parkway\, Coarsegold\, CA\, 93614\, United States
CATEGORIES:Karaoke
ATTACH;FMTTYPE=image/jpeg:https://www.yosemitelakespark.org/wp-content/uploads/2025/02/Karaoke-Calendar-Pic.jpg
GEO:37.18568;-119.76989
X-APPLE-STRUCTURED-LOCATION;VALUE=URI;X-ADDRESS=Clubhouse 30250 Yosemite Springs Parkway Coarsegold CA 93614 United States;X-APPLE-RADIUS=500;X-TITLE=30250 Yosemite Springs Parkway:geo:-119.76989,37.18568
END:VEVENT
BEGIN:VEVENT
DTSTART;TZID=America/Los_Angeles:20270331T190000
DTEND;TZID=America/Los_Angeles:20270331T220000
DTSTAMP:20260419T171951
CREATED:20250219T225007Z
LAST-MODIFIED:20250711T233855Z
UID:10013607-1806519600-1806530400@www.yosemitelakespark.org
SUMMARY:Karaoke at The Yosemite Grill
DESCRIPTION:Karaoke with DJ Debbie Lee \nEvery Wednesday Evening 7pm-10pm
URL:https://www.yosemitelakespark.org/ylpevent/karaoke-2/2027-03-31/
LOCATION:Clubhouse\, 30250 Yosemite Springs Parkway\, Coarsegold\, CA\, 93614\, United States
CATEGORIES:Karaoke
ATTACH;FMTTYPE=image/jpeg:https://www.yosemitelakespark.org/wp-content/uploads/2025/02/Karaoke-Calendar-Pic.jpg
GEO:37.18568;-119.76989
X-APPLE-STRUCTURED-LOCATION;VALUE=URI;X-ADDRESS=Clubhouse 30250 Yosemite Springs Parkway Coarsegold CA 93614 United States;X-APPLE-RADIUS=500;X-TITLE=30250 Yosemite Springs Parkway:geo:-119.76989,37.18568
END:VEVENT
BEGIN:VEVENT
DTSTART;TZID=America/Los_Angeles:20270407T190000
DTEND;TZID=America/Los_Angeles:20270407T220000
DTSTAMP:20260419T171951
CREATED:20250219T225007Z
LAST-MODIFIED:20250711T233855Z
UID:10013608-1807124400-1807135200@www.yosemitelakespark.org
SUMMARY:Karaoke at The Yosemite Grill
DESCRIPTION:Karaoke with DJ Debbie Lee \nEvery Wednesday Evening 7pm-10pm
URL:https://www.yosemitelakespark.org/ylpevent/karaoke-2/2027-04-07/
LOCATION:Clubhouse\, 30250 Yosemite Springs Parkway\, Coarsegold\, CA\, 93614\, United States
CATEGORIES:Karaoke
ATTACH;FMTTYPE=image/jpeg:https://www.yosemitelakespark.org/wp-content/uploads/2025/02/Karaoke-Calendar-Pic.jpg
GEO:37.18568;-119.76989
X-APPLE-STRUCTURED-LOCATION;VALUE=URI;X-ADDRESS=Clubhouse 30250 Yosemite Springs Parkway Coarsegold CA 93614 United States;X-APPLE-RADIUS=500;X-TITLE=30250 Yosemite Springs Parkway:geo:-119.76989,37.18568
END:VEVENT
END:VCALENDAR