BEGIN:VCALENDAR
VERSION:2.0
PRODID:-//Yosemite Lakes Park - ECPv6.15.20//NONSGML v1.0//EN
CALSCALE:GREGORIAN
METHOD:PUBLISH
X-WR-CALNAME:Yosemite Lakes Park
X-ORIGINAL-URL:https://www.yosemitelakespark.org
X-WR-CALDESC:Events for Yosemite Lakes Park
REFRESH-INTERVAL;VALUE=DURATION:PT1H
X-Robots-Tag:noindex
X-PUBLISHED-TTL:PT1H
BEGIN:VTIMEZONE
TZID:America/Los_Angeles
BEGIN:DAYLIGHT
TZOFFSETFROM:-0800
TZOFFSETTO:-0700
TZNAME:PDT
DTSTART:20240310T100000
END:DAYLIGHT
BEGIN:STANDARD
TZOFFSETFROM:-0700
TZOFFSETTO:-0800
TZNAME:PST
DTSTART:20241103T090000
END:STANDARD
BEGIN:DAYLIGHT
TZOFFSETFROM:-0800
TZOFFSETTO:-0700
TZNAME:PDT
DTSTART:20250309T100000
END:DAYLIGHT
BEGIN:STANDARD
TZOFFSETFROM:-0700
TZOFFSETTO:-0800
TZNAME:PST
DTSTART:20251102T090000
END:STANDARD
BEGIN:DAYLIGHT
TZOFFSETFROM:-0800
TZOFFSETTO:-0700
TZNAME:PDT
DTSTART:20260308T100000
END:DAYLIGHT
BEGIN:STANDARD
TZOFFSETFROM:-0700
TZOFFSETTO:-0800
TZNAME:PST
DTSTART:20261101T090000
END:STANDARD
BEGIN:DAYLIGHT
TZOFFSETFROM:-0800
TZOFFSETTO:-0700
TZNAME:PDT
DTSTART:20270314T100000
END:DAYLIGHT
BEGIN:STANDARD
TZOFFSETFROM:-0700
TZOFFSETTO:-0800
TZNAME:PST
DTSTART:20271107T090000
END:STANDARD
END:VTIMEZONE
BEGIN:VEVENT
DTSTART;TZID=America/Los_Angeles:20260204T190000
DTEND;TZID=America/Los_Angeles:20260204T220000
DTSTAMP:20260422T025020
CREATED:20250219T225007Z
LAST-MODIFIED:20250711T233855Z
UID:10013547-1770231600-1770242400@www.yosemitelakespark.org
SUMMARY:Karaoke at The Yosemite Grill
DESCRIPTION:Karaoke with DJ Debbie Lee \nEvery Wednesday Evening 7pm-10pm
URL:https://www.yosemitelakespark.org/ylpevent/karaoke-2/2026-02-04/
LOCATION:Clubhouse\, 30250 Yosemite Springs Parkway\, Coarsegold\, CA\, 93614\, United States
CATEGORIES:Karaoke
ATTACH;FMTTYPE=image/jpeg:https://www.yosemitelakespark.org/wp-content/uploads/2025/02/Karaoke-Calendar-Pic.jpg
GEO:37.18568;-119.76989
X-APPLE-STRUCTURED-LOCATION;VALUE=URI;X-ADDRESS=Clubhouse 30250 Yosemite Springs Parkway Coarsegold CA 93614 United States;X-APPLE-RADIUS=500;X-TITLE=30250 Yosemite Springs Parkway:geo:-119.76989,37.18568
END:VEVENT
BEGIN:VEVENT
DTSTART;TZID=America/Los_Angeles:20260128T190000
DTEND;TZID=America/Los_Angeles:20260128T220000
DTSTAMP:20260422T025020
CREATED:20250219T225007Z
LAST-MODIFIED:20250711T233855Z
UID:10013546-1769626800-1769637600@www.yosemitelakespark.org
SUMMARY:Karaoke at The Yosemite Grill
DESCRIPTION:Karaoke with DJ Debbie Lee \nEvery Wednesday Evening 7pm-10pm
URL:https://www.yosemitelakespark.org/ylpevent/karaoke-2/2026-01-28/
LOCATION:Clubhouse\, 30250 Yosemite Springs Parkway\, Coarsegold\, CA\, 93614\, United States
CATEGORIES:Karaoke
ATTACH;FMTTYPE=image/jpeg:https://www.yosemitelakespark.org/wp-content/uploads/2025/02/Karaoke-Calendar-Pic.jpg
GEO:37.18568;-119.76989
X-APPLE-STRUCTURED-LOCATION;VALUE=URI;X-ADDRESS=Clubhouse 30250 Yosemite Springs Parkway Coarsegold CA 93614 United States;X-APPLE-RADIUS=500;X-TITLE=30250 Yosemite Springs Parkway:geo:-119.76989,37.18568
END:VEVENT
BEGIN:VEVENT
DTSTART;TZID=America/Los_Angeles:20260121T190000
DTEND;TZID=America/Los_Angeles:20260121T220000
DTSTAMP:20260422T025020
CREATED:20250219T225007Z
LAST-MODIFIED:20250711T233855Z
UID:10013545-1769022000-1769032800@www.yosemitelakespark.org
SUMMARY:Karaoke at The Yosemite Grill
DESCRIPTION:Karaoke with DJ Debbie Lee \nEvery Wednesday Evening 7pm-10pm
URL:https://www.yosemitelakespark.org/ylpevent/karaoke-2/2026-01-21/
LOCATION:Clubhouse\, 30250 Yosemite Springs Parkway\, Coarsegold\, CA\, 93614\, United States
CATEGORIES:Karaoke
ATTACH;FMTTYPE=image/jpeg:https://www.yosemitelakespark.org/wp-content/uploads/2025/02/Karaoke-Calendar-Pic.jpg
GEO:37.18568;-119.76989
X-APPLE-STRUCTURED-LOCATION;VALUE=URI;X-ADDRESS=Clubhouse 30250 Yosemite Springs Parkway Coarsegold CA 93614 United States;X-APPLE-RADIUS=500;X-TITLE=30250 Yosemite Springs Parkway:geo:-119.76989,37.18568
END:VEVENT
BEGIN:VEVENT
DTSTART;TZID=America/Los_Angeles:20260114T190000
DTEND;TZID=America/Los_Angeles:20260114T220000
DTSTAMP:20260422T025020
CREATED:20250219T225007Z
LAST-MODIFIED:20250711T233855Z
UID:10013544-1768417200-1768428000@www.yosemitelakespark.org
SUMMARY:Karaoke at The Yosemite Grill
DESCRIPTION:Karaoke with DJ Debbie Lee \nEvery Wednesday Evening 7pm-10pm
URL:https://www.yosemitelakespark.org/ylpevent/karaoke-2/2026-01-14/
LOCATION:Clubhouse\, 30250 Yosemite Springs Parkway\, Coarsegold\, CA\, 93614\, United States
CATEGORIES:Karaoke
ATTACH;FMTTYPE=image/jpeg:https://www.yosemitelakespark.org/wp-content/uploads/2025/02/Karaoke-Calendar-Pic.jpg
GEO:37.18568;-119.76989
X-APPLE-STRUCTURED-LOCATION;VALUE=URI;X-ADDRESS=Clubhouse 30250 Yosemite Springs Parkway Coarsegold CA 93614 United States;X-APPLE-RADIUS=500;X-TITLE=30250 Yosemite Springs Parkway:geo:-119.76989,37.18568
END:VEVENT
BEGIN:VEVENT
DTSTART;TZID=America/Los_Angeles:20260107T190000
DTEND;TZID=America/Los_Angeles:20260107T220000
DTSTAMP:20260422T025020
CREATED:20250219T225007Z
LAST-MODIFIED:20250711T233855Z
UID:10013543-1767812400-1767823200@www.yosemitelakespark.org
SUMMARY:Karaoke at The Yosemite Grill
DESCRIPTION:Karaoke with DJ Debbie Lee \nEvery Wednesday Evening 7pm-10pm
URL:https://www.yosemitelakespark.org/ylpevent/karaoke-2/2026-01-07/
LOCATION:Clubhouse\, 30250 Yosemite Springs Parkway\, Coarsegold\, CA\, 93614\, United States
CATEGORIES:Karaoke
ATTACH;FMTTYPE=image/jpeg:https://www.yosemitelakespark.org/wp-content/uploads/2025/02/Karaoke-Calendar-Pic.jpg
GEO:37.18568;-119.76989
X-APPLE-STRUCTURED-LOCATION;VALUE=URI;X-ADDRESS=Clubhouse 30250 Yosemite Springs Parkway Coarsegold CA 93614 United States;X-APPLE-RADIUS=500;X-TITLE=30250 Yosemite Springs Parkway:geo:-119.76989,37.18568
END:VEVENT
BEGIN:VEVENT
DTSTART;TZID=America/Los_Angeles:20251217T190000
DTEND;TZID=America/Los_Angeles:20251217T220000
DTSTAMP:20260422T025020
CREATED:20250219T225007Z
LAST-MODIFIED:20250711T233855Z
UID:10013540-1765998000-1766008800@www.yosemitelakespark.org
SUMMARY:Karaoke at The Yosemite Grill
DESCRIPTION:Karaoke with DJ Debbie Lee \nEvery Wednesday Evening 7pm-10pm
URL:https://www.yosemitelakespark.org/ylpevent/karaoke-2/2025-12-17/
LOCATION:Clubhouse\, 30250 Yosemite Springs Parkway\, Coarsegold\, CA\, 93614\, United States
CATEGORIES:Karaoke
ATTACH;FMTTYPE=image/jpeg:https://www.yosemitelakespark.org/wp-content/uploads/2025/02/Karaoke-Calendar-Pic.jpg
GEO:37.18568;-119.76989
X-APPLE-STRUCTURED-LOCATION;VALUE=URI;X-ADDRESS=Clubhouse 30250 Yosemite Springs Parkway Coarsegold CA 93614 United States;X-APPLE-RADIUS=500;X-TITLE=30250 Yosemite Springs Parkway:geo:-119.76989,37.18568
END:VEVENT
BEGIN:VEVENT
DTSTART;TZID=America/Los_Angeles:20251210T190000
DTEND;TZID=America/Los_Angeles:20251210T220000
DTSTAMP:20260422T025020
CREATED:20250219T225007Z
LAST-MODIFIED:20250711T233855Z
UID:10013539-1765393200-1765404000@www.yosemitelakespark.org
SUMMARY:Karaoke at The Yosemite Grill
DESCRIPTION:Karaoke with DJ Debbie Lee \nEvery Wednesday Evening 7pm-10pm
URL:https://www.yosemitelakespark.org/ylpevent/karaoke-2/2025-12-10/
LOCATION:Clubhouse\, 30250 Yosemite Springs Parkway\, Coarsegold\, CA\, 93614\, United States
CATEGORIES:Karaoke
ATTACH;FMTTYPE=image/jpeg:https://www.yosemitelakespark.org/wp-content/uploads/2025/02/Karaoke-Calendar-Pic.jpg
GEO:37.18568;-119.76989
X-APPLE-STRUCTURED-LOCATION;VALUE=URI;X-ADDRESS=Clubhouse 30250 Yosemite Springs Parkway Coarsegold CA 93614 United States;X-APPLE-RADIUS=500;X-TITLE=30250 Yosemite Springs Parkway:geo:-119.76989,37.18568
END:VEVENT
BEGIN:VEVENT
DTSTART;TZID=America/Los_Angeles:20251203T190000
DTEND;TZID=America/Los_Angeles:20251203T220000
DTSTAMP:20260422T025020
CREATED:20250219T225007Z
LAST-MODIFIED:20250711T233855Z
UID:10013538-1764788400-1764799200@www.yosemitelakespark.org
SUMMARY:Karaoke at The Yosemite Grill
DESCRIPTION:Karaoke with DJ Debbie Lee \nEvery Wednesday Evening 7pm-10pm
URL:https://www.yosemitelakespark.org/ylpevent/karaoke-2/2025-12-03/
LOCATION:Clubhouse\, 30250 Yosemite Springs Parkway\, Coarsegold\, CA\, 93614\, United States
CATEGORIES:Karaoke
ATTACH;FMTTYPE=image/jpeg:https://www.yosemitelakespark.org/wp-content/uploads/2025/02/Karaoke-Calendar-Pic.jpg
GEO:37.18568;-119.76989
X-APPLE-STRUCTURED-LOCATION;VALUE=URI;X-ADDRESS=Clubhouse 30250 Yosemite Springs Parkway Coarsegold CA 93614 United States;X-APPLE-RADIUS=500;X-TITLE=30250 Yosemite Springs Parkway:geo:-119.76989,37.18568
END:VEVENT
BEGIN:VEVENT
DTSTART;TZID=America/Los_Angeles:20251126T190000
DTEND;TZID=America/Los_Angeles:20251126T220000
DTSTAMP:20260422T025020
CREATED:20250219T225007Z
LAST-MODIFIED:20250711T233855Z
UID:10013537-1764183600-1764194400@www.yosemitelakespark.org
SUMMARY:Karaoke at The Yosemite Grill
DESCRIPTION:Karaoke with DJ Debbie Lee \nEvery Wednesday Evening 7pm-10pm
URL:https://www.yosemitelakespark.org/ylpevent/karaoke-2/2025-11-26/
LOCATION:Clubhouse\, 30250 Yosemite Springs Parkway\, Coarsegold\, CA\, 93614\, United States
CATEGORIES:Karaoke
ATTACH;FMTTYPE=image/jpeg:https://www.yosemitelakespark.org/wp-content/uploads/2025/02/Karaoke-Calendar-Pic.jpg
GEO:37.18568;-119.76989
X-APPLE-STRUCTURED-LOCATION;VALUE=URI;X-ADDRESS=Clubhouse 30250 Yosemite Springs Parkway Coarsegold CA 93614 United States;X-APPLE-RADIUS=500;X-TITLE=30250 Yosemite Springs Parkway:geo:-119.76989,37.18568
END:VEVENT
BEGIN:VEVENT
DTSTART;TZID=America/Los_Angeles:20251119T190000
DTEND;TZID=America/Los_Angeles:20251119T220000
DTSTAMP:20260422T025020
CREATED:20250219T225007Z
LAST-MODIFIED:20250711T233855Z
UID:10013536-1763578800-1763589600@www.yosemitelakespark.org
SUMMARY:Karaoke at The Yosemite Grill
DESCRIPTION:Karaoke with DJ Debbie Lee \nEvery Wednesday Evening 7pm-10pm
URL:https://www.yosemitelakespark.org/ylpevent/karaoke-2/2025-11-19/
LOCATION:Clubhouse\, 30250 Yosemite Springs Parkway\, Coarsegold\, CA\, 93614\, United States
CATEGORIES:Karaoke
ATTACH;FMTTYPE=image/jpeg:https://www.yosemitelakespark.org/wp-content/uploads/2025/02/Karaoke-Calendar-Pic.jpg
GEO:37.18568;-119.76989
X-APPLE-STRUCTURED-LOCATION;VALUE=URI;X-ADDRESS=Clubhouse 30250 Yosemite Springs Parkway Coarsegold CA 93614 United States;X-APPLE-RADIUS=500;X-TITLE=30250 Yosemite Springs Parkway:geo:-119.76989,37.18568
END:VEVENT
BEGIN:VEVENT
DTSTART;TZID=America/Los_Angeles:20251112T190000
DTEND;TZID=America/Los_Angeles:20251112T220000
DTSTAMP:20260422T025020
CREATED:20250219T225007Z
LAST-MODIFIED:20250711T233855Z
UID:10013535-1762974000-1762984800@www.yosemitelakespark.org
SUMMARY:Karaoke at The Yosemite Grill
DESCRIPTION:Karaoke with DJ Debbie Lee \nEvery Wednesday Evening 7pm-10pm
URL:https://www.yosemitelakespark.org/ylpevent/karaoke-2/2025-11-12/
LOCATION:Clubhouse\, 30250 Yosemite Springs Parkway\, Coarsegold\, CA\, 93614\, United States
CATEGORIES:Karaoke
ATTACH;FMTTYPE=image/jpeg:https://www.yosemitelakespark.org/wp-content/uploads/2025/02/Karaoke-Calendar-Pic.jpg
GEO:37.18568;-119.76989
X-APPLE-STRUCTURED-LOCATION;VALUE=URI;X-ADDRESS=Clubhouse 30250 Yosemite Springs Parkway Coarsegold CA 93614 United States;X-APPLE-RADIUS=500;X-TITLE=30250 Yosemite Springs Parkway:geo:-119.76989,37.18568
END:VEVENT
BEGIN:VEVENT
DTSTART;TZID=America/Los_Angeles:20251105T190000
DTEND;TZID=America/Los_Angeles:20251105T220000
DTSTAMP:20260422T025020
CREATED:20250219T225007Z
LAST-MODIFIED:20250711T233855Z
UID:10013534-1762369200-1762380000@www.yosemitelakespark.org
SUMMARY:Karaoke at The Yosemite Grill
DESCRIPTION:Karaoke with DJ Debbie Lee \nEvery Wednesday Evening 7pm-10pm
URL:https://www.yosemitelakespark.org/ylpevent/karaoke-2/2025-11-05/
LOCATION:Clubhouse\, 30250 Yosemite Springs Parkway\, Coarsegold\, CA\, 93614\, United States
CATEGORIES:Karaoke
ATTACH;FMTTYPE=image/jpeg:https://www.yosemitelakespark.org/wp-content/uploads/2025/02/Karaoke-Calendar-Pic.jpg
GEO:37.18568;-119.76989
X-APPLE-STRUCTURED-LOCATION;VALUE=URI;X-ADDRESS=Clubhouse 30250 Yosemite Springs Parkway Coarsegold CA 93614 United States;X-APPLE-RADIUS=500;X-TITLE=30250 Yosemite Springs Parkway:geo:-119.76989,37.18568
END:VEVENT
BEGIN:VEVENT
DTSTART;TZID=America/Los_Angeles:20251029T190000
DTEND;TZID=America/Los_Angeles:20251029T220000
DTSTAMP:20260422T025020
CREATED:20250219T225007Z
LAST-MODIFIED:20250711T233855Z
UID:10013533-1761764400-1761775200@www.yosemitelakespark.org
SUMMARY:Karaoke at The Yosemite Grill
DESCRIPTION:Karaoke with DJ Debbie Lee \nEvery Wednesday Evening 7pm-10pm
URL:https://www.yosemitelakespark.org/ylpevent/karaoke-2/2025-10-29/
LOCATION:Clubhouse\, 30250 Yosemite Springs Parkway\, Coarsegold\, CA\, 93614\, United States
CATEGORIES:Karaoke
ATTACH;FMTTYPE=image/jpeg:https://www.yosemitelakespark.org/wp-content/uploads/2025/02/Karaoke-Calendar-Pic.jpg
GEO:37.18568;-119.76989
X-APPLE-STRUCTURED-LOCATION;VALUE=URI;X-ADDRESS=Clubhouse 30250 Yosemite Springs Parkway Coarsegold CA 93614 United States;X-APPLE-RADIUS=500;X-TITLE=30250 Yosemite Springs Parkway:geo:-119.76989,37.18568
END:VEVENT
BEGIN:VEVENT
DTSTART;TZID=America/Los_Angeles:20251023T190000
DTEND;TZID=America/Los_Angeles:20251023T220000
DTSTAMP:20260422T025020
CREATED:20250930T182814Z
LAST-MODIFIED:20250930T182814Z
UID:10014957-1761246000-1761256800@www.yosemitelakespark.org
SUMMARY:Karaoke at The Yosemite Grill
DESCRIPTION:Karaoke with DJ Debbie Lee \nEvery Wednesday Evening 7pm-10pm
URL:https://www.yosemitelakespark.org/ylpevent/karaoke-at-the-yosemite-grill/
LOCATION:Clubhouse\, 30250 Yosemite Springs Parkway\, Coarsegold\, CA\, 93614\, United States
CATEGORIES:Karaoke
ATTACH;FMTTYPE=image/jpeg:https://www.yosemitelakespark.org/wp-content/uploads/2025/02/Karaoke-Calendar-Pic.jpg
GEO:37.18568;-119.76989
X-APPLE-STRUCTURED-LOCATION;VALUE=URI;X-ADDRESS=Clubhouse 30250 Yosemite Springs Parkway Coarsegold CA 93614 United States;X-APPLE-RADIUS=500;X-TITLE=30250 Yosemite Springs Parkway:geo:-119.76989,37.18568
END:VEVENT
BEGIN:VEVENT
DTSTART;TZID=America/Los_Angeles:20251022T190000
DTEND;TZID=America/Los_Angeles:20251022T220000
DTSTAMP:20260422T025020
CREATED:20250219T225007Z
LAST-MODIFIED:20250711T233855Z
UID:10014966-1761159600-1761170400@www.yosemitelakespark.org
SUMMARY:Karaoke at The Yosemite Grill
DESCRIPTION:Karaoke with DJ Debbie Lee \nEvery Wednesday Evening 7pm-10pm
URL:https://www.yosemitelakespark.org/ylpevent/karaoke-2/2025-10-22/
LOCATION:Clubhouse\, 30250 Yosemite Springs Parkway\, Coarsegold\, CA\, 93614\, United States
CATEGORIES:Karaoke
ATTACH;FMTTYPE=image/jpeg:https://www.yosemitelakespark.org/wp-content/uploads/2025/02/Karaoke-Calendar-Pic.jpg
GEO:37.18568;-119.76989
X-APPLE-STRUCTURED-LOCATION;VALUE=URI;X-ADDRESS=Clubhouse 30250 Yosemite Springs Parkway Coarsegold CA 93614 United States;X-APPLE-RADIUS=500;X-TITLE=30250 Yosemite Springs Parkway:geo:-119.76989,37.18568
END:VEVENT
BEGIN:VEVENT
DTSTART;TZID=America/Los_Angeles:20251015T190000
DTEND;TZID=America/Los_Angeles:20251015T220000
DTSTAMP:20260422T025020
CREATED:20250219T225007Z
LAST-MODIFIED:20250711T233855Z
UID:10015516-1760554800-1760565600@www.yosemitelakespark.org
SUMMARY:Karaoke at The Yosemite Grill
DESCRIPTION:Karaoke with DJ Debbie Lee \nEvery Wednesday Evening 7pm-10pm
URL:https://www.yosemitelakespark.org/ylpevent/karaoke-2/2025-10-15/
LOCATION:Clubhouse\, 30250 Yosemite Springs Parkway\, Coarsegold\, CA\, 93614\, United States
CATEGORIES:Karaoke
ATTACH;FMTTYPE=image/jpeg:https://www.yosemitelakespark.org/wp-content/uploads/2025/02/Karaoke-Calendar-Pic.jpg
GEO:37.18568;-119.76989
X-APPLE-STRUCTURED-LOCATION;VALUE=URI;X-ADDRESS=Clubhouse 30250 Yosemite Springs Parkway Coarsegold CA 93614 United States;X-APPLE-RADIUS=500;X-TITLE=30250 Yosemite Springs Parkway:geo:-119.76989,37.18568
END:VEVENT
BEGIN:VEVENT
DTSTART;TZID=America/Los_Angeles:20251008T190000
DTEND;TZID=America/Los_Angeles:20251008T220000
DTSTAMP:20260422T025020
CREATED:20250219T225007Z
LAST-MODIFIED:20250711T233855Z
UID:10013530-1759950000-1759960800@www.yosemitelakespark.org
SUMMARY:Karaoke at The Yosemite Grill
DESCRIPTION:Karaoke with DJ Debbie Lee \nEvery Wednesday Evening 7pm-10pm
URL:https://www.yosemitelakespark.org/ylpevent/karaoke-2/2025-10-08/
LOCATION:Clubhouse\, 30250 Yosemite Springs Parkway\, Coarsegold\, CA\, 93614\, United States
CATEGORIES:Karaoke
ATTACH;FMTTYPE=image/jpeg:https://www.yosemitelakespark.org/wp-content/uploads/2025/02/Karaoke-Calendar-Pic.jpg
GEO:37.18568;-119.76989
X-APPLE-STRUCTURED-LOCATION;VALUE=URI;X-ADDRESS=Clubhouse 30250 Yosemite Springs Parkway Coarsegold CA 93614 United States;X-APPLE-RADIUS=500;X-TITLE=30250 Yosemite Springs Parkway:geo:-119.76989,37.18568
END:VEVENT
BEGIN:VEVENT
DTSTART;TZID=America/Los_Angeles:20251001T190000
DTEND;TZID=America/Los_Angeles:20251001T220000
DTSTAMP:20260422T025020
CREATED:20250219T225007Z
LAST-MODIFIED:20250711T233855Z
UID:10014964-1759345200-1759356000@www.yosemitelakespark.org
SUMMARY:Karaoke at The Yosemite Grill
DESCRIPTION:Karaoke with DJ Debbie Lee \nEvery Wednesday Evening 7pm-10pm
URL:https://www.yosemitelakespark.org/ylpevent/karaoke-2/2025-10-01/
LOCATION:Clubhouse\, 30250 Yosemite Springs Parkway\, Coarsegold\, CA\, 93614\, United States
CATEGORIES:Karaoke
ATTACH;FMTTYPE=image/jpeg:https://www.yosemitelakespark.org/wp-content/uploads/2025/02/Karaoke-Calendar-Pic.jpg
GEO:37.18568;-119.76989
X-APPLE-STRUCTURED-LOCATION;VALUE=URI;X-ADDRESS=Clubhouse 30250 Yosemite Springs Parkway Coarsegold CA 93614 United States;X-APPLE-RADIUS=500;X-TITLE=30250 Yosemite Springs Parkway:geo:-119.76989,37.18568
END:VEVENT
BEGIN:VEVENT
DTSTART;TZID=America/Los_Angeles:20250924T190000
DTEND;TZID=America/Los_Angeles:20250924T220000
DTSTAMP:20260422T025020
CREATED:20250219T225007Z
LAST-MODIFIED:20250711T233855Z
UID:10013528-1758740400-1758751200@www.yosemitelakespark.org
SUMMARY:Karaoke at The Yosemite Grill
DESCRIPTION:Karaoke with DJ Debbie Lee \nEvery Wednesday Evening 7pm-10pm
URL:https://www.yosemitelakespark.org/ylpevent/karaoke-2/2025-09-24/
LOCATION:Clubhouse\, 30250 Yosemite Springs Parkway\, Coarsegold\, CA\, 93614\, United States
CATEGORIES:Karaoke
ATTACH;FMTTYPE=image/jpeg:https://www.yosemitelakespark.org/wp-content/uploads/2025/02/Karaoke-Calendar-Pic.jpg
GEO:37.18568;-119.76989
X-APPLE-STRUCTURED-LOCATION;VALUE=URI;X-ADDRESS=Clubhouse 30250 Yosemite Springs Parkway Coarsegold CA 93614 United States;X-APPLE-RADIUS=500;X-TITLE=30250 Yosemite Springs Parkway:geo:-119.76989,37.18568
END:VEVENT
BEGIN:VEVENT
DTSTART;TZID=America/Los_Angeles:20250917T190000
DTEND;TZID=America/Los_Angeles:20250917T220000
DTSTAMP:20260422T025020
CREATED:20250219T225007Z
LAST-MODIFIED:20250711T233855Z
UID:10013527-1758135600-1758146400@www.yosemitelakespark.org
SUMMARY:Karaoke at The Yosemite Grill
DESCRIPTION:Karaoke with DJ Debbie Lee \nEvery Wednesday Evening 7pm-10pm
URL:https://www.yosemitelakespark.org/ylpevent/karaoke-2/2025-09-17/
LOCATION:Clubhouse\, 30250 Yosemite Springs Parkway\, Coarsegold\, CA\, 93614\, United States
CATEGORIES:Karaoke
ATTACH;FMTTYPE=image/jpeg:https://www.yosemitelakespark.org/wp-content/uploads/2025/02/Karaoke-Calendar-Pic.jpg
GEO:37.18568;-119.76989
X-APPLE-STRUCTURED-LOCATION;VALUE=URI;X-ADDRESS=Clubhouse 30250 Yosemite Springs Parkway Coarsegold CA 93614 United States;X-APPLE-RADIUS=500;X-TITLE=30250 Yosemite Springs Parkway:geo:-119.76989,37.18568
END:VEVENT
BEGIN:VEVENT
DTSTART;TZID=America/Los_Angeles:20250910T190000
DTEND;TZID=America/Los_Angeles:20250910T220000
DTSTAMP:20260422T025020
CREATED:20250219T225007Z
LAST-MODIFIED:20250711T233855Z
UID:10013526-1757530800-1757541600@www.yosemitelakespark.org
SUMMARY:Karaoke at The Yosemite Grill
DESCRIPTION:Karaoke with DJ Debbie Lee \nEvery Wednesday Evening 7pm-10pm
URL:https://www.yosemitelakespark.org/ylpevent/karaoke-2/2025-09-10/
LOCATION:Clubhouse\, 30250 Yosemite Springs Parkway\, Coarsegold\, CA\, 93614\, United States
CATEGORIES:Karaoke
ATTACH;FMTTYPE=image/jpeg:https://www.yosemitelakespark.org/wp-content/uploads/2025/02/Karaoke-Calendar-Pic.jpg
GEO:37.18568;-119.76989
X-APPLE-STRUCTURED-LOCATION;VALUE=URI;X-ADDRESS=Clubhouse 30250 Yosemite Springs Parkway Coarsegold CA 93614 United States;X-APPLE-RADIUS=500;X-TITLE=30250 Yosemite Springs Parkway:geo:-119.76989,37.18568
END:VEVENT
BEGIN:VEVENT
DTSTART;TZID=America/Los_Angeles:20250903T190000
DTEND;TZID=America/Los_Angeles:20250903T220000
DTSTAMP:20260422T025020
CREATED:20250219T225007Z
LAST-MODIFIED:20250711T233855Z
UID:10013525-1756926000-1756936800@www.yosemitelakespark.org
SUMMARY:Karaoke at The Yosemite Grill
DESCRIPTION:Karaoke with DJ Debbie Lee \nEvery Wednesday Evening 7pm-10pm
URL:https://www.yosemitelakespark.org/ylpevent/karaoke-2/2025-09-03/
LOCATION:Clubhouse\, 30250 Yosemite Springs Parkway\, Coarsegold\, CA\, 93614\, United States
CATEGORIES:Karaoke
ATTACH;FMTTYPE=image/jpeg:https://www.yosemitelakespark.org/wp-content/uploads/2025/02/Karaoke-Calendar-Pic.jpg
GEO:37.18568;-119.76989
X-APPLE-STRUCTURED-LOCATION;VALUE=URI;X-ADDRESS=Clubhouse 30250 Yosemite Springs Parkway Coarsegold CA 93614 United States;X-APPLE-RADIUS=500;X-TITLE=30250 Yosemite Springs Parkway:geo:-119.76989,37.18568
END:VEVENT
BEGIN:VEVENT
DTSTART;TZID=America/Los_Angeles:20250827T190000
DTEND;TZID=America/Los_Angeles:20250827T220000
DTSTAMP:20260422T025020
CREATED:20250219T225007Z
LAST-MODIFIED:20250711T233855Z
UID:10013524-1756321200-1756332000@www.yosemitelakespark.org
SUMMARY:Karaoke at The Yosemite Grill
DESCRIPTION:Karaoke with DJ Debbie Lee \nEvery Wednesday Evening 7pm-10pm
URL:https://www.yosemitelakespark.org/ylpevent/karaoke-2/2025-08-27/
LOCATION:Clubhouse\, 30250 Yosemite Springs Parkway\, Coarsegold\, CA\, 93614\, United States
CATEGORIES:Karaoke
ATTACH;FMTTYPE=image/jpeg:https://www.yosemitelakespark.org/wp-content/uploads/2025/02/Karaoke-Calendar-Pic.jpg
GEO:37.18568;-119.76989
X-APPLE-STRUCTURED-LOCATION;VALUE=URI;X-ADDRESS=Clubhouse 30250 Yosemite Springs Parkway Coarsegold CA 93614 United States;X-APPLE-RADIUS=500;X-TITLE=30250 Yosemite Springs Parkway:geo:-119.76989,37.18568
END:VEVENT
BEGIN:VEVENT
DTSTART;TZID=America/Los_Angeles:20250820T190000
DTEND;TZID=America/Los_Angeles:20250820T220000
DTSTAMP:20260422T025020
CREATED:20250219T225007Z
LAST-MODIFIED:20250711T233855Z
UID:10013523-1755716400-1755727200@www.yosemitelakespark.org
SUMMARY:Karaoke at The Yosemite Grill
DESCRIPTION:Karaoke with DJ Debbie Lee \nEvery Wednesday Evening 7pm-10pm
URL:https://www.yosemitelakespark.org/ylpevent/karaoke-2/2025-08-20/
LOCATION:Clubhouse\, 30250 Yosemite Springs Parkway\, Coarsegold\, CA\, 93614\, United States
CATEGORIES:Karaoke
ATTACH;FMTTYPE=image/jpeg:https://www.yosemitelakespark.org/wp-content/uploads/2025/02/Karaoke-Calendar-Pic.jpg
GEO:37.18568;-119.76989
X-APPLE-STRUCTURED-LOCATION;VALUE=URI;X-ADDRESS=Clubhouse 30250 Yosemite Springs Parkway Coarsegold CA 93614 United States;X-APPLE-RADIUS=500;X-TITLE=30250 Yosemite Springs Parkway:geo:-119.76989,37.18568
END:VEVENT
BEGIN:VEVENT
DTSTART;TZID=America/Los_Angeles:20250813T190000
DTEND;TZID=America/Los_Angeles:20250813T220000
DTSTAMP:20260422T025020
CREATED:20250219T225007Z
LAST-MODIFIED:20250711T233855Z
UID:10013522-1755111600-1755122400@www.yosemitelakespark.org
SUMMARY:Karaoke at The Yosemite Grill
DESCRIPTION:Karaoke with DJ Debbie Lee \nEvery Wednesday Evening 7pm-10pm
URL:https://www.yosemitelakespark.org/ylpevent/karaoke-2/2025-08-13/
LOCATION:Clubhouse\, 30250 Yosemite Springs Parkway\, Coarsegold\, CA\, 93614\, United States
CATEGORIES:Karaoke
ATTACH;FMTTYPE=image/jpeg:https://www.yosemitelakespark.org/wp-content/uploads/2025/02/Karaoke-Calendar-Pic.jpg
GEO:37.18568;-119.76989
X-APPLE-STRUCTURED-LOCATION;VALUE=URI;X-ADDRESS=Clubhouse 30250 Yosemite Springs Parkway Coarsegold CA 93614 United States;X-APPLE-RADIUS=500;X-TITLE=30250 Yosemite Springs Parkway:geo:-119.76989,37.18568
END:VEVENT
BEGIN:VEVENT
DTSTART;TZID=America/Los_Angeles:20250806T190000
DTEND;TZID=America/Los_Angeles:20250806T220000
DTSTAMP:20260422T025020
CREATED:20250219T225007Z
LAST-MODIFIED:20250711T233855Z
UID:10013521-1754506800-1754517600@www.yosemitelakespark.org
SUMMARY:Karaoke at The Yosemite Grill
DESCRIPTION:Karaoke with DJ Debbie Lee \nEvery Wednesday Evening 7pm-10pm
URL:https://www.yosemitelakespark.org/ylpevent/karaoke-2/2025-08-06/
LOCATION:Clubhouse\, 30250 Yosemite Springs Parkway\, Coarsegold\, CA\, 93614\, United States
CATEGORIES:Karaoke
ATTACH;FMTTYPE=image/jpeg:https://www.yosemitelakespark.org/wp-content/uploads/2025/02/Karaoke-Calendar-Pic.jpg
GEO:37.18568;-119.76989
X-APPLE-STRUCTURED-LOCATION;VALUE=URI;X-ADDRESS=Clubhouse 30250 Yosemite Springs Parkway Coarsegold CA 93614 United States;X-APPLE-RADIUS=500;X-TITLE=30250 Yosemite Springs Parkway:geo:-119.76989,37.18568
END:VEVENT
BEGIN:VEVENT
DTSTART;TZID=America/Los_Angeles:20250730T190000
DTEND;TZID=America/Los_Angeles:20250730T220000
DTSTAMP:20260422T025020
CREATED:20250219T225007Z
LAST-MODIFIED:20250711T233855Z
UID:10013520-1753902000-1753912800@www.yosemitelakespark.org
SUMMARY:Karaoke at The Yosemite Grill
DESCRIPTION:Karaoke with DJ Debbie Lee \nEvery Wednesday Evening 7pm-10pm
URL:https://www.yosemitelakespark.org/ylpevent/karaoke-2/2025-07-30/
LOCATION:Clubhouse\, 30250 Yosemite Springs Parkway\, Coarsegold\, CA\, 93614\, United States
CATEGORIES:Karaoke
ATTACH;FMTTYPE=image/jpeg:https://www.yosemitelakespark.org/wp-content/uploads/2025/02/Karaoke-Calendar-Pic.jpg
GEO:37.18568;-119.76989
X-APPLE-STRUCTURED-LOCATION;VALUE=URI;X-ADDRESS=Clubhouse 30250 Yosemite Springs Parkway Coarsegold CA 93614 United States;X-APPLE-RADIUS=500;X-TITLE=30250 Yosemite Springs Parkway:geo:-119.76989,37.18568
END:VEVENT
BEGIN:VEVENT
DTSTART;TZID=America/Los_Angeles:20250723T190000
DTEND;TZID=America/Los_Angeles:20250723T220000
DTSTAMP:20260422T025020
CREATED:20250219T225007Z
LAST-MODIFIED:20250711T233855Z
UID:10013519-1753297200-1753308000@www.yosemitelakespark.org
SUMMARY:Karaoke at The Yosemite Grill
DESCRIPTION:Karaoke with DJ Debbie Lee \nEvery Wednesday Evening 7pm-10pm
URL:https://www.yosemitelakespark.org/ylpevent/karaoke-2/2025-07-23/
LOCATION:Clubhouse\, 30250 Yosemite Springs Parkway\, Coarsegold\, CA\, 93614\, United States
CATEGORIES:Karaoke
ATTACH;FMTTYPE=image/jpeg:https://www.yosemitelakespark.org/wp-content/uploads/2025/02/Karaoke-Calendar-Pic.jpg
GEO:37.18568;-119.76989
X-APPLE-STRUCTURED-LOCATION;VALUE=URI;X-ADDRESS=Clubhouse 30250 Yosemite Springs Parkway Coarsegold CA 93614 United States;X-APPLE-RADIUS=500;X-TITLE=30250 Yosemite Springs Parkway:geo:-119.76989,37.18568
END:VEVENT
END:VCALENDAR