BEGIN:VCALENDAR
VERSION:2.0
PRODID:-//Yosemite Lakes Park - ECPv6.15.20//NONSGML v1.0//EN
CALSCALE:GREGORIAN
METHOD:PUBLISH
X-WR-CALNAME:Yosemite Lakes Park
X-ORIGINAL-URL:https://www.yosemitelakespark.org
X-WR-CALDESC:Events for Yosemite Lakes Park
REFRESH-INTERVAL;VALUE=DURATION:PT1H
X-Robots-Tag:noindex
X-PUBLISHED-TTL:PT1H
BEGIN:VTIMEZONE
TZID:America/Los_Angeles
BEGIN:DAYLIGHT
TZOFFSETFROM:-0800
TZOFFSETTO:-0700
TZNAME:PDT
DTSTART:20260308T100000
END:DAYLIGHT
BEGIN:STANDARD
TZOFFSETFROM:-0700
TZOFFSETTO:-0800
TZNAME:PST
DTSTART:20261101T090000
END:STANDARD
BEGIN:DAYLIGHT
TZOFFSETFROM:-0800
TZOFFSETTO:-0700
TZNAME:PDT
DTSTART:20270314T100000
END:DAYLIGHT
BEGIN:STANDARD
TZOFFSETFROM:-0700
TZOFFSETTO:-0800
TZNAME:PST
DTSTART:20271107T090000
END:STANDARD
BEGIN:DAYLIGHT
TZOFFSETFROM:-0800
TZOFFSETTO:-0700
TZNAME:PDT
DTSTART:20280312T100000
END:DAYLIGHT
BEGIN:STANDARD
TZOFFSETFROM:-0700
TZOFFSETTO:-0800
TZNAME:PST
DTSTART:20281105T090000
END:STANDARD
END:VTIMEZONE
BEGIN:VEVENT
DTSTART;TZID=America/Los_Angeles:20270414T190000
DTEND;TZID=America/Los_Angeles:20270414T220000
DTSTAMP:20260424T014652
CREATED:20250219T225007Z
LAST-MODIFIED:20250711T233855Z
UID:10013609-1807729200-1807740000@www.yosemitelakespark.org
SUMMARY:Karaoke at The Yosemite Grill
DESCRIPTION:Karaoke with DJ Debbie Lee \nEvery Wednesday Evening 7pm-10pm
URL:https://www.yosemitelakespark.org/ylpevent/karaoke-2/2027-04-14/
LOCATION:Clubhouse\, 30250 Yosemite Springs Parkway\, Coarsegold\, CA\, 93614\, United States
CATEGORIES:Karaoke
ATTACH;FMTTYPE=image/jpeg:https://www.yosemitelakespark.org/wp-content/uploads/2025/02/Karaoke-Calendar-Pic.jpg
GEO:37.18568;-119.76989
X-APPLE-STRUCTURED-LOCATION;VALUE=URI;X-ADDRESS=Clubhouse 30250 Yosemite Springs Parkway Coarsegold CA 93614 United States;X-APPLE-RADIUS=500;X-TITLE=30250 Yosemite Springs Parkway:geo:-119.76989,37.18568
END:VEVENT
BEGIN:VEVENT
DTSTART;TZID=America/Los_Angeles:20270421T190000
DTEND;TZID=America/Los_Angeles:20270421T220000
DTSTAMP:20260424T014652
CREATED:20250219T225007Z
LAST-MODIFIED:20250711T233855Z
UID:10013610-1808334000-1808344800@www.yosemitelakespark.org
SUMMARY:Karaoke at The Yosemite Grill
DESCRIPTION:Karaoke with DJ Debbie Lee \nEvery Wednesday Evening 7pm-10pm
URL:https://www.yosemitelakespark.org/ylpevent/karaoke-2/2027-04-21/
LOCATION:Clubhouse\, 30250 Yosemite Springs Parkway\, Coarsegold\, CA\, 93614\, United States
CATEGORIES:Karaoke
ATTACH;FMTTYPE=image/jpeg:https://www.yosemitelakespark.org/wp-content/uploads/2025/02/Karaoke-Calendar-Pic.jpg
GEO:37.18568;-119.76989
X-APPLE-STRUCTURED-LOCATION;VALUE=URI;X-ADDRESS=Clubhouse 30250 Yosemite Springs Parkway Coarsegold CA 93614 United States;X-APPLE-RADIUS=500;X-TITLE=30250 Yosemite Springs Parkway:geo:-119.76989,37.18568
END:VEVENT
BEGIN:VEVENT
DTSTART;TZID=America/Los_Angeles:20270428T190000
DTEND;TZID=America/Los_Angeles:20270428T220000
DTSTAMP:20260424T014652
CREATED:20250219T225007Z
LAST-MODIFIED:20250711T233855Z
UID:10013611-1808938800-1808949600@www.yosemitelakespark.org
SUMMARY:Karaoke at The Yosemite Grill
DESCRIPTION:Karaoke with DJ Debbie Lee \nEvery Wednesday Evening 7pm-10pm
URL:https://www.yosemitelakespark.org/ylpevent/karaoke-2/2027-04-28/
LOCATION:Clubhouse\, 30250 Yosemite Springs Parkway\, Coarsegold\, CA\, 93614\, United States
CATEGORIES:Karaoke
ATTACH;FMTTYPE=image/jpeg:https://www.yosemitelakespark.org/wp-content/uploads/2025/02/Karaoke-Calendar-Pic.jpg
GEO:37.18568;-119.76989
X-APPLE-STRUCTURED-LOCATION;VALUE=URI;X-ADDRESS=Clubhouse 30250 Yosemite Springs Parkway Coarsegold CA 93614 United States;X-APPLE-RADIUS=500;X-TITLE=30250 Yosemite Springs Parkway:geo:-119.76989,37.18568
END:VEVENT
BEGIN:VEVENT
DTSTART;TZID=America/Los_Angeles:20270505T190000
DTEND;TZID=America/Los_Angeles:20270505T220000
DTSTAMP:20260424T014652
CREATED:20250219T225007Z
LAST-MODIFIED:20250711T233855Z
UID:10013612-1809543600-1809554400@www.yosemitelakespark.org
SUMMARY:Karaoke at The Yosemite Grill
DESCRIPTION:Karaoke with DJ Debbie Lee \nEvery Wednesday Evening 7pm-10pm
URL:https://www.yosemitelakespark.org/ylpevent/karaoke-2/2027-05-05/
LOCATION:Clubhouse\, 30250 Yosemite Springs Parkway\, Coarsegold\, CA\, 93614\, United States
CATEGORIES:Karaoke
ATTACH;FMTTYPE=image/jpeg:https://www.yosemitelakespark.org/wp-content/uploads/2025/02/Karaoke-Calendar-Pic.jpg
GEO:37.18568;-119.76989
X-APPLE-STRUCTURED-LOCATION;VALUE=URI;X-ADDRESS=Clubhouse 30250 Yosemite Springs Parkway Coarsegold CA 93614 United States;X-APPLE-RADIUS=500;X-TITLE=30250 Yosemite Springs Parkway:geo:-119.76989,37.18568
END:VEVENT
BEGIN:VEVENT
DTSTART;TZID=America/Los_Angeles:20270512T190000
DTEND;TZID=America/Los_Angeles:20270512T220000
DTSTAMP:20260424T014652
CREATED:20250219T225007Z
LAST-MODIFIED:20250711T233855Z
UID:10013613-1810148400-1810159200@www.yosemitelakespark.org
SUMMARY:Karaoke at The Yosemite Grill
DESCRIPTION:Karaoke with DJ Debbie Lee \nEvery Wednesday Evening 7pm-10pm
URL:https://www.yosemitelakespark.org/ylpevent/karaoke-2/2027-05-12/
LOCATION:Clubhouse\, 30250 Yosemite Springs Parkway\, Coarsegold\, CA\, 93614\, United States
CATEGORIES:Karaoke
ATTACH;FMTTYPE=image/jpeg:https://www.yosemitelakespark.org/wp-content/uploads/2025/02/Karaoke-Calendar-Pic.jpg
GEO:37.18568;-119.76989
X-APPLE-STRUCTURED-LOCATION;VALUE=URI;X-ADDRESS=Clubhouse 30250 Yosemite Springs Parkway Coarsegold CA 93614 United States;X-APPLE-RADIUS=500;X-TITLE=30250 Yosemite Springs Parkway:geo:-119.76989,37.18568
END:VEVENT
BEGIN:VEVENT
DTSTART;TZID=America/Los_Angeles:20270519T190000
DTEND;TZID=America/Los_Angeles:20270519T220000
DTSTAMP:20260424T014652
CREATED:20250219T225007Z
LAST-MODIFIED:20250711T233855Z
UID:10013614-1810753200-1810764000@www.yosemitelakespark.org
SUMMARY:Karaoke at The Yosemite Grill
DESCRIPTION:Karaoke with DJ Debbie Lee \nEvery Wednesday Evening 7pm-10pm
URL:https://www.yosemitelakespark.org/ylpevent/karaoke-2/2027-05-19/
LOCATION:Clubhouse\, 30250 Yosemite Springs Parkway\, Coarsegold\, CA\, 93614\, United States
CATEGORIES:Karaoke
ATTACH;FMTTYPE=image/jpeg:https://www.yosemitelakespark.org/wp-content/uploads/2025/02/Karaoke-Calendar-Pic.jpg
GEO:37.18568;-119.76989
X-APPLE-STRUCTURED-LOCATION;VALUE=URI;X-ADDRESS=Clubhouse 30250 Yosemite Springs Parkway Coarsegold CA 93614 United States;X-APPLE-RADIUS=500;X-TITLE=30250 Yosemite Springs Parkway:geo:-119.76989,37.18568
END:VEVENT
BEGIN:VEVENT
DTSTART;TZID=America/Los_Angeles:20270526T190000
DTEND;TZID=America/Los_Angeles:20270526T220000
DTSTAMP:20260424T014652
CREATED:20250219T225007Z
LAST-MODIFIED:20250711T233855Z
UID:10013615-1811358000-1811368800@www.yosemitelakespark.org
SUMMARY:Karaoke at The Yosemite Grill
DESCRIPTION:Karaoke with DJ Debbie Lee \nEvery Wednesday Evening 7pm-10pm
URL:https://www.yosemitelakespark.org/ylpevent/karaoke-2/2027-05-26/
LOCATION:Clubhouse\, 30250 Yosemite Springs Parkway\, Coarsegold\, CA\, 93614\, United States
CATEGORIES:Karaoke
ATTACH;FMTTYPE=image/jpeg:https://www.yosemitelakespark.org/wp-content/uploads/2025/02/Karaoke-Calendar-Pic.jpg
GEO:37.18568;-119.76989
X-APPLE-STRUCTURED-LOCATION;VALUE=URI;X-ADDRESS=Clubhouse 30250 Yosemite Springs Parkway Coarsegold CA 93614 United States;X-APPLE-RADIUS=500;X-TITLE=30250 Yosemite Springs Parkway:geo:-119.76989,37.18568
END:VEVENT
BEGIN:VEVENT
DTSTART;TZID=America/Los_Angeles:20270602T190000
DTEND;TZID=America/Los_Angeles:20270602T220000
DTSTAMP:20260424T014652
CREATED:20250219T225007Z
LAST-MODIFIED:20250711T233855Z
UID:10013616-1811962800-1811973600@www.yosemitelakespark.org
SUMMARY:Karaoke at The Yosemite Grill
DESCRIPTION:Karaoke with DJ Debbie Lee \nEvery Wednesday Evening 7pm-10pm
URL:https://www.yosemitelakespark.org/ylpevent/karaoke-2/2027-06-02/
LOCATION:Clubhouse\, 30250 Yosemite Springs Parkway\, Coarsegold\, CA\, 93614\, United States
CATEGORIES:Karaoke
ATTACH;FMTTYPE=image/jpeg:https://www.yosemitelakespark.org/wp-content/uploads/2025/02/Karaoke-Calendar-Pic.jpg
GEO:37.18568;-119.76989
X-APPLE-STRUCTURED-LOCATION;VALUE=URI;X-ADDRESS=Clubhouse 30250 Yosemite Springs Parkway Coarsegold CA 93614 United States;X-APPLE-RADIUS=500;X-TITLE=30250 Yosemite Springs Parkway:geo:-119.76989,37.18568
END:VEVENT
BEGIN:VEVENT
DTSTART;TZID=America/Los_Angeles:20270609T190000
DTEND;TZID=America/Los_Angeles:20270609T220000
DTSTAMP:20260424T014652
CREATED:20250219T225007Z
LAST-MODIFIED:20250711T233855Z
UID:10013617-1812567600-1812578400@www.yosemitelakespark.org
SUMMARY:Karaoke at The Yosemite Grill
DESCRIPTION:Karaoke with DJ Debbie Lee \nEvery Wednesday Evening 7pm-10pm
URL:https://www.yosemitelakespark.org/ylpevent/karaoke-2/2027-06-09/
LOCATION:Clubhouse\, 30250 Yosemite Springs Parkway\, Coarsegold\, CA\, 93614\, United States
CATEGORIES:Karaoke
ATTACH;FMTTYPE=image/jpeg:https://www.yosemitelakespark.org/wp-content/uploads/2025/02/Karaoke-Calendar-Pic.jpg
GEO:37.18568;-119.76989
X-APPLE-STRUCTURED-LOCATION;VALUE=URI;X-ADDRESS=Clubhouse 30250 Yosemite Springs Parkway Coarsegold CA 93614 United States;X-APPLE-RADIUS=500;X-TITLE=30250 Yosemite Springs Parkway:geo:-119.76989,37.18568
END:VEVENT
BEGIN:VEVENT
DTSTART;TZID=America/Los_Angeles:20270616T190000
DTEND;TZID=America/Los_Angeles:20270616T220000
DTSTAMP:20260424T014652
CREATED:20250219T225007Z
LAST-MODIFIED:20250711T233855Z
UID:10013618-1813172400-1813183200@www.yosemitelakespark.org
SUMMARY:Karaoke at The Yosemite Grill
DESCRIPTION:Karaoke with DJ Debbie Lee \nEvery Wednesday Evening 7pm-10pm
URL:https://www.yosemitelakespark.org/ylpevent/karaoke-2/2027-06-16/
LOCATION:Clubhouse\, 30250 Yosemite Springs Parkway\, Coarsegold\, CA\, 93614\, United States
CATEGORIES:Karaoke
ATTACH;FMTTYPE=image/jpeg:https://www.yosemitelakespark.org/wp-content/uploads/2025/02/Karaoke-Calendar-Pic.jpg
GEO:37.18568;-119.76989
X-APPLE-STRUCTURED-LOCATION;VALUE=URI;X-ADDRESS=Clubhouse 30250 Yosemite Springs Parkway Coarsegold CA 93614 United States;X-APPLE-RADIUS=500;X-TITLE=30250 Yosemite Springs Parkway:geo:-119.76989,37.18568
END:VEVENT
BEGIN:VEVENT
DTSTART;TZID=America/Los_Angeles:20270623T190000
DTEND;TZID=America/Los_Angeles:20270623T220000
DTSTAMP:20260424T014652
CREATED:20250219T225007Z
LAST-MODIFIED:20250711T233855Z
UID:10013619-1813777200-1813788000@www.yosemitelakespark.org
SUMMARY:Karaoke at The Yosemite Grill
DESCRIPTION:Karaoke with DJ Debbie Lee \nEvery Wednesday Evening 7pm-10pm
URL:https://www.yosemitelakespark.org/ylpevent/karaoke-2/2027-06-23/
LOCATION:Clubhouse\, 30250 Yosemite Springs Parkway\, Coarsegold\, CA\, 93614\, United States
CATEGORIES:Karaoke
ATTACH;FMTTYPE=image/jpeg:https://www.yosemitelakespark.org/wp-content/uploads/2025/02/Karaoke-Calendar-Pic.jpg
GEO:37.18568;-119.76989
X-APPLE-STRUCTURED-LOCATION;VALUE=URI;X-ADDRESS=Clubhouse 30250 Yosemite Springs Parkway Coarsegold CA 93614 United States;X-APPLE-RADIUS=500;X-TITLE=30250 Yosemite Springs Parkway:geo:-119.76989,37.18568
END:VEVENT
BEGIN:VEVENT
DTSTART;TZID=America/Los_Angeles:20270630T190000
DTEND;TZID=America/Los_Angeles:20270630T220000
DTSTAMP:20260424T014652
CREATED:20250219T225007Z
LAST-MODIFIED:20250711T233855Z
UID:10013620-1814382000-1814392800@www.yosemitelakespark.org
SUMMARY:Karaoke at The Yosemite Grill
DESCRIPTION:Karaoke with DJ Debbie Lee \nEvery Wednesday Evening 7pm-10pm
URL:https://www.yosemitelakespark.org/ylpevent/karaoke-2/2027-06-30/
LOCATION:Clubhouse\, 30250 Yosemite Springs Parkway\, Coarsegold\, CA\, 93614\, United States
CATEGORIES:Karaoke
ATTACH;FMTTYPE=image/jpeg:https://www.yosemitelakespark.org/wp-content/uploads/2025/02/Karaoke-Calendar-Pic.jpg
GEO:37.18568;-119.76989
X-APPLE-STRUCTURED-LOCATION;VALUE=URI;X-ADDRESS=Clubhouse 30250 Yosemite Springs Parkway Coarsegold CA 93614 United States;X-APPLE-RADIUS=500;X-TITLE=30250 Yosemite Springs Parkway:geo:-119.76989,37.18568
END:VEVENT
BEGIN:VEVENT
DTSTART;TZID=America/Los_Angeles:20270707T190000
DTEND;TZID=America/Los_Angeles:20270707T220000
DTSTAMP:20260424T014652
CREATED:20250219T225007Z
LAST-MODIFIED:20250711T233855Z
UID:10013621-1814986800-1814997600@www.yosemitelakespark.org
SUMMARY:Karaoke at The Yosemite Grill
DESCRIPTION:Karaoke with DJ Debbie Lee \nEvery Wednesday Evening 7pm-10pm
URL:https://www.yosemitelakespark.org/ylpevent/karaoke-2/2027-07-07/
LOCATION:Clubhouse\, 30250 Yosemite Springs Parkway\, Coarsegold\, CA\, 93614\, United States
CATEGORIES:Karaoke
ATTACH;FMTTYPE=image/jpeg:https://www.yosemitelakespark.org/wp-content/uploads/2025/02/Karaoke-Calendar-Pic.jpg
GEO:37.18568;-119.76989
X-APPLE-STRUCTURED-LOCATION;VALUE=URI;X-ADDRESS=Clubhouse 30250 Yosemite Springs Parkway Coarsegold CA 93614 United States;X-APPLE-RADIUS=500;X-TITLE=30250 Yosemite Springs Parkway:geo:-119.76989,37.18568
END:VEVENT
BEGIN:VEVENT
DTSTART;TZID=America/Los_Angeles:20270714T190000
DTEND;TZID=America/Los_Angeles:20270714T220000
DTSTAMP:20260424T014652
CREATED:20250219T225007Z
LAST-MODIFIED:20250711T233855Z
UID:10013622-1815591600-1815602400@www.yosemitelakespark.org
SUMMARY:Karaoke at The Yosemite Grill
DESCRIPTION:Karaoke with DJ Debbie Lee \nEvery Wednesday Evening 7pm-10pm
URL:https://www.yosemitelakespark.org/ylpevent/karaoke-2/2027-07-14/
LOCATION:Clubhouse\, 30250 Yosemite Springs Parkway\, Coarsegold\, CA\, 93614\, United States
CATEGORIES:Karaoke
ATTACH;FMTTYPE=image/jpeg:https://www.yosemitelakespark.org/wp-content/uploads/2025/02/Karaoke-Calendar-Pic.jpg
GEO:37.18568;-119.76989
X-APPLE-STRUCTURED-LOCATION;VALUE=URI;X-ADDRESS=Clubhouse 30250 Yosemite Springs Parkway Coarsegold CA 93614 United States;X-APPLE-RADIUS=500;X-TITLE=30250 Yosemite Springs Parkway:geo:-119.76989,37.18568
END:VEVENT
BEGIN:VEVENT
DTSTART;TZID=America/Los_Angeles:20270721T190000
DTEND;TZID=America/Los_Angeles:20270721T220000
DTSTAMP:20260424T014652
CREATED:20250219T225007Z
LAST-MODIFIED:20250711T233855Z
UID:10013623-1816196400-1816207200@www.yosemitelakespark.org
SUMMARY:Karaoke at The Yosemite Grill
DESCRIPTION:Karaoke with DJ Debbie Lee \nEvery Wednesday Evening 7pm-10pm
URL:https://www.yosemitelakespark.org/ylpevent/karaoke-2/2027-07-21/
LOCATION:Clubhouse\, 30250 Yosemite Springs Parkway\, Coarsegold\, CA\, 93614\, United States
CATEGORIES:Karaoke
ATTACH;FMTTYPE=image/jpeg:https://www.yosemitelakespark.org/wp-content/uploads/2025/02/Karaoke-Calendar-Pic.jpg
GEO:37.18568;-119.76989
X-APPLE-STRUCTURED-LOCATION;VALUE=URI;X-ADDRESS=Clubhouse 30250 Yosemite Springs Parkway Coarsegold CA 93614 United States;X-APPLE-RADIUS=500;X-TITLE=30250 Yosemite Springs Parkway:geo:-119.76989,37.18568
END:VEVENT
BEGIN:VEVENT
DTSTART;TZID=America/Los_Angeles:20270728T190000
DTEND;TZID=America/Los_Angeles:20270728T220000
DTSTAMP:20260424T014652
CREATED:20250219T225007Z
LAST-MODIFIED:20250711T233855Z
UID:10013624-1816801200-1816812000@www.yosemitelakespark.org
SUMMARY:Karaoke at The Yosemite Grill
DESCRIPTION:Karaoke with DJ Debbie Lee \nEvery Wednesday Evening 7pm-10pm
URL:https://www.yosemitelakespark.org/ylpevent/karaoke-2/2027-07-28/
LOCATION:Clubhouse\, 30250 Yosemite Springs Parkway\, Coarsegold\, CA\, 93614\, United States
CATEGORIES:Karaoke
ATTACH;FMTTYPE=image/jpeg:https://www.yosemitelakespark.org/wp-content/uploads/2025/02/Karaoke-Calendar-Pic.jpg
GEO:37.18568;-119.76989
X-APPLE-STRUCTURED-LOCATION;VALUE=URI;X-ADDRESS=Clubhouse 30250 Yosemite Springs Parkway Coarsegold CA 93614 United States;X-APPLE-RADIUS=500;X-TITLE=30250 Yosemite Springs Parkway:geo:-119.76989,37.18568
END:VEVENT
BEGIN:VEVENT
DTSTART;TZID=America/Los_Angeles:20270804T190000
DTEND;TZID=America/Los_Angeles:20270804T220000
DTSTAMP:20260424T014652
CREATED:20250219T225007Z
LAST-MODIFIED:20250711T233855Z
UID:10013625-1817406000-1817416800@www.yosemitelakespark.org
SUMMARY:Karaoke at The Yosemite Grill
DESCRIPTION:Karaoke with DJ Debbie Lee \nEvery Wednesday Evening 7pm-10pm
URL:https://www.yosemitelakespark.org/ylpevent/karaoke-2/2027-08-04/
LOCATION:Clubhouse\, 30250 Yosemite Springs Parkway\, Coarsegold\, CA\, 93614\, United States
CATEGORIES:Karaoke
ATTACH;FMTTYPE=image/jpeg:https://www.yosemitelakespark.org/wp-content/uploads/2025/02/Karaoke-Calendar-Pic.jpg
GEO:37.18568;-119.76989
X-APPLE-STRUCTURED-LOCATION;VALUE=URI;X-ADDRESS=Clubhouse 30250 Yosemite Springs Parkway Coarsegold CA 93614 United States;X-APPLE-RADIUS=500;X-TITLE=30250 Yosemite Springs Parkway:geo:-119.76989,37.18568
END:VEVENT
BEGIN:VEVENT
DTSTART;TZID=America/Los_Angeles:20270811T190000
DTEND;TZID=America/Los_Angeles:20270811T220000
DTSTAMP:20260424T014652
CREATED:20250219T225007Z
LAST-MODIFIED:20250711T233855Z
UID:10013626-1818010800-1818021600@www.yosemitelakespark.org
SUMMARY:Karaoke at The Yosemite Grill
DESCRIPTION:Karaoke with DJ Debbie Lee \nEvery Wednesday Evening 7pm-10pm
URL:https://www.yosemitelakespark.org/ylpevent/karaoke-2/2027-08-11/
LOCATION:Clubhouse\, 30250 Yosemite Springs Parkway\, Coarsegold\, CA\, 93614\, United States
CATEGORIES:Karaoke
ATTACH;FMTTYPE=image/jpeg:https://www.yosemitelakespark.org/wp-content/uploads/2025/02/Karaoke-Calendar-Pic.jpg
GEO:37.18568;-119.76989
X-APPLE-STRUCTURED-LOCATION;VALUE=URI;X-ADDRESS=Clubhouse 30250 Yosemite Springs Parkway Coarsegold CA 93614 United States;X-APPLE-RADIUS=500;X-TITLE=30250 Yosemite Springs Parkway:geo:-119.76989,37.18568
END:VEVENT
BEGIN:VEVENT
DTSTART;TZID=America/Los_Angeles:20270818T190000
DTEND;TZID=America/Los_Angeles:20270818T220000
DTSTAMP:20260424T014652
CREATED:20250219T225007Z
LAST-MODIFIED:20250711T233855Z
UID:10013627-1818615600-1818626400@www.yosemitelakespark.org
SUMMARY:Karaoke at The Yosemite Grill
DESCRIPTION:Karaoke with DJ Debbie Lee \nEvery Wednesday Evening 7pm-10pm
URL:https://www.yosemitelakespark.org/ylpevent/karaoke-2/2027-08-18/
LOCATION:Clubhouse\, 30250 Yosemite Springs Parkway\, Coarsegold\, CA\, 93614\, United States
CATEGORIES:Karaoke
ATTACH;FMTTYPE=image/jpeg:https://www.yosemitelakespark.org/wp-content/uploads/2025/02/Karaoke-Calendar-Pic.jpg
GEO:37.18568;-119.76989
X-APPLE-STRUCTURED-LOCATION;VALUE=URI;X-ADDRESS=Clubhouse 30250 Yosemite Springs Parkway Coarsegold CA 93614 United States;X-APPLE-RADIUS=500;X-TITLE=30250 Yosemite Springs Parkway:geo:-119.76989,37.18568
END:VEVENT
BEGIN:VEVENT
DTSTART;TZID=America/Los_Angeles:20270825T190000
DTEND;TZID=America/Los_Angeles:20270825T220000
DTSTAMP:20260424T014652
CREATED:20250219T225007Z
LAST-MODIFIED:20250711T233855Z
UID:10013628-1819220400-1819231200@www.yosemitelakespark.org
SUMMARY:Karaoke at The Yosemite Grill
DESCRIPTION:Karaoke with DJ Debbie Lee \nEvery Wednesday Evening 7pm-10pm
URL:https://www.yosemitelakespark.org/ylpevent/karaoke-2/2027-08-25/
LOCATION:Clubhouse\, 30250 Yosemite Springs Parkway\, Coarsegold\, CA\, 93614\, United States
CATEGORIES:Karaoke
ATTACH;FMTTYPE=image/jpeg:https://www.yosemitelakespark.org/wp-content/uploads/2025/02/Karaoke-Calendar-Pic.jpg
GEO:37.18568;-119.76989
X-APPLE-STRUCTURED-LOCATION;VALUE=URI;X-ADDRESS=Clubhouse 30250 Yosemite Springs Parkway Coarsegold CA 93614 United States;X-APPLE-RADIUS=500;X-TITLE=30250 Yosemite Springs Parkway:geo:-119.76989,37.18568
END:VEVENT
BEGIN:VEVENT
DTSTART;TZID=America/Los_Angeles:20270901T190000
DTEND;TZID=America/Los_Angeles:20270901T220000
DTSTAMP:20260424T014652
CREATED:20250219T225007Z
LAST-MODIFIED:20250711T233855Z
UID:10013629-1819825200-1819836000@www.yosemitelakespark.org
SUMMARY:Karaoke at The Yosemite Grill
DESCRIPTION:Karaoke with DJ Debbie Lee \nEvery Wednesday Evening 7pm-10pm
URL:https://www.yosemitelakespark.org/ylpevent/karaoke-2/2027-09-01/
LOCATION:Clubhouse\, 30250 Yosemite Springs Parkway\, Coarsegold\, CA\, 93614\, United States
CATEGORIES:Karaoke
ATTACH;FMTTYPE=image/jpeg:https://www.yosemitelakespark.org/wp-content/uploads/2025/02/Karaoke-Calendar-Pic.jpg
GEO:37.18568;-119.76989
X-APPLE-STRUCTURED-LOCATION;VALUE=URI;X-ADDRESS=Clubhouse 30250 Yosemite Springs Parkway Coarsegold CA 93614 United States;X-APPLE-RADIUS=500;X-TITLE=30250 Yosemite Springs Parkway:geo:-119.76989,37.18568
END:VEVENT
BEGIN:VEVENT
DTSTART;TZID=America/Los_Angeles:20270908T190000
DTEND;TZID=America/Los_Angeles:20270908T220000
DTSTAMP:20260424T014652
CREATED:20250219T225007Z
LAST-MODIFIED:20250711T233855Z
UID:10013630-1820430000-1820440800@www.yosemitelakespark.org
SUMMARY:Karaoke at The Yosemite Grill
DESCRIPTION:Karaoke with DJ Debbie Lee \nEvery Wednesday Evening 7pm-10pm
URL:https://www.yosemitelakespark.org/ylpevent/karaoke-2/2027-09-08/
LOCATION:Clubhouse\, 30250 Yosemite Springs Parkway\, Coarsegold\, CA\, 93614\, United States
CATEGORIES:Karaoke
ATTACH;FMTTYPE=image/jpeg:https://www.yosemitelakespark.org/wp-content/uploads/2025/02/Karaoke-Calendar-Pic.jpg
GEO:37.18568;-119.76989
X-APPLE-STRUCTURED-LOCATION;VALUE=URI;X-ADDRESS=Clubhouse 30250 Yosemite Springs Parkway Coarsegold CA 93614 United States;X-APPLE-RADIUS=500;X-TITLE=30250 Yosemite Springs Parkway:geo:-119.76989,37.18568
END:VEVENT
BEGIN:VEVENT
DTSTART;TZID=America/Los_Angeles:20270915T190000
DTEND;TZID=America/Los_Angeles:20270915T220000
DTSTAMP:20260424T014652
CREATED:20250219T225007Z
LAST-MODIFIED:20250711T233855Z
UID:10013631-1821034800-1821045600@www.yosemitelakespark.org
SUMMARY:Karaoke at The Yosemite Grill
DESCRIPTION:Karaoke with DJ Debbie Lee \nEvery Wednesday Evening 7pm-10pm
URL:https://www.yosemitelakespark.org/ylpevent/karaoke-2/2027-09-15/
LOCATION:Clubhouse\, 30250 Yosemite Springs Parkway\, Coarsegold\, CA\, 93614\, United States
CATEGORIES:Karaoke
ATTACH;FMTTYPE=image/jpeg:https://www.yosemitelakespark.org/wp-content/uploads/2025/02/Karaoke-Calendar-Pic.jpg
GEO:37.18568;-119.76989
X-APPLE-STRUCTURED-LOCATION;VALUE=URI;X-ADDRESS=Clubhouse 30250 Yosemite Springs Parkway Coarsegold CA 93614 United States;X-APPLE-RADIUS=500;X-TITLE=30250 Yosemite Springs Parkway:geo:-119.76989,37.18568
END:VEVENT
BEGIN:VEVENT
DTSTART;TZID=America/Los_Angeles:20270922T190000
DTEND;TZID=America/Los_Angeles:20270922T220000
DTSTAMP:20260424T014652
CREATED:20250219T225007Z
LAST-MODIFIED:20250711T233855Z
UID:10013632-1821639600-1821650400@www.yosemitelakespark.org
SUMMARY:Karaoke at The Yosemite Grill
DESCRIPTION:Karaoke with DJ Debbie Lee \nEvery Wednesday Evening 7pm-10pm
URL:https://www.yosemitelakespark.org/ylpevent/karaoke-2/2027-09-22/
LOCATION:Clubhouse\, 30250 Yosemite Springs Parkway\, Coarsegold\, CA\, 93614\, United States
CATEGORIES:Karaoke
ATTACH;FMTTYPE=image/jpeg:https://www.yosemitelakespark.org/wp-content/uploads/2025/02/Karaoke-Calendar-Pic.jpg
GEO:37.18568;-119.76989
X-APPLE-STRUCTURED-LOCATION;VALUE=URI;X-ADDRESS=Clubhouse 30250 Yosemite Springs Parkway Coarsegold CA 93614 United States;X-APPLE-RADIUS=500;X-TITLE=30250 Yosemite Springs Parkway:geo:-119.76989,37.18568
END:VEVENT
BEGIN:VEVENT
DTSTART;TZID=America/Los_Angeles:20270929T190000
DTEND;TZID=America/Los_Angeles:20270929T220000
DTSTAMP:20260424T014652
CREATED:20250219T225007Z
LAST-MODIFIED:20250711T233855Z
UID:10013633-1822244400-1822255200@www.yosemitelakespark.org
SUMMARY:Karaoke at The Yosemite Grill
DESCRIPTION:Karaoke with DJ Debbie Lee \nEvery Wednesday Evening 7pm-10pm
URL:https://www.yosemitelakespark.org/ylpevent/karaoke-2/2027-09-29/
LOCATION:Clubhouse\, 30250 Yosemite Springs Parkway\, Coarsegold\, CA\, 93614\, United States
CATEGORIES:Karaoke
ATTACH;FMTTYPE=image/jpeg:https://www.yosemitelakespark.org/wp-content/uploads/2025/02/Karaoke-Calendar-Pic.jpg
GEO:37.18568;-119.76989
X-APPLE-STRUCTURED-LOCATION;VALUE=URI;X-ADDRESS=Clubhouse 30250 Yosemite Springs Parkway Coarsegold CA 93614 United States;X-APPLE-RADIUS=500;X-TITLE=30250 Yosemite Springs Parkway:geo:-119.76989,37.18568
END:VEVENT
BEGIN:VEVENT
DTSTART;TZID=America/Los_Angeles:20271006T190000
DTEND;TZID=America/Los_Angeles:20271006T220000
DTSTAMP:20260424T014652
CREATED:20250219T225007Z
LAST-MODIFIED:20250711T233855Z
UID:10013634-1822849200-1822860000@www.yosemitelakespark.org
SUMMARY:Karaoke at The Yosemite Grill
DESCRIPTION:Karaoke with DJ Debbie Lee \nEvery Wednesday Evening 7pm-10pm
URL:https://www.yosemitelakespark.org/ylpevent/karaoke-2/2027-10-06/
LOCATION:Clubhouse\, 30250 Yosemite Springs Parkway\, Coarsegold\, CA\, 93614\, United States
CATEGORIES:Karaoke
ATTACH;FMTTYPE=image/jpeg:https://www.yosemitelakespark.org/wp-content/uploads/2025/02/Karaoke-Calendar-Pic.jpg
GEO:37.18568;-119.76989
X-APPLE-STRUCTURED-LOCATION;VALUE=URI;X-ADDRESS=Clubhouse 30250 Yosemite Springs Parkway Coarsegold CA 93614 United States;X-APPLE-RADIUS=500;X-TITLE=30250 Yosemite Springs Parkway:geo:-119.76989,37.18568
END:VEVENT
BEGIN:VEVENT
DTSTART;TZID=America/Los_Angeles:20271013T190000
DTEND;TZID=America/Los_Angeles:20271013T220000
DTSTAMP:20260424T014652
CREATED:20250219T225007Z
LAST-MODIFIED:20250711T233855Z
UID:10013635-1823454000-1823464800@www.yosemitelakespark.org
SUMMARY:Karaoke at The Yosemite Grill
DESCRIPTION:Karaoke with DJ Debbie Lee \nEvery Wednesday Evening 7pm-10pm
URL:https://www.yosemitelakespark.org/ylpevent/karaoke-2/2027-10-13/
LOCATION:Clubhouse\, 30250 Yosemite Springs Parkway\, Coarsegold\, CA\, 93614\, United States
CATEGORIES:Karaoke
ATTACH;FMTTYPE=image/jpeg:https://www.yosemitelakespark.org/wp-content/uploads/2025/02/Karaoke-Calendar-Pic.jpg
GEO:37.18568;-119.76989
X-APPLE-STRUCTURED-LOCATION;VALUE=URI;X-ADDRESS=Clubhouse 30250 Yosemite Springs Parkway Coarsegold CA 93614 United States;X-APPLE-RADIUS=500;X-TITLE=30250 Yosemite Springs Parkway:geo:-119.76989,37.18568
END:VEVENT
BEGIN:VEVENT
DTSTART;TZID=America/Los_Angeles:20271020T190000
DTEND;TZID=America/Los_Angeles:20271020T220000
DTSTAMP:20260424T014652
CREATED:20250219T225007Z
LAST-MODIFIED:20250711T233855Z
UID:10013636-1824058800-1824069600@www.yosemitelakespark.org
SUMMARY:Karaoke at The Yosemite Grill
DESCRIPTION:Karaoke with DJ Debbie Lee \nEvery Wednesday Evening 7pm-10pm
URL:https://www.yosemitelakespark.org/ylpevent/karaoke-2/2027-10-20/
LOCATION:Clubhouse\, 30250 Yosemite Springs Parkway\, Coarsegold\, CA\, 93614\, United States
CATEGORIES:Karaoke
ATTACH;FMTTYPE=image/jpeg:https://www.yosemitelakespark.org/wp-content/uploads/2025/02/Karaoke-Calendar-Pic.jpg
GEO:37.18568;-119.76989
X-APPLE-STRUCTURED-LOCATION;VALUE=URI;X-ADDRESS=Clubhouse 30250 Yosemite Springs Parkway Coarsegold CA 93614 United States;X-APPLE-RADIUS=500;X-TITLE=30250 Yosemite Springs Parkway:geo:-119.76989,37.18568
END:VEVENT
BEGIN:VEVENT
DTSTART;TZID=America/Los_Angeles:20271027T190000
DTEND;TZID=America/Los_Angeles:20271027T220000
DTSTAMP:20260424T014652
CREATED:20250219T225007Z
LAST-MODIFIED:20250711T233855Z
UID:10013637-1824663600-1824674400@www.yosemitelakespark.org
SUMMARY:Karaoke at The Yosemite Grill
DESCRIPTION:Karaoke with DJ Debbie Lee \nEvery Wednesday Evening 7pm-10pm
URL:https://www.yosemitelakespark.org/ylpevent/karaoke-2/2027-10-27/
LOCATION:Clubhouse\, 30250 Yosemite Springs Parkway\, Coarsegold\, CA\, 93614\, United States
CATEGORIES:Karaoke
ATTACH;FMTTYPE=image/jpeg:https://www.yosemitelakespark.org/wp-content/uploads/2025/02/Karaoke-Calendar-Pic.jpg
GEO:37.18568;-119.76989
X-APPLE-STRUCTURED-LOCATION;VALUE=URI;X-ADDRESS=Clubhouse 30250 Yosemite Springs Parkway Coarsegold CA 93614 United States;X-APPLE-RADIUS=500;X-TITLE=30250 Yosemite Springs Parkway:geo:-119.76989,37.18568
END:VEVENT
BEGIN:VEVENT
DTSTART;TZID=America/Los_Angeles:20271103T190000
DTEND;TZID=America/Los_Angeles:20271103T220000
DTSTAMP:20260424T014652
CREATED:20250219T225007Z
LAST-MODIFIED:20250711T233855Z
UID:10013638-1825268400-1825279200@www.yosemitelakespark.org
SUMMARY:Karaoke at The Yosemite Grill
DESCRIPTION:Karaoke with DJ Debbie Lee \nEvery Wednesday Evening 7pm-10pm
URL:https://www.yosemitelakespark.org/ylpevent/karaoke-2/2027-11-03/
LOCATION:Clubhouse\, 30250 Yosemite Springs Parkway\, Coarsegold\, CA\, 93614\, United States
CATEGORIES:Karaoke
ATTACH;FMTTYPE=image/jpeg:https://www.yosemitelakespark.org/wp-content/uploads/2025/02/Karaoke-Calendar-Pic.jpg
GEO:37.18568;-119.76989
X-APPLE-STRUCTURED-LOCATION;VALUE=URI;X-ADDRESS=Clubhouse 30250 Yosemite Springs Parkway Coarsegold CA 93614 United States;X-APPLE-RADIUS=500;X-TITLE=30250 Yosemite Springs Parkway:geo:-119.76989,37.18568
END:VEVENT
END:VCALENDAR