BEGIN:VCALENDAR
VERSION:2.0
PRODID:-//Yosemite Lakes Park - ECPv6.15.20//NONSGML v1.0//EN
CALSCALE:GREGORIAN
METHOD:PUBLISH
X-ORIGINAL-URL:https://www.yosemitelakespark.org
X-WR-CALDESC:Events for Yosemite Lakes Park
REFRESH-INTERVAL;VALUE=DURATION:PT1H
X-Robots-Tag:noindex
X-PUBLISHED-TTL:PT1H
BEGIN:VTIMEZONE
TZID:America/Los_Angeles
BEGIN:DAYLIGHT
TZOFFSETFROM:-0800
TZOFFSETTO:-0700
TZNAME:PDT
DTSTART:20250309T100000
END:DAYLIGHT
BEGIN:STANDARD
TZOFFSETFROM:-0700
TZOFFSETTO:-0800
TZNAME:PST
DTSTART:20251102T090000
END:STANDARD
BEGIN:DAYLIGHT
TZOFFSETFROM:-0800
TZOFFSETTO:-0700
TZNAME:PDT
DTSTART:20260308T100000
END:DAYLIGHT
BEGIN:STANDARD
TZOFFSETFROM:-0700
TZOFFSETTO:-0800
TZNAME:PST
DTSTART:20261101T090000
END:STANDARD
BEGIN:DAYLIGHT
TZOFFSETFROM:-0800
TZOFFSETTO:-0700
TZNAME:PDT
DTSTART:20270314T100000
END:DAYLIGHT
BEGIN:STANDARD
TZOFFSETFROM:-0700
TZOFFSETTO:-0800
TZNAME:PST
DTSTART:20271107T090000
END:STANDARD
END:VTIMEZONE
BEGIN:VEVENT
DTSTART;TZID=America/Los_Angeles:20260603T190000
DTEND;TZID=America/Los_Angeles:20260603T220000
DTSTAMP:20260421T171351
CREATED:20250219T225007Z
LAST-MODIFIED:20250711T233855Z
UID:10013564-1780513200-1780524000@www.yosemitelakespark.org
SUMMARY:Karaoke at The Yosemite Grill
DESCRIPTION:Karaoke with DJ Debbie Lee \nEvery Wednesday Evening 7pm-10pm
URL:https://www.yosemitelakespark.org/ylpevent/karaoke-2/2026-06-03/
LOCATION:Clubhouse\, 30250 Yosemite Springs Parkway\, Coarsegold\, CA\, 93614\, United States
CATEGORIES:Karaoke
ATTACH;FMTTYPE=image/jpeg:https://www.yosemitelakespark.org/wp-content/uploads/2025/02/Karaoke-Calendar-Pic.jpg
GEO:37.18568;-119.76989
X-APPLE-STRUCTURED-LOCATION;VALUE=URI;X-ADDRESS=Clubhouse 30250 Yosemite Springs Parkway Coarsegold CA 93614 United States;X-APPLE-RADIUS=500;X-TITLE=30250 Yosemite Springs Parkway:geo:-119.76989,37.18568
END:VEVENT
BEGIN:VEVENT
DTSTART;TZID=America/Los_Angeles:20260610T190000
DTEND;TZID=America/Los_Angeles:20260610T220000
DTSTAMP:20260421T171351
CREATED:20250219T225007Z
LAST-MODIFIED:20250711T233855Z
UID:10013565-1781118000-1781128800@www.yosemitelakespark.org
SUMMARY:Karaoke at The Yosemite Grill
DESCRIPTION:Karaoke with DJ Debbie Lee \nEvery Wednesday Evening 7pm-10pm
URL:https://www.yosemitelakespark.org/ylpevent/karaoke-2/2026-06-10/
LOCATION:Clubhouse\, 30250 Yosemite Springs Parkway\, Coarsegold\, CA\, 93614\, United States
CATEGORIES:Karaoke
ATTACH;FMTTYPE=image/jpeg:https://www.yosemitelakespark.org/wp-content/uploads/2025/02/Karaoke-Calendar-Pic.jpg
GEO:37.18568;-119.76989
X-APPLE-STRUCTURED-LOCATION;VALUE=URI;X-ADDRESS=Clubhouse 30250 Yosemite Springs Parkway Coarsegold CA 93614 United States;X-APPLE-RADIUS=500;X-TITLE=30250 Yosemite Springs Parkway:geo:-119.76989,37.18568
END:VEVENT
BEGIN:VEVENT
DTSTART;TZID=America/Los_Angeles:20260617T190000
DTEND;TZID=America/Los_Angeles:20260617T220000
DTSTAMP:20260421T171351
CREATED:20250219T225007Z
LAST-MODIFIED:20250711T233855Z
UID:10013566-1781722800-1781733600@www.yosemitelakespark.org
SUMMARY:Karaoke at The Yosemite Grill
DESCRIPTION:Karaoke with DJ Debbie Lee \nEvery Wednesday Evening 7pm-10pm
URL:https://www.yosemitelakespark.org/ylpevent/karaoke-2/2026-06-17/
LOCATION:Clubhouse\, 30250 Yosemite Springs Parkway\, Coarsegold\, CA\, 93614\, United States
CATEGORIES:Karaoke
ATTACH;FMTTYPE=image/jpeg:https://www.yosemitelakespark.org/wp-content/uploads/2025/02/Karaoke-Calendar-Pic.jpg
GEO:37.18568;-119.76989
X-APPLE-STRUCTURED-LOCATION;VALUE=URI;X-ADDRESS=Clubhouse 30250 Yosemite Springs Parkway Coarsegold CA 93614 United States;X-APPLE-RADIUS=500;X-TITLE=30250 Yosemite Springs Parkway:geo:-119.76989,37.18568
END:VEVENT
BEGIN:VEVENT
DTSTART;TZID=America/Los_Angeles:20260624T190000
DTEND;TZID=America/Los_Angeles:20260624T220000
DTSTAMP:20260421T171351
CREATED:20250219T225007Z
LAST-MODIFIED:20250711T233855Z
UID:10013567-1782327600-1782338400@www.yosemitelakespark.org
SUMMARY:Karaoke at The Yosemite Grill
DESCRIPTION:Karaoke with DJ Debbie Lee \nEvery Wednesday Evening 7pm-10pm
URL:https://www.yosemitelakespark.org/ylpevent/karaoke-2/2026-06-24/
LOCATION:Clubhouse\, 30250 Yosemite Springs Parkway\, Coarsegold\, CA\, 93614\, United States
CATEGORIES:Karaoke
ATTACH;FMTTYPE=image/jpeg:https://www.yosemitelakespark.org/wp-content/uploads/2025/02/Karaoke-Calendar-Pic.jpg
GEO:37.18568;-119.76989
X-APPLE-STRUCTURED-LOCATION;VALUE=URI;X-ADDRESS=Clubhouse 30250 Yosemite Springs Parkway Coarsegold CA 93614 United States;X-APPLE-RADIUS=500;X-TITLE=30250 Yosemite Springs Parkway:geo:-119.76989,37.18568
END:VEVENT
END:VCALENDAR