BEGIN:VCALENDAR
VERSION:2.0
PRODID:-//Yosemite Lakes Park - ECPv6.15.20//NONSGML v1.0//EN
CALSCALE:GREGORIAN
METHOD:PUBLISH
X-WR-CALNAME:Yosemite Lakes Park
X-ORIGINAL-URL:https://www.yosemitelakespark.org
X-WR-CALDESC:Events for Yosemite Lakes Park
REFRESH-INTERVAL;VALUE=DURATION:PT1H
X-Robots-Tag:noindex
X-PUBLISHED-TTL:PT1H
BEGIN:VTIMEZONE
TZID:America/Los_Angeles
BEGIN:DAYLIGHT
TZOFFSETFROM:-0800
TZOFFSETTO:-0700
TZNAME:PDT
DTSTART:20250309T100000
END:DAYLIGHT
BEGIN:STANDARD
TZOFFSETFROM:-0700
TZOFFSETTO:-0800
TZNAME:PST
DTSTART:20251102T090000
END:STANDARD
BEGIN:DAYLIGHT
TZOFFSETFROM:-0800
TZOFFSETTO:-0700
TZNAME:PDT
DTSTART:20260308T100000
END:DAYLIGHT
BEGIN:STANDARD
TZOFFSETFROM:-0700
TZOFFSETTO:-0800
TZNAME:PST
DTSTART:20261101T090000
END:STANDARD
BEGIN:DAYLIGHT
TZOFFSETFROM:-0800
TZOFFSETTO:-0700
TZNAME:PDT
DTSTART:20270314T100000
END:DAYLIGHT
BEGIN:STANDARD
TZOFFSETFROM:-0700
TZOFFSETTO:-0800
TZNAME:PST
DTSTART:20271107T090000
END:STANDARD
END:VTIMEZONE
BEGIN:VEVENT
DTSTART;TZID=America/Los_Angeles:20260421T100000
DTEND;TZID=America/Los_Angeles:20260421T110000
DTSTAMP:20260421T085742
CREATED:20260227T182059Z
LAST-MODIFIED:20260227T232726Z
UID:10016294-1776765600-1776769200@www.yosemitelakespark.org
SUMMARY:Mat Yoga Fusion with Morgan Pozzi
DESCRIPTION:A group exercise class combining gentle\nstretching and yoga inspired poses to support\nbetter posture and core strength. \nModifications are always offered and encouraged. \nSuggested Donation $10
URL:https://www.yosemitelakespark.org/ylpevent/mat-yoga-fusion-with-morgan-pozzi/2026-04-21/
LOCATION:Clubhouse Fireside Room\, 30250 Yosemite Springs Parkway\, Coarsegold\, CA\, 93614\, United States
CATEGORIES:Activity
ATTACH;FMTTYPE=application/pdf:https://www.yosemitelakespark.org/wp-content/uploads/2026/02/Morgan-Pozzi-Yoga-Flyer.pdf
GEO:37.1944827;-119.7698338
X-APPLE-STRUCTURED-LOCATION;VALUE=URI;X-ADDRESS=Clubhouse Fireside Room 30250 Yosemite Springs Parkway Coarsegold CA 93614 United States;X-APPLE-RADIUS=500;X-TITLE=30250 Yosemite Springs Parkway:geo:-119.7698338,37.1944827
END:VEVENT
BEGIN:VEVENT
DTSTART;TZID=America/Los_Angeles:20260421T100000
DTEND;TZID=America/Los_Angeles:20260421T120000
DTSTAMP:20260421T085742
CREATED:20240813T185850Z
LAST-MODIFIED:20250711T233443Z
UID:10010790-1776765600-1776772800@www.yosemitelakespark.org
SUMMARY:Ladies Of The Lakes Librarian Work Hours
DESCRIPTION:10am – 12pm \nTuesday And Fridays In the Library
URL:https://www.yosemitelakespark.org/ylpevent/ladies-of-the-lakes-librarian-work-hours-2-2/2026-04-21/
LOCATION:Clubhouse\, 30250 Yosemite Springs Parkway\, Coarsegold\, CA\, 93614\, United States
CATEGORIES:Activity
GEO:37.18568;-119.76989
X-APPLE-STRUCTURED-LOCATION;VALUE=URI;X-ADDRESS=Clubhouse 30250 Yosemite Springs Parkway Coarsegold CA 93614 United States;X-APPLE-RADIUS=500;X-TITLE=30250 Yosemite Springs Parkway:geo:-119.76989,37.18568
END:VEVENT
BEGIN:VEVENT
DTSTART;TZID=America/Los_Angeles:20260421T130000
DTEND;TZID=America/Los_Angeles:20260421T143000
DTSTAMP:20260421T085742
CREATED:20260417T221903Z
LAST-MODIFIED:20260417T221903Z
UID:10017500-1776776400-1776781800@www.yosemitelakespark.org
SUMMARY:Governing Docs Committee
DESCRIPTION:In the library
URL:https://www.yosemitelakespark.org/ylpevent/governing-docs-committee-4/2026-04-21/
LOCATION:Clubhouse\, 30250 Yosemite Springs Parkway\, Coarsegold\, CA\, 93614\, United States
CATEGORIES:Official Meetings
GEO:37.18568;-119.76989
X-APPLE-STRUCTURED-LOCATION;VALUE=URI;X-ADDRESS=Clubhouse 30250 Yosemite Springs Parkway Coarsegold CA 93614 United States;X-APPLE-RADIUS=500;X-TITLE=30250 Yosemite Springs Parkway:geo:-119.76989,37.18568
END:VEVENT
BEGIN:VEVENT
DTSTART;TZID=America/Los_Angeles:20260421T130000
DTEND;TZID=America/Los_Angeles:20260421T160000
DTSTAMP:20260421T085742
CREATED:20260319T172201Z
LAST-MODIFIED:20260319T172201Z
UID:10016876-1776776400-1776787200@www.yosemitelakespark.org
SUMMARY:Card Game
DESCRIPTION:
URL:https://www.yosemitelakespark.org/ylpevent/card-game/2026-04-21/
LOCATION:Clubhouse Fireside Room\, 30250 Yosemite Springs Parkway\, Coarsegold\, CA\, 93614\, United States
CATEGORIES:Blue Heron-Yosemite Grill
GEO:37.1944827;-119.7698338
X-APPLE-STRUCTURED-LOCATION;VALUE=URI;X-ADDRESS=Clubhouse Fireside Room 30250 Yosemite Springs Parkway Coarsegold CA 93614 United States;X-APPLE-RADIUS=500;X-TITLE=30250 Yosemite Springs Parkway:geo:-119.7698338,37.1944827
END:VEVENT
BEGIN:VEVENT
DTSTART;TZID=America/Los_Angeles:20260421T133000
DTEND;TZID=America/Los_Angeles:20260421T143000
DTSTAMP:20260421T085742
CREATED:20260417T224020Z
LAST-MODIFIED:20260420T145953Z
UID:10016805-1776778200-1776781800@www.yosemitelakespark.org
SUMMARY:Ladies of the Lakes Book Club
DESCRIPTION:
URL:https://www.yosemitelakespark.org/ylpevent/ladies-of-the-lakes-book-club-3/
LOCATION:Library\, 30250 Yosemite Springs Parkway\, Coarsegold\, CA\, 93614\, United States
CATEGORIES:Activity
ATTACH;FMTTYPE=image/png:https://www.yosemitelakespark.org/wp-content/uploads/2026/03/549964f7-c340-a7d1-d34f-661525dabd7e.png
ORGANIZER;CN="Ladies of the Lakes":MAILTO:info@ladiesofthelakes.net
GEO:37.194519;-119.7698148
X-APPLE-STRUCTURED-LOCATION;VALUE=URI;X-ADDRESS=Library 30250 Yosemite Springs Parkway Coarsegold CA 93614 United States;X-APPLE-RADIUS=500;X-TITLE=30250 Yosemite Springs Parkway:geo:-119.7698148,37.194519
END:VEVENT
BEGIN:VEVENT
DTSTART;TZID=America/Los_Angeles:20260421T150000
DTEND;TZID=America/Los_Angeles:20260421T160000
DTSTAMP:20260421T085742
CREATED:20260417T222043Z
LAST-MODIFIED:20260417T222043Z
UID:10017510-1776783600-1776787200@www.yosemitelakespark.org
SUMMARY:Election Committee
DESCRIPTION:In the library
URL:https://www.yosemitelakespark.org/ylpevent/election-committee-5/2026-04-21/
LOCATION:Clubhouse\, 30250 Yosemite Springs Parkway\, Coarsegold\, CA\, 93614\, United States
CATEGORIES:Official Meetings
GEO:37.18568;-119.76989
X-APPLE-STRUCTURED-LOCATION;VALUE=URI;X-ADDRESS=Clubhouse 30250 Yosemite Springs Parkway Coarsegold CA 93614 United States;X-APPLE-RADIUS=500;X-TITLE=30250 Yosemite Springs Parkway:geo:-119.76989,37.18568
END:VEVENT
BEGIN:VEVENT
DTSTART;TZID=America/Los_Angeles:20260421T160000
DTEND;TZID=America/Los_Angeles:20260421T170000
DTSTAMP:20260421T085742
CREATED:20250904T233619Z
LAST-MODIFIED:20250904T233652Z
UID:10014617-1776787200-1776790800@www.yosemitelakespark.org
SUMMARY:Trails & Recreation Committee
DESCRIPTION:In the library
URL:https://www.yosemitelakespark.org/ylpevent/trails-recreation-committee-2/2026-04-21/
LOCATION:Clubhouse\, 30250 Yosemite Springs Parkway\, Coarsegold\, CA\, 93614\, United States
CATEGORIES:Official Meetings
GEO:37.18568;-119.76989
X-APPLE-STRUCTURED-LOCATION;VALUE=URI;X-ADDRESS=Clubhouse 30250 Yosemite Springs Parkway Coarsegold CA 93614 United States;X-APPLE-RADIUS=500;X-TITLE=30250 Yosemite Springs Parkway:geo:-119.76989,37.18568
END:VEVENT
END:VCALENDAR