BEGIN:VCALENDAR
VERSION:2.0
PRODID:-//Yosemite Lakes Park - ECPv6.15.20//NONSGML v1.0//EN
CALSCALE:GREGORIAN
METHOD:PUBLISH
X-ORIGINAL-URL:https://www.yosemitelakespark.org
X-WR-CALDESC:Events for Yosemite Lakes Park
REFRESH-INTERVAL;VALUE=DURATION:PT1H
X-Robots-Tag:noindex
X-PUBLISHED-TTL:PT1H
BEGIN:VTIMEZONE
TZID:America/Los_Angeles
BEGIN:DAYLIGHT
TZOFFSETFROM:-0800
TZOFFSETTO:-0700
TZNAME:PDT
DTSTART:20240310T100000
END:DAYLIGHT
BEGIN:STANDARD
TZOFFSETFROM:-0700
TZOFFSETTO:-0800
TZNAME:PST
DTSTART:20241103T090000
END:STANDARD
BEGIN:DAYLIGHT
TZOFFSETFROM:-0800
TZOFFSETTO:-0700
TZNAME:PDT
DTSTART:20250309T100000
END:DAYLIGHT
BEGIN:STANDARD
TZOFFSETFROM:-0700
TZOFFSETTO:-0800
TZNAME:PST
DTSTART:20251102T090000
END:STANDARD
BEGIN:DAYLIGHT
TZOFFSETFROM:-0800
TZOFFSETTO:-0700
TZNAME:PDT
DTSTART:20260308T100000
END:DAYLIGHT
BEGIN:STANDARD
TZOFFSETFROM:-0700
TZOFFSETTO:-0800
TZNAME:PST
DTSTART:20261101T090000
END:STANDARD
END:VTIMEZONE
BEGIN:VEVENT
DTSTART;TZID=America/Los_Angeles:20250911T133000
DTEND;TZID=America/Los_Angeles:20250911T153000
DTSTAMP:20260423T082156
CREATED:20230219T045642Z
LAST-MODIFIED:20240918T201025Z
UID:10005543-1757597400-1757604600@www.yosemitelakespark.org
SUMMARY:Crochet and Knitting Group
DESCRIPTION:This group will be composed of people who want to learn or pass on knowledge of knitting and crocheting. \nGroup will meet in the Fireside room to the right of the curtain.
URL:https://www.yosemitelakespark.org/ylpevent/crochet-and-knitting-group/2025-09-11/
LOCATION:Clubhouse\, 30250 Yosemite Springs Parkway\, Coarsegold\, CA\, 93614\, United States
CATEGORIES:Activity
GEO:37.18568;-119.76989
X-APPLE-STRUCTURED-LOCATION;VALUE=URI;X-ADDRESS=Clubhouse 30250 Yosemite Springs Parkway Coarsegold CA 93614 United States;X-APPLE-RADIUS=500;X-TITLE=30250 Yosemite Springs Parkway:geo:-119.76989,37.18568
END:VEVENT
BEGIN:VEVENT
DTSTART;TZID=America/Los_Angeles:20250911T143000
DTEND;TZID=America/Los_Angeles:20250911T163000
DTSTAMP:20260423T082156
CREATED:20230224T003712Z
LAST-MODIFIED:20230601T224410Z
UID:10003618-1757601000-1757608200@www.yosemitelakespark.org
SUMMARY:YLP Painters
DESCRIPTION:The group includes watercolorists\, acrylic\, and oil painters. Bring your supplies and current project piece and come paint with our group of friends!
URL:https://www.yosemitelakespark.org/ylpevent/painters-group/2025-09-11/
LOCATION:Clubhouse\, 30250 Yosemite Springs Parkway\, Coarsegold\, CA\, 93614\, United States
CATEGORIES:Activity
GEO:37.18568;-119.76989
X-APPLE-STRUCTURED-LOCATION;VALUE=URI;X-ADDRESS=Clubhouse 30250 Yosemite Springs Parkway Coarsegold CA 93614 United States;X-APPLE-RADIUS=500;X-TITLE=30250 Yosemite Springs Parkway:geo:-119.76989,37.18568
END:VEVENT
BEGIN:VEVENT
DTSTART;TZID=America/Los_Angeles:20250911T173000
DTEND;TZID=America/Los_Angeles:20250911T193000
DTSTAMP:20260423T082156
CREATED:20250819T192808Z
LAST-MODIFIED:20250827T181613Z
UID:10014513-1757611800-1757619000@www.yosemitelakespark.org
SUMMARY:Community Engagement Forum
DESCRIPTION:Hello Yosemite Lakes Owners\,\nWe’re excited to invite you to our upcoming RealManage Elevated Onsite Community Engagement Forum – Building Trust\, Fostering Understanding.\nAt this special session\, the RealManage Elevated Onsite Leadership Team — Kirk Kowieski\, Charles Parsons\, and Beth Hatch — is eager to hear directly from you. We want to understand your concerns\, questions\, and ideas\, and we will do our best to address them during the Forum. This is your opportunity to have an open dialogue with the team that manages your community and provide valuable input and feedback.\nDate & Time: Thursday\, September 11\, 2025 · 5:30 – 7:30 p.m.\nLocation: YLOA Clubhouse\nSpace is limited to 50 participants\, and seats will be reserved on a first-come\, first-served basis. Please RSVP by replying to this email with your full name\, address or lot number\, and email address. You will receive confirmation of your RSVP.\nWe look forward to an informative and interactive evening together. Light snacks and beverages will be provided.\nThank you\,\nKirk Kowieski\nCharles Parsons\nBeth Hatch
URL:https://www.yosemitelakespark.org/ylpevent/community-engagement-forum/
LOCATION:Clubhouse Fireside Room\, 30250 Yosemite Springs Parkway\, Coarsegold\, CA\, 93614\, United States
CATEGORIES:Special
GEO:37.1944827;-119.7698338
X-APPLE-STRUCTURED-LOCATION;VALUE=URI;X-ADDRESS=Clubhouse Fireside Room 30250 Yosemite Springs Parkway Coarsegold CA 93614 United States;X-APPLE-RADIUS=500;X-TITLE=30250 Yosemite Springs Parkway:geo:-119.7698338,37.1944827
END:VEVENT
BEGIN:VEVENT
DTSTART;TZID=America/Los_Angeles:20250911T183000
DTEND;TZID=America/Los_Angeles:20250911T193000
DTSTAMP:20260423T082156
CREATED:20250905T175955Z
LAST-MODIFIED:20250905T175955Z
UID:10014657-1757615400-1757619000@www.yosemitelakespark.org
SUMMARY:Yosemite Little League Board Meeting
DESCRIPTION:Held in Library
URL:https://www.yosemitelakespark.org/ylpevent/yosemite-little-league-board-meeting/
LOCATION:Library\, 30250 Yosemite Springs Parkway\, Coarsegold\, CA\, 93614\, United States
GEO:37.194519;-119.7698148
X-APPLE-STRUCTURED-LOCATION;VALUE=URI;X-ADDRESS=Library 30250 Yosemite Springs Parkway Coarsegold CA 93614 United States;X-APPLE-RADIUS=500;X-TITLE=30250 Yosemite Springs Parkway:geo:-119.7698148,37.194519
END:VEVENT
END:VCALENDAR