BEGIN:VCALENDAR
VERSION:2.0
PRODID:-//Yosemite Lakes Park - ECPv6.15.20//NONSGML v1.0//EN
CALSCALE:GREGORIAN
METHOD:PUBLISH
X-WR-CALNAME:Yosemite Lakes Park
X-ORIGINAL-URL:https://www.yosemitelakespark.org
X-WR-CALDESC:Events for Yosemite Lakes Park
REFRESH-INTERVAL;VALUE=DURATION:PT1H
X-Robots-Tag:noindex
X-PUBLISHED-TTL:PT1H
BEGIN:VTIMEZONE
TZID:America/Los_Angeles
BEGIN:DAYLIGHT
TZOFFSETFROM:-0800
TZOFFSETTO:-0700
TZNAME:PDT
DTSTART:20240310T100000
END:DAYLIGHT
BEGIN:STANDARD
TZOFFSETFROM:-0700
TZOFFSETTO:-0800
TZNAME:PST
DTSTART:20241103T090000
END:STANDARD
BEGIN:DAYLIGHT
TZOFFSETFROM:-0800
TZOFFSETTO:-0700
TZNAME:PDT
DTSTART:20250309T100000
END:DAYLIGHT
BEGIN:STANDARD
TZOFFSETFROM:-0700
TZOFFSETTO:-0800
TZNAME:PST
DTSTART:20251102T090000
END:STANDARD
BEGIN:DAYLIGHT
TZOFFSETFROM:-0800
TZOFFSETTO:-0700
TZNAME:PDT
DTSTART:20260308T100000
END:DAYLIGHT
BEGIN:STANDARD
TZOFFSETFROM:-0700
TZOFFSETTO:-0800
TZNAME:PST
DTSTART:20261101T090000
END:STANDARD
END:VTIMEZONE
BEGIN:VEVENT
DTSTART;TZID=America/Los_Angeles:20250801T100000
DTEND;TZID=America/Los_Angeles:20250801T120000
DTSTAMP:20260421T170637
CREATED:20240813T185850Z
LAST-MODIFIED:20250711T233443Z
UID:10009290-1754042400-1754049600@www.yosemitelakespark.org
SUMMARY:Ladies Of The Lakes Librarian Work Hours
DESCRIPTION:10am – 12pm \nTuesday And Fridays In the Library
URL:https://www.yosemitelakespark.org/ylpevent/ladies-of-the-lakes-librarian-work-hours-2-2/2025-08-01/
LOCATION:Clubhouse\, 30250 Yosemite Springs Parkway\, Coarsegold\, CA\, 93614\, United States
CATEGORIES:Activity
GEO:37.18568;-119.76989
X-APPLE-STRUCTURED-LOCATION;VALUE=URI;X-ADDRESS=Clubhouse 30250 Yosemite Springs Parkway Coarsegold CA 93614 United States;X-APPLE-RADIUS=500;X-TITLE=30250 Yosemite Springs Parkway:geo:-119.76989,37.18568
END:VEVENT
BEGIN:VEVENT
DTSTART;TZID=America/Los_Angeles:20250801T190000
DTEND;TZID=America/Los_Angeles:20250801T220000
DTSTAMP:20260421T170637
CREATED:20250529T023706Z
LAST-MODIFIED:20250711T234256Z
UID:10013847-1754074800-1754085600@www.yosemitelakespark.org
SUMMARY:YLP Live! Presents: "Dave Henderson"
DESCRIPTION:Let’s Rock The Night Away with Dave Henderson! Bring Your Chairs & Blankets To Enjoy This Lakeside Concert. \nYosemite Grill Regular Dinner Service Will Be Provided 5pm -9pm \nLimited Deck & Restaurant Seating Available. All Tables Are First Come\, First Served.
URL:https://www.yosemitelakespark.org/ylpevent/ylp-live-presents-dave-henderson-2/
LOCATION:Clubhouse\, 30250 Yosemite Springs Parkway\, Coarsegold\, CA\, 93614\, United States
ATTACH;FMTTYPE=image/png:https://www.yosemitelakespark.org/wp-content/uploads/2025/05/YLP-Live-Band-Line-Up-2025-Flyer-2.png
GEO:37.18568;-119.76989
X-APPLE-STRUCTURED-LOCATION;VALUE=URI;X-ADDRESS=Clubhouse 30250 Yosemite Springs Parkway Coarsegold CA 93614 United States;X-APPLE-RADIUS=500;X-TITLE=30250 Yosemite Springs Parkway:geo:-119.76989,37.18568
END:VEVENT
END:VCALENDAR